Workbook
Name Excel_BuiltIn_Print_Area_1: #REF!
Name Excel_BuiltIn_Print_Titles_26: #REF!,#REF!
Name GDP: [1]Háttéradatok!$B$22:$AG$28
Name gdpp: [2]Háttéradatok!$B$22:$AG$28
Name intézmény: [1]Háttéradatok!$C$29:$AG$32
Name más: #REF!,#REF!
Name nep: [1]Háttéradatok!$C$29:$AG$32
Name nép: [1]Háttéradatok!$C$29:$AG$32
Name Tűzoltóság: [3]Háttéradatok!$C$29:$AG$32
Name xxx: [1]Háttéradatok!$C$29:$AG$32
Name xxxxxx: [1]Háttéradatok!$C$29:$AG$32

Sheet I. terv 2019 (2)
A1: Költség elem | C1: 2019 | D1: terv | O1: A össz | P1: B össz | Q1: C össz | R1: tény | S1: tény | AE1: A össz | AF1: B össz | AG1: C össz
C2: jan | D2: febr | E2: márc | F2: ápr | G2: máj | H2: jún | I2: júl | J2: aug | K2: szep | L2: okt | M2: nov | N2: dec | O2: teljes | P2: min | Q2: min | S2: jan | T2: febr | U2: márc | V2: ápr | W2: máj | X2: jún | Y2: júl | Z2: aug | AA2: szep | AB2: okt | AC2: nov | AD2: dec | AE2: teljes | AF2: min | AG2: min
A3: Javítások, nem tervezett | Q3: =SUM(Q4:Q26) -> 4240
A4: Csalogány | O4: =SUM(C4:N4) -> 0 | P4: =SUM(C4:N4) -> 0 | Q4: =SUM(C4:N4) -> 0 | AE4: =SUM(S4:AD4) -> 0 | AF4: =SUM(S4:AD4) -> 0 | AG4: =SUM(S4:AD4) -> 0
A5: Rumini Mária tér | O5: =SUM(C5:N5) -> 0 | P5: =SUM(C5:N5) -> 0 | Q5: =SUM(C5:N5) -> 0 | AE5: =SUM(S5:AD5) -> 0 | AF5: =SUM(S5:AD5) -> 0 | AG5: =SUM(S5:AD5) -> 0
A6: Farnklin | O6: =SUM(C6:N6) -> 0 | P6: =SUM(C6:N6) -> 0 | Q6: =SUM(C6:N6) -> 0 | AE6: =SUM(S6:AD6) -> 0 | AF6: =SUM(S6:AD6) -> 0 | AG6: =SUM(S6:AD6) -> 0
A7: Donáti | O7: =SUM(C7:N7) -> 0 | P7: =SUM(C7:N7) -> 0 | Q7: =SUM(C7:N7) -> 0 | AE7: =SUM(S7:AD7) -> 0 | AF7: =SUM(S7:AD7) -> 0 | AG7: =SUM(S7:AD7) -> 0
A8: Mátyás Király | O8: =SUM(C8:N8) -> 0 | P8: =SUM(C8:N8) -> 0 | Q8: =SUM(C8:N8) -> 0 | AE8: =SUM(S8:AD8) -> 0 | AF8: =SUM(S8:AD8) -> 0 | AG8: =SUM(S8:AD8) -> 0
A9: PomPom Naphegy | O9: =SUM(C9:N9) -> 0 | P9: =SUM(C9:N9) -> 0 | Q9: =SUM(C9:N9) -> 0 | AE9: =SUM(S9:AD9) -> 0 | AF9: =SUM(S9:AD9) -> 0 | AG9: =SUM(S9:AD9) -> 0
A10: Vuk Bérc | O10: =SUM(C10:N10) -> 0 | P10: =SUM(C10:N10) -> 0 | Q10: =SUM(C10:N10) -> 0 | AE10: =SUM(S10:AD10) -> 0 | AF10: =SUM(S10:AD10) -> 0 | AG10: =SUM(S10:AD10) -> 0
A11: Aladár | O11: =SUM(C11:N11) -> 0 | P11: =SUM(C11:N11) -> 0 | Q11: =SUM(C11:N11) -> 0 | AE11: =SUM(S11:AD11) -> 0 | AF11: =SUM(S11:AD11) -> 0 | AG11: =SUM(S11:AD11) -> 0
A12: Általános javítás (idegen) | C12: 200 | E12: 200 | G12: 200 | I12: 200 | K12: 200 | M12: 200 | O12: =SUM(C12:N12) -> 1200 | P12: =SUM(C12:N12) -> 1200 | Q12: =SUM(C12:N12) -> 1200 | AE12: =SUM(S12:AD12) -> 0 | AF12: =SUM(S12:AD12) -> 0 | AG12: =SUM(S12:AD12) -> 0
A13: Általános javítás (saját) | C13: 50 | F13: 50 | I13: 50 | L13: 50 | O13: =SUM(C13:N13) -> 200 | P13: =SUM(C13:N13) -> 200 | Q13: =SUM(C13:N13) -> 200 | AE13: =SUM(S13:AD13) -> 0 | AF13: =SUM(S13:AD13) -> 0 | AG13: =SUM(S13:AD13) -> 0
Q14: =SUM(C14:N14) -> 0 | AG14: =SUM(S14:AD14) -> 0
A15: Játszóterek takarítása, szemét le 8 db | Q15: =SUM(C15:N15) -> 0 | AE15: =SUM(S15:AD15) -> 0 | AF15: =SUM(S15:AD15) -> 0 | AG15: =SUM(S15:AD15) -> 0
A16: (FKF Zrt, szemetes zsákok, stb.) | C16: 70 | D16: 70 | E16: 70 | F16: 70 | G16: 70 | H16: 70 | I16: 70 | J16: 70 | K16: 70 | L16: 70 | M16: 70 | N16: 70 | O16: =SUM(C16:N16) -> 840 | P16: =SUM(C16:N16) -> 840 | Q16: =SUM(C16:N16) -> 840
A17: vásárolt szolgáltatás (lomb-, hóeltakarítéás, csúszás ment) | C17: 300 | D17: 300 | M17: 300 | N17: 300 | O17: =SUM(C17:N17) -> 1200 | P17: =SUM(C17:N17) -> 1200 | Q17: =SUM(C17:N17) -> 1200
A19: Zöld területek fenntartása | E19: 100 | F19: 100 | G19: 100 | H19: 100 | I19: 100 | J19: 100 | K19: 100 | L19: 100 | O19: =SUM(C19:N19) -> 800 | P19: =SUM(C19:N19) -> 800 | Q19: =SUM(C19:N19) -> 800 | AE19: =SUM(S19:AD19) -> 0 | AF19: =SUM(S19:AD19) -> 0 | AG19: =SUM(S19:AD19) -> 0
A20: öntözések
A21: füvesítés, fák, bokrok cserjék újítása (Vuk)
A22: permetezés
A23: környezetterhelési díj
A24: közművek
A25: száradások, viharok okzta károk elhárítása
A26: zöld hulladék elszállítás (zsák)
A27: Jogszerű működés feltételeinek biztosítása | Q27: =SUM(Q28:Q33) -> 907.5
A28: esedékes szabványossági (megfelelőségi) vizsg | O28: =B28 -> 0 | P28: =B28 -> 0 | Q28: =B28 -> 0 | AE28: =R28 -> 0 | AF28: =R28 -> 0 | AG28: =R28 -> 0
A29: éves felülvizsgálatok, javítások 8db | B29: 100 | O29: =B29 -> 100 | P29: =B29 -> 100 | Q29: =B29 -> 100 | AE29: =R29 -> 0 | AF29: =S29 -> 0 | AG29: =T29 -> 0
A30: karbantartási kötelezettségek 8 db | O30: =B30 -> 0 | P30: =C30 -> 0 | Q30: =D30 -> 0 | AE30: =R30 -> 0 | AF30: =S30 -> 0 | AG30: =T30 -> 0
A31: Parkok nyitás zárása | B31: 60 | C31: 60 | D31: 60 | E31: 60 | F31: 60 | G31: 60 | H31: 60 | I31: 60 | J31: 60 | K31: 60 | L31: 60 | M31: 60 | N31: 60 | O31: =SUM(C31:N31) -> 720 | P31: =SUM(C31:N31) -> 720 | Q31: =SUM(C31:N31) -> 720 | AE31: =SUM(S31:AD31) -> 0 | AF31: =SUM(S31:AD31) -> 0 | AG31: =SUM(S31:AD31) -> 0
A32: FESZ EÜ vizsgálat | E32: 12.5 | J32: 25 | O32: =SUM(D32:N32) -> 37.5 | P32: =SUM(C32:N32) -> 37.5 | Q32: =SUM(C32:N32) -> 37.5 | AE32: =SUM(T32:AD32) -> 0 | AF32: =SUM(S32:AD32) -> 0 | AG32: =SUM(S32:AD32) -> 0
A33: védőruházat védőfelszerelés | F33: 50 | O33: =SUM(D33:N33) -> 50 | P33: =SUM(C33:N33) -> 50 | Q33: =SUM(C33:N33) -> 50 | AE33: =SUM(T33:AD33) -> 0 | AF33: =SUM(S33:AD33) -> 0 | AG33: =SUM(S33:AD33) -> 0
A34: Alkalmi ráfordítások, havaria | Q34: =SUM(Q36:Q43) -> 2370
A35: Játszóterek egyszeri teljes körű szbv. Jav. 2019 | O35: ='2019 játszóterek'!E157/1000 -> 34980 | P35: ='2019 játszóterek'!F157/1000 -> 26635 | Q35: ='2019 játszóterek'!G157/1000 -> 9035 | AE35: ='[4]elvégzendő munkálatok 2017'!U161/1000 -> 0 | AF35: ='[4]elvégzendő munkálatok 2017'!V161/1000 -> 0 | AG35: ='[4]elvégzendő munkálatok 2017'!W161/1000 -> 0
A36: Tájékoztató táblák, felíratok | B36: 100 | O36: =B36 -> 100 | P36: =B36 -> 100 | Q36: =B36 -> 100 | AE36: =R36 -> 0 | AF36: =R36 -> 0 | AG36: =R36 -> 0
O37: =B37 -> 0 | P37: =B37 -> 0 | Q37: =B37 -> 0 | AE37: =R37 -> 0 | AF37: =R37 -> 0 | AG37: =R37 -> 0
A38: Honlap karbantartás, megújítás | B38: 100 | O38: =B38 -> 100 | P38: =B38 -> 100 | Q38: =B38 -> 100 | AE38: =R38 -> 0 | AF38: =R38 -> 0 | AG38: =R38 -> 0
A39: Havaria | C39: 300 | G39: 300 | K39: 300 | O39: =SUM(C39:N39) -> 900 | P39: =SUM(C39:N39)/2 -> 450 | Q39: =SUM(C39:N39)/2 -> 450 | AE39: =SUM(S39:AD39) -> 0 | AF39: =SUM(S39:AD39)/2 -> 0 | AG39: =SUM(S39:AD39) -> 0
A40: infromatikai | C40: 20 | F40: 20 | I40: 20 | L40: 20 | O40: =SUM(C40:N40) -> 80 | P40: =SUM(C40:N40) -> 80 | Q40: =SUM(C40:N40) -> 80 | AE40: =SUM(S40:AD40) -> 0 | AF40: =SUM(S40:AD40) -> 0 | AG40: =SUM(S40:AD40) -> 0
A41: cég működés járulékos(iroda, védőital,fénym.stb.) | C41: 20 | F41: 20 | I41: 20 | L41: 20 | O41: =SUM(C41:N41) -> 80 | P41: =SUM(C41:N41) -> 80 | Q41: =SUM(C41:N41) -> 80 | AE41: =SUM(S41:AD41) -> 0 | AF41: =SUM(S41:AD41) -> 0 | AG41: =SUM(S41:AD41) -> 0
...

Sheet I. terv 2019
A1: Költség elem | C1: 2019 | D1: terv | O1: A össz | P1: B össz | Q1: C össz | R1: tény | S1: tény | AE1: A össz | AF1: B össz | AG1: C össz
C2: jan | D2: febr | E2: márc | F2: ápr | G2: máj | H2: jún | I2: júl | J2: aug | K2: szep | L2: okt | M2: nov | N2: dec | O2: teljes | P2: min | Q2: min | S2: jan | T2: febr | U2: márc | V2: ápr | W2: máj | X2: jún | Y2: júl | Z2: aug | AA2: szep | AB2: okt | AC2: nov | AD2: dec | AE2: teljes | AF2: min | AG2: min
A3: Javítások
A4: Csalogány | O4: =SUM(C4:N4) -> 0 | P4: =SUM(C4:N4) -> 0 | Q4: =SUM(C4:N4) -> 0 | AE4: =SUM(S4:AD4) -> 0 | AF4: =SUM(S4:AD4) -> 0 | AG4: =SUM(S4:AD4) -> 0
A5: Rumini Mária tér | O5: =SUM(C5:N5) -> 0 | P5: =SUM(C5:N5) -> 0 | Q5: =SUM(C5:N5) -> 0 | AE5: =SUM(S5:AD5) -> 0 | AF5: =SUM(S5:AD5) -> 0 | AG5: =SUM(S5:AD5) -> 0
A6: Farnklin | O6: =SUM(C6:N6) -> 0 | P6: =SUM(C6:N6) -> 0 | Q6: =SUM(C6:N6) -> 0 | AE6: =SUM(S6:AD6) -> 0 | AF6: =SUM(S6:AD6) -> 0 | AG6: =SUM(S6:AD6) -> 0
A7: Donáti | O7: =SUM(C7:N7) -> 0 | P7: =SUM(C7:N7) -> 0 | Q7: =SUM(C7:N7) -> 0 | AE7: =SUM(S7:AD7) -> 0 | AF7: =SUM(S7:AD7) -> 0 | AG7: =SUM(S7:AD7) -> 0
A8: Mátyás Király | O8: =SUM(C8:N8) -> 0 | P8: =SUM(C8:N8) -> 0 | Q8: =SUM(C8:N8) -> 0 | AE8: =SUM(S8:AD8) -> 0 | AF8: =SUM(S8:AD8) -> 0 | AG8: =SUM(S8:AD8) -> 0
A9: PomPom Naphegy | O9: =SUM(C9:N9) -> 0 | P9: =SUM(C9:N9) -> 0 | Q9: =SUM(C9:N9) -> 0 | AE9: =SUM(S9:AD9) -> 0 | AF9: =SUM(S9:AD9) -> 0 | AG9: =SUM(S9:AD9) -> 0
A10: Vuk Bérc | O10: =SUM(C10:N10) -> 0 | P10: =SUM(C10:N10) -> 0 | Q10: =SUM(C10:N10) -> 0 | AE10: =SUM(S10:AD10) -> 0 | AF10: =SUM(S10:AD10) -> 0 | AG10: =SUM(S10:AD10) -> 0
A11: Aladár | O11: =SUM(C11:N11) -> 0 | P11: =SUM(C11:N11) -> 0 | Q11: =SUM(C11:N11) -> 0 | AE11: =SUM(S11:AD11) -> 0 | AF11: =SUM(S11:AD11) -> 0 | AG11: =SUM(S11:AD11) -> 0
A12: Általános javítás (idegen) | C12: 200 | E12: 200 | G12: 200 | I12: 200 | K12: 200 | M12: 200 | O12: =SUM(C12:N12) -> 1200 | P12: =SUM(C12:N12) -> 1200 | Q12: =SUM(C12:N12) -> 1200 | AE12: =SUM(S12:AD12) -> 0 | AF12: =SUM(S12:AD12) -> 0 | AG12: =SUM(S12:AD12) -> 0
A13: Általános javítás (saját) | C13: 50 | F13: 50 | I13: 50 | L13: 50 | O13: =SUM(C13:N13) -> 200 | P13: =SUM(C13:N13) -> 200 | Q13: =SUM(C13:N13) -> 200 | AE13: =SUM(S13:AD13) -> 0 | AF13: =SUM(S13:AD13) -> 0 | AG13: =SUM(S13:AD13) -> 0
Q14: =SUM(C14:N14) -> 0 | AG14: =SUM(S14:AD14) -> 0
A15: Játszóterek takarítása, szemét le 8 db | Q15: =SUM(C15:N15) -> 0 | AE15: =SUM(S15:AD15) -> 0 | AF15: =SUM(S15:AD15) -> 0 | AG15: =SUM(S15:AD15) -> 0
A16: (FKF Zrt, szemetes zsákok, stb.) | C16: 70 | D16: 70 | E16: 70 | F16: 70 | G16: 70 | H16: 70 | I16: 70 | J16: 70 | K16: 70 | L16: 70 | M16: 70 | N16: 70 | O16: =SUM(C16:N16) -> 840 | P16: =SUM(C16:N16) -> 840 | Q16: =SUM(C16:N16) -> 840
A17: vásárolt szolgáltatás (lomb-, hóeltakarítéás, csúszás ment) | C17: 300 | D17: 300 | M17: 300 | N17: 300 | O17: =SUM(C17:N17) -> 1200 | P17: =SUM(C17:N17) -> 1200 | Q17: =SUM(C17:N17) -> 1200
A19: Zöld területek fenntartása | E19: 100 | F19: 100 | G19: 100 | H19: 100 | I19: 100 | J19: 100 | K19: 100 | L19: 100 | O19: =SUM(C19:N19) -> 800 | P19: =SUM(C19:N19) -> 800 | Q19: =SUM(C19:N19) -> 800 | AE19: =SUM(S19:AD19) -> 0 | AF19: =SUM(S19:AD19) -> 0 | AG19: =SUM(S19:AD19) -> 0
A20: öntözések
A21: füvesítés, fák, bokrok cserjék újítása (Vuk)
A22: permetezés
A23: környezetterhelési díj
A24: közművek
A25: száradások, viharok okzta károk elhárítása
A26: zöld hulladék elszállítás (zsák)
A27: Jogszerű működés feltételeihez
A28: esedékes szabványossági (megfelelőségi) vizsg | O28: =B28 -> 0 | P28: =B28 -> 0 | Q28: =B28 -> 0 | AE28: =R28 -> 0 | AF28: =R28 -> 0 | AG28: =R28 -> 0
A29: éves felülvizsgálatok, javítások 8db | B29: 100 | O29: =B29 -> 100 | P29: =B29 -> 100 | Q29: =B29 -> 100 | AE29: =R29 -> 0 | AF29: =S29 -> 0 | AG29: =T29 -> 0
A30: karbantartási kötelezettségek 8 db | O30: =B30 -> 0 | P30: =C30 -> 0 | Q30: =D30 -> 0 | AE30: =R30 -> 0 | AF30: =S30 -> 0 | AG30: =T30 -> 0
A31: Parkok nyitás zárása | B31: 60 | C31: 60 | D31: 60 | E31: 60 | F31: 60 | G31: 60 | H31: 60 | I31: 60 | J31: 60 | K31: 60 | L31: 60 | M31: 60 | N31: 60 | O31: =SUM(C31:N31) -> 720 | P31: =SUM(C31:N31) -> 720 | Q31: =SUM(C31:N31) -> 720 | AE31: =SUM(S31:AD31) -> 0 | AF31: =SUM(S31:AD31) -> 0 | AG31: =SUM(S31:AD31) -> 0
A32: FESZ EÜ vizsgálat | E32: 12.5 | J32: 25 | O32: =SUM(D32:N32) -> 37.5 | P32: =SUM(C32:N32) -> 37.5 | Q32: =SUM(C32:N32) -> 37.5 | AE32: =SUM(T32:AD32) -> 0 | AF32: =SUM(S32:AD32) -> 0 | AG32: =SUM(S32:AD32) -> 0
A33: védőruházat védőfelszerelés | F33: 50 | O33: =SUM(D33:N33) -> 50 | P33: =SUM(C33:N33) -> 50 | Q33: =SUM(C33:N33) -> 50 | AE33: =SUM(T33:AD33) -> 0 | AF33: =SUM(S33:AD33) -> 0 | AG33: =SUM(S33:AD33) -> 0
A34: Alkalmi ráfordítások
A35: Játszóterek egyszeri teljes körű szbv. Jav. 2019 | O35: ='2019 játszóterek'!E157/1000 -> 34980 | P35: ='2019 játszóterek'!F157/1000 -> 26635 | Q35: ='2019 játszóterek'!G157/1000 -> 9035 | AE35: ='[4]elvégzendő munkálatok 2017'!U161/1000 -> 0 | AF35: ='[4]elvégzendő munkálatok 2017'!V161/1000 -> 0 | AG35: ='[4]elvégzendő munkálatok 2017'!W161/1000 -> 0
A36: Tájékoztató táblák, felíratok | B36: 100 | O36: =B36 -> 100 | P36: =B36 -> 100 | Q36: =B36 -> 100 | AE36: =R36 -> 0 | AF36: =R36 -> 0 | AG36: =R36 -> 0
O37: =B37 -> 0 | P37: =B37 -> 0 | Q37: =B37 -> 0 | AE37: =R37 -> 0 | AF37: =R37 -> 0 | AG37: =R37 -> 0
A38: Honlap karbantartás, megújítás | B38: 100 | O38: =B38 -> 100 | P38: =B38 -> 100 | Q38: =B38 -> 100 | AE38: =R38 -> 0 | AF38: =R38 -> 0 | AG38: =R38 -> 0
A39: Havaria | C39: 300 | G39: 300 | K39: 300 | O39: =SUM(C39:N39) -> 900 | P39: =SUM(C39:N39)/2 -> 450 | Q39: =SUM(C39:N39)/2 -> 450 | AE39: =SUM(S39:AD39) -> 0 | AF39: =SUM(S39:AD39)/2 -> 0 | AG39: =SUM(S39:AD39) -> 0
A40: infromatikai | C40: 20 | F40: 20 | I40: 20 | L40: 20 | O40: =SUM(C40:N40) -> 80 | P40: =SUM(C40:N40) -> 80 | Q40: =SUM(C40:N40) -> 80 | AE40: =SUM(S40:AD40) -> 0 | AF40: =SUM(S40:AD40) -> 0 | AG40: =SUM(S40:AD40) -> 0
A41: cég működés járulékos(iroda, védőital,fénym.stb.) | C41: 20 | F41: 20 | I41: 20 | L41: 20 | O41: =SUM(C41:N41) -> 80 | P41: =SUM(C41:N41) -> 80 | Q41: =SUM(C41:N41) -> 80 | AE41: =SUM(S41:AD41) -> 0 | AF41: =SUM(S41:AD41) -> 0 | AG41: =SUM(S41:AD41) -> 0
...

Sheet 2019 játszóterek
A1: Eszköz sorszáma | B1: Játszóeszközök | C1: Tervezett feladatok | D1: (1,2,3) | E1: A Bruttó (anyag és munka) | F1: B Bruttó (anyag és munka) | G1: C Bruttó (anyag és munka) | H1: C Bruttó (saját munka)
A2: Játszótér neve: VUK | C2: Címe: 1016 Budapest, Szirtes út 22.-Bérc u. 25. | D2: Prioritás | E2: teljes (esztétiaki is) | F2: fontos (indokolt) | G2: minden képpen (elengedhetetlen) | H2: saját karbant.
A3: 1. | B3: Mászóvár csúszdával "Játszóváros" | C3: Általános karbantartás, íves feljárón a faelemek cseréje | D3: 1 | E3: 200000 | F3: 200000 | G3: 200000
A4: 2. | B4: Rókavár "Karak barlangja"
A5: 3. | B5: Alagútcsúszda 1.
A6: 4. | B6: Alagútcsúszda 2.
A7: 5. | B7: Homokozó és csúszda "Manóház" | C7: Homokcsere 12 m3 | D7: 1 | E7: 500000 | F7: 300000 | G7: 150000
A8: 6. | B8: Duplarugós mérleghinta | C8: Csavarmeghúzás, évente előforduló rugótörés miatt csere tervezése 2019-re is | D8: 1 | E8: 120000 | F8: 120000 | G8: 120000
A9: 7. | B9: Rugós játék - motor | C9: Csavarmeghúzás, rögzítés | D9: 1 | H9: 25000
A10: 8. | B10: Rugós lépegető | C10: Csavarmeghúzás, rögzítés | D10: 1 | H10: 25000
A11: 9. | B11: Kötélpálya | C11: Átalakítás a fa védelme érdekében, kötélzet védőburkolat csere | E11: 1500000 | F11: 1500000
A12: 10. | B12: Függőhíd "Kötélhíd" | C12: Elemek rögzítése | H12: 25000
A13: 12. | B13: Babaház előtérrel | C13: Általános karbantartás korhadt faelemek cseréje, tetőfedés javítása | H13: 75000
A14: 13. | B14: Hintaállvány két ülőkével | C14: Hintalánc és ülőkék cseréje (kopott ülőkék) | D14: 1 | E14: 150000 | F14: 150000 | G14: 150000
A15: 14. | B15: Hintaállvány két speciális bölcsőülőkével | C15: Csavarmeghúzás, rögzítés | D15: 1 | H15: 25000
A16: 15. | B16: Új fészekhinta | C16: Telepítése öntött ütéscsillapító gumiburkolattal | D16: 1 | E16: 2500000 | F16: 2500000
A17: 16. | C17: Ivókút karbantartása: nyitás-zárás, tisztítás, dugulás elhárítás. Automata öntözőrendszer beállítása, beüzemelése | D17: 1 | E17: 350000 | F17: 150000 | G17: 100000 | H17: 50000
A18: 17. | C18: Mulcsfeltöltés, kétregpótlás 150 l | D18: 1 | E18: 320000 | F18: 320000
A19: 18. | C19: Játszóeszközök védőmázolása | D19: 1 | E19: 300000 | F19: 300000 | G19: 200000 | H19: 100000
A20: 19. | C20: Tematikus matricák pótlása | D20: 1 | E20: 280000 | F20: 280000
A21: Összesen: | E21: =SUM(E3:E20) -> 6220000 | F21: =SUM(F3:F20) -> 5820000 | G21: =SUM(G3:G20) -> 920000 | H21: =SUM(H3:H20) -> 325000
A22: Játszótér neve: Pom-Pom | C22: Címe: 1016 Budapest, Naphegy tér | E22: Hrsz:7339/2
A23: 1. | B23: Piros forgóbogrács
A24: 2. | B24: Rugós játék 4 levelű lóhere | C24: Csavarmeghúzás, rögzítés | D24: 1 | H24: 25000
A25: 3. | B25: Beülős rugós játék | C25: Csavarmeghúzás, rögzítés | D25: 1 | H25: 25000
A26: 4. | B26: 2*2-es hintaállvány vegyes ülőkékkel | C26: Általános karbantartás, csavarmeghúzás, öntött gumi pótlása | D26: 1 | E26: 95000 | F26: 95000 | G26: 95000
A27: 5. | B27: Szabadon álló nagycsúszda | C27: Csavarmeghúzás, rögzítés | D27: 1 | H27: 25000
A28: 6. | B28: Vonat | C28: Általános karbantartás | D28: 1 | H28: 25000
A29: 7. | B29: Sivatag hajója | C29: Általános karbantartás, csavarmeghúzás, ujjbeszorulást megakadályozó elemek pótlása, korlát hegesztése, járódeszkák cseréje | D29: 1 | E29: 195000 | F29: 195000 | G29: 195000
A30: 8. | B30: Sárga forgóbogrács
A31: 9. | B31: Szabadon álló kiscsúszda | C31: Csavarmeghúzás, rögzítés | D31: 1 | H31: 25000
A32: 10. | B32: Rugós játék - kakas | C32: Csavarmeghúzás, rögzítés | D32: 1 | H32: 25000
A33: 11. | B33: Rugós játék - motor | C33: Csavarmeghúzás, rögzítés | D33: 1 | H33: 25000
A34: 12. | B34: Hálós függeszkedő kombinált mászóka | C34: Általános karbantartás, csavarmeghúzás | H34: 50000
A35: 13. | B35: Homokozó | C35: Homokcsere 8 m3 | D35: 1 | E35: 335000 | F35: 150000 | G35: 150000
A36: 14. | B36: Gombóc Artúr háza | C36: Általános karbantartás, szükség szerinti villanyszerelés | D36: 1 | E36: 80000 | H36: 40000
A37: 15. | B37: Madárvédő Golyókapkodó háza | C37: Általános karbantartás, ülőpadok faalkatrészének cseréje, szükség szerinti villanyszerelés | D37: 1 | E37: 80000 | H37: 40000
A38: 16. | B38: Hapci Benő háza | C38: Általános karbantartás, ülőpadok faalkatrészének cseréje, szükség szerinti villanyszerelés | D38: 1 | E38: 80000 | H38: 40000
A39: 17. | B39: Órás hirdetőoszlop | C39: Általános karbantartás, órajavítás | E39: 650000 | F39: 500000
C40: Ütéscsillapító burkolat, talajtakaró feltöltés 2-8 mm közötti idegen anyagtól mentes kavics feltöltés | E40: 100000 | F40: 100000
...

Sheet 2016-23as bérek és terhek
A1: 2016. január 1-től a minimálbér bruttó 111 000 forintra, míg a garantált bérminimum 1275000 forintra emelkedett. | B1: 2016 | C1: 2017 | D1: 2022 | E1: 2016 | F1: 2017 | G1: 2017 | H1: 2016 | I1: 2016 | J1: 2017 | K1: 2017 | L1: 2018 | M1: 2018 | N1: 2018 | O1: 2018 | P1: 2018 | Q1: 2019 | R1: 2019 | S1: 2019 | T1: 2019 | U1: 2022 | V1: 2022 | W1: 2022 | X1: 2023 | Y1: 2023 | Z1: 2023
A2: BRUTTÓ BÉR | E2: 111000 | F2: 127500 | G2: 163000 | H2: 400000 | I2: 320000 | J2: 400000 | K2: 320000 | L2: 187450 | M2: 460000 | N2: 368000 | O2: 163000 | P2: 70000 | Q2: 210000 | R2: 514000 | S2: 411000 | T2: 182000 | U2: 300000 | V2: 530000 | W2: 950000 | X2: 336000 | Y2: 593000 | Z2: 950000
A3: Éves bruttó jövedelem | E3: =E13*12 -> 885780 | F3: =F13*12 -> 1017450 | G3: =G13*12 -> 1300740 | H3: =H2*12 -> 4800000 | I3: =I2*12 -> 3840000 | J3: =J2*12 -> 4800000 | K3: =K2*12 -> 3840000 | L3: =L2*12 -> 2249400 | M3: =M2*12 -> 5520000 | N3: =N2*12 -> 4416000 | O3: =O2*12 -> 1956000 | ... Z3: =Z2*12 -> 11400000
A4: Kedvezmény | B4: gyermek-kedvezmény (2 gy) | E4: nincs gyermek | F4: nincs gyermek | G4: nincs gyermek | H4: nincs gyermek | I4: nincs gyermek | J4: nincs gyermek | K4: nincs gyermek | L4: nincs gyermek | M4: nincs gyermek | N4: nincs gyermek | O4: nincs gyermek | P4: nincs gyermek | Q4: nincs gyermek | R4: nincs gyermek | S4: nincs gyermek | T4: nincs gyermek | U4: nincs gyermek | V4: nincs gyermek | W4: nincs gyermek | X4: nincs gyermek | Y4: nincs gyermek | Z4: nincs gyermek
A5: LEVONÁSOK | B5: 25000 | C5: 30000 | D5: 30000
A6: Adók és járulékok
A7: személyi jövedelemadó | B7: 0.15 | C7: 0.15 | D7: 0.15 | E7: =E2*$B$7 -> 16650 | F7: =F2*$B$7 -> 19125 | G7: =G2*$B$7 -> 24450 | H7: =$H$2*B7 -> 60000 | I7: =$I$2*B7 -> 48000 | J7: =$H$2*B7 -> 60000 | K7: =$I$2*B7 -> 48000 | L7: =L2*$B$7 -> 28117.5 | M7: =M2*$B$7 -> 69000 | N7: =N2*$B$7 -> 55200 | O7: =$O$2*B7 -> 24450 | P7: =$P$2*B7 -> 10500 | Q7: =Q2*$C$7 -> 31500 | R7: =R2*$C$7 -> 77100 | S7: =S2*$C$7 -> 61650 | T7: =T2*$C$7 -> 27300 | U7: =U2*$C$7 -> 45000 | V7: =V2*$C$7 -> 79500 | W7: =W2*$C$7 -> 142500 | X7: =X2*$C$7 -> 50400 | ... Z7: =Z2*$C$7 -> 142500
A8: nyugdíjbiztosítási-járulék | B8: 0.1 | C8: 0.1 | D8: 0.185 | E8: =E2*$B$8 -> 11100 | F8: =F2*$B$8 -> 12750 | G8: =G2*$B$8 -> 16300 | H8: =H2*$B$8 -> 40000 | I8: =$I$2*B8 -> 32000 | J8: =$H$2*B8 -> 40000 | K8: =$I$2*B8 -> 32000 | L8: =$L$2*$B$8 -> 18745 | M8: =$L$2*$B$8 -> 18745 | N8: =$L$2*$B$8 -> 18745 | O8: =$O$2*B8 -> 16300 | P8: =$P$2*B8 -> 7000 | Q8: =Q2*$C$7 -> 31500 | R8: =R2*$C$7 -> 77100 | S8: =S2*$C$8 -> 41100 | T8: =T2*$C$8 -> 18200 | U8: =U2*$C$8 -> 30000 | V8: =V2*$C$8 -> 53000 | W8: =W2*$C$8 -> 95000 | X8: =X2*$C$8 -> 33600 | Y8: =Y2*$C$8 -> 59300 | Z8: =Z2*$C$8 -> 95000
A9: egészségbiztosítási járulék természetbeni | B9: 0.04 | C9: 0.04 | E9: =E2*$B$9 -> 4440 | F9: =F2*$B$9 -> 5100 | G9: =G2*$B$9 -> 6520 | H9: =H2*$B$9 -> 16000 | I9: =$I$2*B9 -> 12800 | J9: =$H$2*B9 -> 16000 | K9: =$I$2*B9 -> 12800 | L9: =$L$2*$B$9 -> 7498 | M9: =$L$2*$B$9 -> 7498 | N9: =$L$2*$B$9 -> 7498 | O9: =$O$2*B9 -> 6520 | P9: =$P$2*B9 -> 2800 | Q9: =Q2*$C$9 -> 8400 | R9: =R2*$C$9 -> 20560 | S9: =S2*$C$9 -> 16440 | T9: =T2*$C$9 -> 7280 | U9: =U2*$C$9 -> 12000 | V9: =V2*$C$9 -> 21200 | W9: =W2*$C$9 -> 38000 | X9: =X2*$C$9 -> 13440 | ... Z9: =Z2*$C$9 -> 38000
A10: egészségbiztosítási járulék pénzbeli | B10: 0.03 | C10: 0.03 | E10: =E2*$B$10 -> 3330 | F10: =F2*$B$10 -> 3825 | G10: =G2*$B$10 -> 4890 | H10: =H2*$B$10 -> 12000 | I10: =$I$2*B10 -> 9600 | J10: =$H$2*B10 -> 12000 | K10: =$I$2*B10 -> 9600 | L10: =$L$2*$B$10 -> 5623.5 | M10: =$L$2*$B$10 -> 5623.5 | N10: =$L$2*$B$10 -> 5623.5 | O10: =$O$2*B10 -> 4890 | P10: =$P$2*B10 -> 2100 | Q10: =Q2*$C$10 -> 6300 | R10: =R2*$C$10 -> 15420 | S10: =S2*$C$10 -> 12330 | T10: =T2*$C$10 -> 5460 | U10: =U2*$C$10 -> 9000 | V10: =V2*$C$10 -> 15900 | W10: =W2*$C$10 -> 28500 | X10: =X2*$C$10 -> 10080 | ... Z10: =Z2*$C$10 -> 28500
A11: Munkaerő-piaci járulék | B11: 0.015 | C11: 0.015 | E11: =E2*$B$11 -> 1665 | F11: =F2*$B$11 -> 1912.5 | G11: =G2*$B$11 -> 2445 | H11: =H2*$B$11 -> 6000 | I11: =$I$2*B11 -> 4800 | J11: =$H$2*B11 -> 6000 | K11: =$I$2*B11 -> 4800 | L11: =$L$2*$B$11 -> 2811.75 | M11: =$L$2*$B$11 -> 2811.75 | N11: =$L$2*$B$11 -> 2811.75 | O11: =$O$2*B11 -> 2445 | P11: =$P$2*B11 -> 1050 | Q11: =Q2*$C$11 -> 3150 | R11: =R2*$C$11 -> 7710 | S11: =S2*$C$11 -> 6165 | T11: =T2*$C$11 -> 2730 | U11: =U2*$C$11 -> 4500 | V11: =V2*$C$11 -> 7950 | W11: =W2*$C$11 -> 14250 | X11: =X2*$C$11 -> 5040 | ... Z11: =Z2*$C$11 -> 14250
A12: ÖSSZES LEVONÁS(munkabérből levonásra kerül, munkaadó továbbutalja a NAV adott számlájára) | B12: =SUM(B7:B11) -> 0.335 | C12: =SUM(C7:C11) -> 0.335 | D12: =SUM(D7:D11) -> 0.335 | E12: =E2*$B$12 -> 37185 | F12: =F2*$B$12 -> 42712.5 | G12: =G2*$B$12 -> 54605 | H12: =H2*$B$12 -> 134000 | I12: =$I$2*B12 -> 107200 | J12: =J2*$B$12 -> 134000 | K12: =$I$2*B12 -> 107200 | L12: =L2*$B$12 -> 62795.75 | M12: =M2*$B$12 -> 154100 | N12: =N2*$B$12 -> 123280 | O12: =O2*$B$12 -> 54605 | P12: =P2*$B$12 -> 23450 | Q12: =Q2*$B$12 -> 70350 | R12: =R2*$B$12 -> 172190 | S12: =SUM(S7:S11) -> 137685 | T12: =SUM(T7:T11) -> 60970 | U12: =SUM(U7:U11) -> 100500 | V12: =V2*$B$12 -> 177550 | W12: =W2*$B$12 -> 318250 | X12: =SUM(X7:X11) -> 112560 | Y12: =Y2*$B$12 -> 198655 | Z12: =Z2*$B$12 -> 318250
A13: NETTÓ BÉR | E13: =E2-E12 -> 73815 | F13: =F2-F12 -> 84787.5 | G13: =G2-G12 -> 108395 | H13: =H2-H12 -> 266000 | I13: =I2-I12 -> 212800 | J13: =J2-J12 -> 266000 | K13: =K2-K12 -> 212800 | L13: =L2-L12 -> 124654.25 | ... Z13: =Z2-Z12 -> 631750
A15: kifizetendő 2 gyermek esetén | H15: =H13+B5 -> 291000 | I15: =I13+B5 -> 237800 | J15: =J13+F5 -> 266000 | K15: =K13+F5 -> 212800 | L15: =L13+G5 -> 124654.25 | M15: =M13+H5 -> 305900 | N15: =N13+H5 -> 244720 | O15: =O13+J5 -> 108395 | P15: =P13+J5 -> 46550 | Q15: =Q13+L5 -> 139650 | R15: =R13+M5 -> 341810 | S15: =S13+M5 -> 273315 | T15: =T13+N5 -> 121030 | U15: =U13+O5 -> 199500 | V15: =V13+P5 -> 352450 | W15: =W13+Q5 -> 631750 | X15: =X13+R5 -> 223440 | Y15: =Y13+S5 -> 394345 | Z15: =Z13+T5 -> 631750
A16: szja 2 gyermek esetén | H16: =H7-B5 -> 35000 | I16: =I7-B5 -> 23000 | J16: =J7-C5 -> 30000 | K16: =K7-C5 -> 18000 | L16: =L7-E5 -> 28117.5 | M16: =M7-F5 -> 69000 | N16: =N7-F5 -> 55200 | O16: =O7-H5 -> 24450 | P16: =P7-H5 -> 10500 | Q16: =Q7-$C$5 -> 1500 | R16: =R7-$C$5 -> 47100 | S16: =S7-$C$5 -> 31650 | T16: =T7-$C$5 -> -2700 | U16: =U7-$C$5 -> 15000 | V16: =V7-$C$5 -> 49500 | W16: =W7-$C$5 -> 112500 | X16: =X7-$C$5 -> 20400 | ... Z16: =Z7-$C$5 -> 112500
A18: Munkaadó összes költsége 111 000.- és 129 000.- forintos bruttó bérfizetés esetén:
A19: BRUTTÓ BÉR | E19: 111000 | F19: =F2 -> 127500 | G19: =G2 -> 163000 | H19: 400000 | I19: 320000 | J19: 400000 | K19: 320000 | L19: =G29 -> 187229.73 | M19: =H29 -> 459459.46 | N19: =I29 -> 367567.57 | O19: =O2 -> 163000 | P19: =P2 -> 70000 | Q19: =N31 -> 209194.2 | R19: =O31 -> 513360 | S19: =P31 -> 410688 | T19: =Q31 -> 181908 | U19: =U2 -> 300000 | V19: =V2 -> 530000 | W19: =W2 -> 950000 | X19: =X2 -> 336000 | Y19: =Y2 -> 593000 | Z19: =Z2 -> 950000
A20: szociális hozzájárulási adó | B20: 0.27 | C20: 0.22 | D20: 0.13 | E20: =E19*$B$20 -> 29970 | F20: =F19*C20 -> 28050 | G20: =G19*C20 -> 35860 | H20: =$H$19*B20 -> 108000 | I20: =$I$19*B20 -> 86400 | J20: =$H$19*B20 -> 108000 | K20: =$I$19*B20 -> 86400 | L20: =$L$19*$C$20 -> 41190.541 | M20: =$M$19*$C$20 -> 101081.08 | N20: =$N$19*$C$20 -> 80864.865 | O20: =$O$19*C20 -> 35860 | P20: =$P$2*$C$20 -> 15400 | Q20: =$L$19*$C$20 -> 41190.541 | R20: =$M$19*$C$20 -> 101081.08 | S20: =$N$19*$C$20 -> 80864.865 | T20: =$N$19*$C$20 -> 80864.865 | U20: =U19*$D$20 -> 39000 | V20: =V19*$D$20 -> 68900 | W20: =W19*$D$20 -> 123500 | X20: =X19*$D$20 -> 43680 | Y20: =Y19*$D$20 -> 77090 | Z20: =Z19*$D$20 -> 123500
A21: szakképzési hozzájárulás | B21: 0.015 | C21: 0.015 | E21: =E19*$B$21 -> 1665 | F21: =F19*C21 -> 1912.5 | G21: =G19*C21 -> 2445 | H21: =H19*$B$21 -> 6000 | I21: =$I$19*B21 -> 4800 | J21: =$H$19*B21 -> 6000 | K21: =$I$19*B21 -> 4800 | L21: =$L$19*$C$21 -> 2808.4459 | M21: =$M$19*$C$21 -> 6891.8919 | N21: =$N$19*$C$21 -> 5513.5135 | O21: =$O$19*C21 -> 2445 | P21: =$P$2*$C$21 -> 1050 | Q21: =$L$19*$C$21 -> 2808.4459 | R21: =$M$19*$C$21 -> 6891.8919 | S21: =$N$19*$C$21 -> 5513.5135 | T21: =$N$19*$C$21 -> 5513.5135
A22: Munkaadó összes kötelezettsége | B22: =SUM(B20:B21) -> 0.285 | C22: =SUM(C20:C21) -> 0.235 | D22: =SUM(D20:D21) -> 0.13 | E22: =E19*$B$22 -> 31635 | F22: =F19*$C$22 -> 29962.5 | G22: =G19*$C$22 -> 38305 | H22: =H19*$B$22 -> 114000 | I22: =$I$19*B22 -> 91200 | J22: =$H$19*C22 -> 94000 | K22: =$I$19*C22 -> 75200 | L22: =$L$19*C22 -> 43998.986 | M22: =$M$19*C22 -> 107972.97 | N22: =$N$19*C22 -> 86378.378 | O22: =O19*C22 -> 38305 | P22: =P19*C22 -> 16450 | Q22: =Q19*$C$22 -> 49160.637 | R22: =R19*$C$22 -> 120639.6 | S22: =S19*$C$22 -> 96511.68 | T22: =T19*$C$22 -> 42748.38 | U22: =SUM(U20:U21) -> 39000 | V22: =SUM(V20:V21) -> 68900 | W22: =SUM(W20:W21) -> 123500 | X22: =SUM(X20:X21) -> 43680 | Y22: =SUM(Y20:Y21) -> 77090 | Z22: =SUM(Z20:Z21) -> 123500
A23: Bruttó bér + szociális hozzájárulási adó + szakképzési hozzájárulás
A24: Ennyibe kerül 1 fő foglalkoztatása: | E24: =E19+E22 -> 142635 | F24: =F19+F22 -> 157462.5 | G24: =G19+G22 -> 201305 | H24: =H19+H22 -> 514000 | I24: =I19+I22 -> 411200 | J24: =J19+J22 -> 494000 | K24: =K19+K22 -> 395200 | L24: =L19+L22 -> 231228.72 | ... Z24: =Z19+Z22 -> 1073500
A25: Befizetendő: | F25: =F22+F12 -> 72675 | G25: =G22+G12 -> 92910 | H25: =H22+H12 -> 248000 | I25: =I22+I12 -> 198400 | J25: =J22+J12 -> 228000 | K25: =K22+K12 -> 182400 | L25: =L22+L12 -> 106794.74 | M25: =M22+M12 -> 262072.97 | ... Z25: =Z22+Z12 -> 441750
A26: éves szinten | E26: =E24*12 -> 1711620 | F26: =F24*12 -> 1889550 | G26: =G24*12 -> 2415660 | H26: =H24*12 -> 6168000 | I26: =I24*12 -> 4934400 | J26: =J24*12 -> 5928000 | K26: =K24*12 -> 4742400 | L26: =L24*12 -> 2774744.6 | ... Z26: =Z24*12 -> 12882000
E28: változás -> | F28: =(F2/E2)-1 -> 0.14864865 | G28: =G2*$F$28 -> 24229.73 | H28: =H2*$F$28 -> 59459.459 | I28: =I2*$F$28 -> 47567.568 | K28: ="/év" -> /év | L28: =L26-G26 -> 359084.59 | M28: =M26-J26 -> 881189.19 | N28: =N26-K26 -> 704951.35
E29: új bér/ hó | F29: 2018 -> | G29: =G2+G28 -> 187229.73 | H29: =H2+H28 -> 459459.46 | I29: =I2+I28 -> 367567.57
L30: változás -> | M30: 0.116 | N30: =$M$30*L2 -> 21744.2 | O30: =$M$30*M2 -> 53360 | P30: =$M$30*N2 -> 42688 | Q30: =$M$30*O2 -> 18908
L31: új bér/ hó | M31: 2018 -> | N31: =L2+N30 -> 209194.2 | O31: =M2+O30 -> 513360 | P31: =N2+P30 -> 410688 | Q31: =O2+Q30 -> 181908
E32: Bruttó havi bér | F32: 168 000 | H32: 0 | I32: 2 016 000
E33: Adóalap | F33: 168 000 | G33: Érv. adóalap kedvezmény: | H33: 0 | I33: 2 016 000
E34: SZJA 15% | F34: 25 200 | G34: Elvi járulék kedvezmény: | H34: 0 | I34: 302 400
E35: Természetbeni eg.bizt. járulék 4% | F35: 6 720 | G35: Elvi T.eg.bizt. járulék 4%: | H35: 6 720 | I35: 80 640 | L35: minimálbér | O35: szakm bérmin
E36: Pénzbeni eg.bizt.járulék 3% | F36: 5 040 | G36: Elvi P.eg.bizt járulék 3%: | H36: 5 040 | I36: 60 480 | L36: 2016 | M36: 111000
E37: Nyugdíjjárulék 10% | F37: 16 800 | G37: Elvi Nyugdíjjárulék 10%: | H37: 16 800 | I37: 201 600 | L37: 2017 | M37: 127500 | N37: =(M37-M36)/M36 -> 0.14864865 | R37: 2020
E38: Munkaerő-piaci járulék 1,5% | F38: 2 520 | H38: 0 | I38: 30 240 | L38: 2018 | M38: 138000 | N38: =(M38-M37)/M37 -> 0.082352941 | R38: Bruttó havi bér | U38: 524000
E39: Nettó jövedelem | F39: 111 720 | G39: Nem érv. családi kedvezmény: | H39: 0 | I39: 1 340 640 | L39: 2019 | M39: 149000 | N39: =(M39-M38)/M38 -> 0.079710145 | R39: Nettó havi bér: | U39: 388459
E40: Szociális hozzájárulási adó | F40: 36 960 | H40: 0 | I40: 443 520 | L40: 2020 | M40: 161000 | N40: =(M40-M39)/M39 -> 0.080536913 | O40: 210600 | R40: Havi bérköltség: | U40: 623560
E41: Szakképzési hozzájárulás 1,5% | F41: 2 520 | H41: 0 | I41: 30 240 | L41: 2021 | M41: 167400 | N41: =(M41-M40)/M40 -> 0.039751553 | O41: 219000 | P41: =(O41-O40)/O40 -> 0.03988604 | R41: Levonások a munkavállalótól
E42: Összes ráfordítás | F42: 207 480 | H42: 0 | I42: 2 489 760 | L42: 2022 | M42: 200000 | N42: =(M42-M41)/M41 -> 0.19474313 | O42: 260000 | P42: =(O42-O41)/O41 -> 0.18721461 | R42: SZJA | U42: 38601
E43: Nettó/ráfordítás % | F43: 0.5385 | H43: 0 | I43: 0 | R43: Nyugdíjjárulék | U43: 52400
...

Sheet 2018
A1: Eszköz sorszáma | B1: Játszóeszközök | C1: Tervezett feladatok | D1: (1,2,3) | E1: A Bruttó (anyag és munka) | F1: B Bruttó (anyag és munka) | G1: C Bruttó (anyag és munka)
A2: Játszótér neve: VUK | C2: Címe: 1016 Budapest, Szirtes út 22.-Bérc u. 25. | D2: Prioritás | E2: teljes (esztétiaki is) | F2: fontos (indokolt) | G2: minden képpen (elengedhetetlen)
A3: 1. | B3: Mászóvár csúszdával "Játszóváros" | C3: Általános karbantartás, íves feljárón a faelemek cseréje | D3: 1 | E3: 200000
A4: 2. | B4: Rókavár "Karak barlangja"
A5: 3. | B5: Alagútcsúszda 1.
A6: 4. | B6: Alagútcsúszda 2.
A7: 5. | B7: Homokozó és csúszda "Manóház" | C7: Homokfeltöltés 2 m3 / TELJES HOMOKCSERE 12 m3 | D7: 1 | E7: 80000 | G7: 300000
A8: 6. | B8: Duplarugós mérleghinta | C8: Csavarmeghúzás, évente előforduló rugótörés miatt csere tervezése 2019-re is | D8: 1 | E8: 120000
A9: 7. | B9: Rugós játék - motor | C9: Csavarmeghúzás, rögzítés | D9: 1 | E9: 25000
A10: 8. | B10: Rugós lépegető | C10: Csavarmeghúzás, rögzítés | D10: 1 | E10: 25000
A11: 9. | B11: Kötélpálya
A12: 10. | B12: Függőhíd "Kötélhíd" | C12: Elemek rögzítése | E12: 25000
A13: 12. | B13: Babaház előtérrel | C13: Általános karbantartás korhadt faelemek cseréje, tetőfedés javítása | E13: 55000
A14: 13. | B14: Hintaállvány két ülőkével | C14: Hintalánc és ülőkék cseréje | D14: 1 | E14: 106000 | F14: szabványossági felülvizsgálat nem talált hibát
A15: 14. | B15: Hintaállvány két speciális bölcsőülőkével | C15: Csavarmeghúzás, rögzítés | D15: 1 | E15: 20000
A16: 15. | C16: Ivókút karbantartása: nyitás-zárás, tisztítás, dugulás elhárítás | D16: 1 | E16: 230000
A17: 16. | C17: Mulcsfeltöltés, kétregpótlás 20 m3 | D17: 1 | E17: 520000
A18: 17. | C18: Játszóeszközök védőmázolása | D18: 1 | E18: 210000
A19: 18. | C19: Tematikus matricák pótlása | D19: 1 | E19: 280000
A20: 19. | C20: Bejárati kapuk javítása | D20: 1 | E20: 80000
A21: Összesen: | E21: =SUM(E3:E20) -> 1976000 | F21: =SUM(F3:F20) -> 0 | G21: =SUM(G3:G20) -> 300000
A22: Játszótér neve: Pom-Pom | C22: Címe: 1016 Budapest, Naphegy tér | E22: Hrsz:7339/2
A23: 1. | B23: Piros forgóbogrács | F23: =IF(OR(D23=1,D23=2),E23,0) -> 0 | G23: =IF(D23=1,E23,0) -> 0
A24: 2. | B24: Rugós játék 4 levelű lóhere | C24: Csavarmeghúzás, rögzítés | D24: 1 | E24: 20000 | F24: =IF(OR(D24=1,D24=2),E24,0) -> 20000 | G24: =IF(D24=1,E24,0) -> 20000
A25: 3. | B25: Beülős rugós játék | C25: Csavarmeghúzás, rögzítés | D25: 1 | E25: 20000 | F25: =IF(OR(D25=1,D25=2),E25,0) -> 20000 | G25: =IF(D25=1,E25,0) -> 20000
A26: 4. | B26: 2*2-es hintaállvány vegyes ülőkékkel | C26: Általános karbantartás, csavarmeghúzás, díszítő elemek pótlása | D26: 1 | E26: 45000 | F26: =IF(OR(D26=1,D26=2),E26,0) -> 45000 | G26: =IF(D26=1,E26,0) -> 45000
A27: 5. | B27: Szabadon álló nagycsúszda | C27: Csavarmeghúzás, rögzítés | D27: 1 | E27: 20000 | F27: =IF(OR(D27=1,D27=2),E27,0) -> 20000 | G27: =IF(D27=1,E27,0) -> 20000
A28: 6. | B28: Vonat | C28: Játék talajhoz rögzítése | D28: 1 | E28: 70000 | F28: =IF(OR(D28=1,D28=2),E28,0) -> 70000 | G28: =IF(D28=1,E28,0) -> 70000
A29: 7. | B29: Sivatag hajója | C29: Általános karbantartás, csavarmeghúzás, ujjbeszorulást megakadályozó elemek pótlása, korlát hegesztése | D29: 1 | E29: 145000 | F29: =IF(OR(D29=1,D29=2),E29,0) -> 145000 | G29: =IF(D29=1,E29,0) -> 145000
A30: 8. | B30: Sárga forgóbogrács
A31: 9. | B31: Szabadon álló kiscsúszda | C31: Csavarmeghúzás, rögzítés | D31: 1 | E31: 20000
A32: 10. | B32: Rugós játék - kakas | C32: Csavarmeghúzás, rögzítés | D32: 1 | E32: 20000
A33: 11. | B33: Rugós játék - motor | C33: Csavarmeghúzás, rögzítés | D33: 1 | E33: 20000
A34: 12. | B34: Hálós függeszkedő kombinált mászóka | C34: Általános karbantartás, csavarmeghúzás, díszítő elemek pótlása, szükség esetén mászóháló cseréje | E34: 450000
A35: 13. | B35: Homokozó | C35: Homokfeltöltés 2 m3 | D35: 1 | E35: 40000
A36: 14. | B36: Gombóc Artúr háza | C36: Általános karbantartás, izzócsere, szükség szerinti villanyszerelés | D36: 1 | E36: 45000 | F36: =IF(OR(D36=1,D36=2),E36,0) -> 45000 | G36: =IF(D36=1,E36,0) -> 45000
A37: 15. | B37: Madárvédő Golyókapkodó háza | C37: Általános karbantartás, ülőpadok faalkatrészének csere, izzócsere, szükség szerinti villanyszerelés | D37: 1 | E37: 60000 | F37: =IF(OR(D37=1,D37=2),E37,0) -> 60000 | G37: =IF(D37=1,E37,0) -> 60000
A38: 16. | B38: Hapci Benő háza | C38: Általános karbantartás, ülőpadok faalkatrészének csere, izzócsere, szükség szerinti villanyszerelés | D38: 1 | E38: 60000 | F38: =IF(OR(D38=1,D38=2),E38,0) -> 60000 | G38: =IF(D38=1,E38,0) -> 60000
A39: 17. | B39: Órás hirdetőoszlop | C39: Általános karbantartás, órajavítás | E39: 650000 | F39: =IF(OR(D39=1,D39=2),E39,0) -> 0 | G39: =IF(D39=1,E39,0) -> 0
A40: 18. | C40: Ütéscsillapító burkolat, talajtakaró feltöltés 2-8 mm közötti idegen anyagtól mentes kavics feltöltés: 4 m3 | E40: 100000 | F40: =IF(OR(D40=1,D40=2),E40,0) -> 0 | G40: =IF(D40=1,E40,0) -> 0
...

Sheet I. terv 2020
A1: Költség elem | C1: 2020 | D1: terv | O1: A össz | P1: B össz | Q1: C össz | R1: tény | S1: tény | AE1: A össz | AF1: B össz | AG1: C össz
C2: jan | D2: febr | E2: márc | F2: ápr | G2: máj | H2: jún | I2: júl | J2: aug | K2: szep | L2: okt | M2: nov | N2: dec | O2: teljes | P2: közép | Q2: min | S2: jan | T2: febr | U2: márc | V2: ápr | W2: máj | X2: jún | Y2: júl | Z2: aug | AA2: szep | AB2: okt | AC2: nov | AD2: dec | AE2: teljes | AF2: min | AG2: min
A3: Javítások
A4: Csalogány | O4: =SUM(C4:N4) -> 0 | P4: =SUM(C4:N4) -> 0 | Q4: =SUM(C4:N4) -> 0 | AE4: =SUM(S4:AD4) -> 0 | AF4: =SUM(S4:AD4) -> 0 | AG4: =SUM(S4:AD4) -> 0
A5: Rumini Mária tér | O5: =SUM(C5:N5) -> 0 | P5: =SUM(C5:N5) -> 0 | Q5: =SUM(C5:N5) -> 0 | AE5: =SUM(S5:AD5) -> 0 | AF5: =SUM(S5:AD5) -> 0 | AG5: =SUM(S5:AD5) -> 0
A6: Farnklin | O6: =SUM(C6:N6) -> 0 | P6: =SUM(C6:N6) -> 0 | Q6: =SUM(C6:N6) -> 0 | AE6: =SUM(S6:AD6) -> 0 | AF6: =SUM(S6:AD6) -> 0 | AG6: =SUM(S6:AD6) -> 0
A7: Donáti | O7: =SUM(C7:N7) -> 0 | P7: =SUM(C7:N7) -> 0 | Q7: =SUM(C7:N7) -> 0 | AE7: =SUM(S7:AD7) -> 0 | AF7: =SUM(S7:AD7) -> 0 | AG7: =SUM(S7:AD7) -> 0
A8: Mátyás Király | O8: =SUM(C8:N8) -> 0 | P8: =SUM(C8:N8) -> 0 | Q8: =SUM(C8:N8) -> 0 | AE8: =SUM(S8:AD8) -> 0 | AF8: =SUM(S8:AD8) -> 0 | AG8: =SUM(S8:AD8) -> 0
A9: PomPom Naphegy | O9: =SUM(C9:N9) -> 0 | P9: =SUM(C9:N9) -> 0 | Q9: =SUM(C9:N9) -> 0 | AE9: =SUM(S9:AD9) -> 0 | AF9: =SUM(S9:AD9) -> 0 | AG9: =SUM(S9:AD9) -> 0
A10: Vuk Bérc | O10: =SUM(C10:N10) -> 0 | P10: =SUM(C10:N10) -> 0 | Q10: =SUM(C10:N10) -> 0 | AE10: =SUM(S10:AD10) -> 0 | AF10: =SUM(S10:AD10) -> 0 | AG10: =SUM(S10:AD10) -> 0
A11: Aladár | O11: =SUM(C11:N11) -> 0 | P11: =SUM(C11:N11) -> 0 | Q11: =SUM(C11:N11) -> 0 | AE11: =SUM(S11:AD11) -> 0 | AF11: =SUM(S11:AD11) -> 0 | AG11: =SUM(S11:AD11) -> 0
A12: Általános javítás (idegen) | C12: 200 | E12: 200 | G12: 200 | I12: 200 | K12: 200 | M12: 200 | O12: 0 | P12: 0 | AE12: =SUM(S12:AD12) -> 0 | AF12: =SUM(S12:AD12) -> 0 | AG12: =SUM(S12:AD12) -> 0
A13: Általános javítás (saját) | C13: 50 | F13: 50 | I13: 50 | L13: 50 | O13: 0 | P13: 0 | Q13: =SUM(C13:N13) -> 200 | AE13: =SUM(S13:AD13) -> 0 | AF13: =SUM(S13:AD13) -> 0 | AG13: =SUM(S13:AD13) -> 0
Q14: =SUM(C14:N14) -> 0 | AG14: =SUM(S14:AD14) -> 0
A15: Játszóterek takarítása, szemét le 12 db | Q15: =SUM(C15:N15) -> 0 | AE15: =SUM(S15:AD15) -> 0 | AF15: =SUM(S15:AD15) -> 0 | AG15: =SUM(S15:AD15) -> 0
A16: (FKF Zrt, szemetes zsákok, stb.) | C16: 70 | F16: 70 | I16: 70 | L16: 70 | O16: =SUM(C16:N16) -> 280 | P16: =SUM(C16:N16) -> 280 | Q16: =SUM(C16:N16) -> 280
A17: vásárolt szolgáltatás (lomb-, hóeltakarítéás, csúszás ment) | C17: 300 | D17: 300 | M17: 300 | N17: 300 | O17: =SUM(C17:N17) -> 1200 | P17: =SUM(C17:N17) -> 1200 | Q17: =SUM(C17:N17) -> 1200
A18: szemétszállítás FKF | C18: 230 | D18: 230 | E18: 230 | F18: 230 | G18: 230 | H18: 230 | I18: 230 | J18: 230 | K18: 230 | L18: 230 | M18: 230 | N18: 230 | O18: =SUM(C18:N18) -> 2760 | P18: =SUM(C18:N18) -> 2760 | Q18: =SUM(C18:N18) -> 2760
A19: Zöld területek fenntartása | E19: 100 | F19: 100 | G19: 100 | H19: 100 | I19: 100 | J19: 100 | K19: 100 | L19: 100 | O19: =SUM(C19:N19) -> 800 | P19: =SUM(C19:N19) -> 800 | Q19: =SUM(C19:N19) -> 800 | AE19: =SUM(S19:AD19) -> 0 | AF19: =SUM(S19:AD19) -> 0 | AG19: =SUM(S19:AD19) -> 0
A20: öntözések
A21: füvesítés, fák, bokrok cserjék újítása (Vuk)
A22: permetezés
A23: környezetterhelési díj
A24: közművek
A25: száradások, viharok okzta károk elhárítása
A26: zöld hulladék elszállítás (zsák) | L26: 25 | M26: 25 | N26: 25 | O26: =SUM(C26:N26) -> 75 | P26: =SUM(C26:N26) -> 75 | Q26: =SUM(C26:N26) -> 75
A27: Jogszerű működés feltételeihez
A28: esedékes szabványossági (megfelelőségi) vizsg | O28: =B28 -> 0 | P28: =B28 -> 0 | Q28: =B28 -> 0 | AE28: =R28 -> 0 | AF28: =R28 -> 0 | AG28: =R28 -> 0
A29: éves felülvizsgálatok, javítások 10db | B29: 100 | O29: =B29 -> 100 | P29: =B29 -> 100 | Q29: =B29 -> 100 | AE29: =R29 -> 0 | AF29: =S29 -> 0 | AG29: =T29 -> 0
A30: karbantartási kötelezettségek 10 db | O30: =B30 -> 0 | P30: =C30 -> 0 | Q30: =D30 -> 0 | AE30: =R30 -> 0 | AF30: =S30 -> 0 | AG30: =T30 -> 0
A31: Parkok nyitás zárása | B31: 90 | C31: 90 | D31: 90 | E31: 90 | F31: 90 | G31: 90 | H31: 90 | I31: 90 | J31: 90 | K31: 90 | L31: 90 | M31: 90 | N31: 90 | O31: =SUM(C31:N31) -> 1080 | P31: =SUM(C31:N31) -> 1080 | Q31: =SUM(C31:N31) -> 1080 | AE31: =SUM(S31:AD31) -> 0 | AF31: =SUM(S31:AD31) -> 0 | AG31: =SUM(S31:AD31) -> 0
A32: FESZ EÜ vizsgálat | E32: 25 | J32: 25 | O32: =SUM(D32:N32) -> 50 | P32: =SUM(C32:N32) -> 50 | Q32: =SUM(C32:N32) -> 50 | AE32: =SUM(T32:AD32) -> 0 | AF32: =SUM(S32:AD32) -> 0 | AG32: =SUM(S32:AD32) -> 0
A33: védőruházat védőfelszerelés | E33: 50 | H33: 50 | K33: 50 | N33: 50 | O33: =SUM(D33:N33) -> 200 | P33: =SUM(C33:N33) -> 200 | Q33: =SUM(C33:N33) -> 200 | AE33: =SUM(T33:AD33) -> 0 | AF33: =SUM(S33:AD33) -> 0 | AG33: =SUM(S33:AD33) -> 0
A34: Alkalmi ráfordítások
A35: Játszóterek egyszeri teljes körű szbv. Jav. 2020 | O35: ='2020'!E198/1000 -> 131495 | P35: ='2020'!F198/1000 -> 46830 | Q35: ='2020'!G198/1000 -> 17015 | AE35: ='[4]elvégzendő munkálatok 2017'!U161/1000 -> 0 | AF35: ='[4]elvégzendő munkálatok 2017'!V161/1000 -> 0 | AG35: ='[4]elvégzendő munkálatok 2017'!W161/1000 -> 0
A36: Tájékoztató táblák, felíratok | B36: 100 | O36: =B36 -> 100 | P36: =B36 -> 100 | Q36: =B36 -> 100 | AE36: =R36 -> 0 | AF36: =R36 -> 0 | AG36: =R36 -> 0
O37: =B37 -> 0 | P37: =B37 -> 0 | Q37: =B37 -> 0 | AE37: =R37 -> 0 | AF37: =R37 -> 0 | AG37: =R37 -> 0
A38: Honlap karbantartás, megújítás | B38: 300 | O38: =B38 -> 300 | P38: =B38 -> 300 | Q38: =B38 -> 300 | AE38: =R38 -> 0 | AF38: =R38 -> 0 | AG38: =R38 -> 0
A39: Havaria | C39: 300 | G39: 300 | K39: 300 | O39: =SUM(C39:N39) -> 900 | P39: =SUM(C39:N39)/2 -> 450 | Q39: =SUM(C39:N39)/2 -> 450 | AE39: =SUM(S39:AD39) -> 0 | AF39: =SUM(S39:AD39)/2 -> 0 | AG39: =SUM(S39:AD39) -> 0
A40: infromatikai | C40: 20 | F40: 20 | I40: 20 | L40: 20 | O40: =SUM(C40:N40) -> 80 | P40: =SUM(C40:N40) -> 80 | Q40: =SUM(C40:N40) -> 80 | AE40: =SUM(S40:AD40) -> 0 | AF40: =SUM(S40:AD40) -> 0 | AG40: =SUM(S40:AD40) -> 0
...

Sheet 2020
A1: Eszköz sorszáma | B1: Játszóeszközök | C1: Tervezett feladatok | D1: (1,2,3) | E1: A Bruttó (anyag és munka) | F1: B Bruttó (anyag és munka) | G1: C Bruttó (anyag és munka) | H1: Saját karbantartó által elvégezhető munkák
A2: Játszótér neve: VUK | C2: Címe: 1016 Budapest, Szirtes út 22.-Bérc u. 25. | D2: Prioritás | E2: teljes (esztétiaki is) | F2: fontos (indokolt) | G2: minden képpen (elengedhetetlen) | H2: bérköltség oldalon
A3: 1. | B3: Mászóvár csúszdával "Játszóváros" | C3: Általános karbantartás, esetleges állapotából adódó javítás | D3: 1 | E3: 100000 | F3: 100000 | H3: 100000
A4: 2. | B4: Rókavár "Karak barlangja"
A5: 3. | B5: Alagútcsúszda 1.
A6: 4. | B6: Alagútcsúszda 2.
A7: 5. | B7: Homokozó és csúszda "Manóház" | C7: Homokcsere 12 m3 | D7: 2 | E7: 550000 | F7: 550000 | G7: 250000
A8: 6. | B8: Duplarugós mérleghinta | C8: Csavarmeghúzás, esetleges rugótörés miatti rugócsere | D8: 1 | E8: 150000 | F8: 150000 | G8: 100000 | H8: 50000
A9: 7. | B9: Rugós játék - motor | C9: Csavarmeghúzás, rögzítés | D9: 1 | E9: 25000 | F9: 25000 | H9: 25000
A10: 8. | B10: Rugós lépegető | C10: Csavarmeghúzás, rögzítés | D10: 1 | E10: 25000 | F10: 25000 | H10: 25000
A11: 9. | B11: Kötélpálya | C11: Rögzítő csavarok lazítása "kalandpark építő" vállalkozás által | D11: 2 | E11: 250000 | F11: 250000 | G11: 100000 | H11: 150000
A12: 10. | B12: Függőhíd "Kötélhíd" | C12: Elemek rögzítése | D12: 1 | E12: 25000 | F12: 25000 | H12: 25000
A13: 12. | B13: Babaház előtérrel | C13: Általános karbantartás korhadt faelemek cseréje, tetőfedés javítása | D13: 2 | E13: 75000 | F13: 75000 | G13: 25000 | H13: 50000
A14: 13. | B14: Hintaállvány két ülőkével | C14: Csavarmeghúzás, rögzítés | D14: 1 | E14: 25000 | F14: 25000 | H14: 25000
A15: 14. | B15: Hintaállvány két speciális bölcsőülőkével | C15: Csavarmeghúzás, rögzítés | D15: 1 | E15: 25000 | F15: 25000 | H15: 25000
A16: 15. | B16: Új fészekhinta | C16: Telepítés öntött ütéscsillapító gumiburkolattal | D16: 3 | E16: 3500000
A17: 16. | B17: Fitnesz eszközök | C17: Fitnesz eszközök elbontása | D17: 2 | E17: 150000 | F17: 150000
A18: 17. | C18: Ivókút karbantartása: nyitás-zárás, tisztítás, dugulás elhárítás. Automata öntözőrendszer beállítása, beüzemelése | D18: 1 | E18: 180000 | F18: 180000 | H18: 180000
A19: 18. | C19: Mulcsfeltöltés, kétregpótlás 150 l | D19: 2 | E19: 410000 | F19: 410000 | G19: 410000
A20: 19. | C20: Játszóeszközök védőmázolása | D20: 2 | E20: 300000 | F20: 300000 | G20: 200000 | H20: 100000
A21: 20. | C21: Tematikus matricák pótlása | D21: 3 | E21: 280000 | F21: 280000
A22: Összesen: | E22: =SUM(E3:E21) -> 6070000 | F22: =SUM(F3:F21) -> 2570000 | G22: =SUM(G3:G21) -> 1085000 | H22: =SUM(H3:H21) -> 755000
A23: Játszótér neve: Pom-Pom | C23: Címe: 1016 Budapest, Naphegy tér | E23: Hrsz:7339/2
A24: 1. | B24: Piros forgóbogrács | C24: Ellenőrzés | D24: 2 | E24: 25000 | F24: 25000 | H24: 25000
A25: 2. | B25: Rugós játék 4 levelű lóhere | C25: Csavarmeghúzás, rögzítés | D25: 1 | E25: 25000 | F25: 25000 | H25: 25000
A26: 3. | B26: Beülős rugós játék | C26: Csavarmeghúzás, rögzítés | D26: 1 | E26: 25000 | F26: 25000 | H26: 25000
A27: 4. | B27: 2*2-es hintaállvány vegyes ülőkékkel | C27: Általános karbantartás, csavarmeghúzás, öntött gumi pótlása | D27: 1 | E27: 25000 | F27: 25000 | H27: 25000
A28: 5. | B28: Szabadon álló nagycsúszda | C28: Csavarmeghúzás, rögzítés | D28: 1 | E28: 25000 | F28: 25000 | H28: 25000
A29: 6. | B29: Vonat | C29: Általános karbantartás | D29: 2 | E29: 25000 | F29: 25000 | H29: 25000
A30: 7. | B30: Sivatag hajója | C30: Általános karbantartás, csavarmeghúzás, ujjbeszorulást megakadályozó elemek pótlása, korlát hegesztése, járódeszkák cseréje | D30: 1 | E30: 200000 | F30: 200000 | G30: 100000 | H30: 100000
A31: 8. | B31: Sárga forgóbogrács | C31: Ellenőrzés | D31: 2 | E31: 25000 | F31: 25000 | H31: 25000
A32: 9. | B32: Szabadon álló kiscsúszda | C32: Csavarmeghúzás, rögzítés | D32: 1 | E32: 25000 | F32: 25000 | H32: 25000
A33: 10. | B33: Rugós játék - kakas | C33: Csavarmeghúzás, rögzítés | D33: 1 | E33: 25000 | F33: 25000 | H33: 25000
A34: 11. | B34: Rugós játék - motor | C34: Csavarmeghúzás, rögzítés | D34: 1 | E34: 25000 | F34: 25000 | H34: 25000
A35: 12. | B35: Hálós függeszkedő kombinált mászóka | C35: Általános karbantartás, csavarmeghúzás | E35: 50000 | F35: 50000 | H35: 50000
A36: 13. | B36: Homokozó | C36: Homokcsere 8 m3 | D36: 2 | E36: 360000 | F36: 360000 | G36: 180000
A37: 14. | B37: Gombóc Artúr háza | C37: Általános karbantartás, ülőpadok karbantartása | D37: 2 | E37: 80000 | F37: 40000 | H37: 40000
A38: 15. | B38: Madárvédő Golyókapkodó háza | C38: Általános karbantartás, ülőpadok faalkatrészének cseréje | D38: 2 | E38: 80000 | F38: 40000 | H38: 40000
A39: 16. | B39: Hapci Benő háza | C39: Általános karbantartás, ülőpadok faalkatrészének cseréje | D39: 2 | E39: 80000 | F39: 40000 | H39: 40000
A40: 17. | B40: Órás hirdetőoszlop | C40: Általános karbantartás, festés, Óraszerkezet karbantartása | D40: 2 | E40: 650000
...

Sheet I. terv 2021
A1: Költség elem | C1: 2020 | D1: terv | O1: A össz | P1: B össz | Q1: C össz | R1: tény | S1: tény | AE1: A össz | AF1: B össz | AG1: C össz
C2: jan | D2: febr | E2: márc | F2: ápr | G2: máj | H2: jún | I2: júl | J2: aug | K2: szep | L2: okt | M2: nov | N2: dec | O2: teljes | P2: közép | Q2: min | S2: jan | T2: febr | U2: márc | V2: ápr | W2: máj | X2: jún | Y2: júl | Z2: aug | AA2: szep | AB2: okt | AC2: nov | AD2: dec | AE2: teljes | AF2: min | AG2: min
A3: Javítások | O3: =SUM(O12:O26) -> 5115 | P3: =SUM(P12:P26) -> 5115 | Q3: =SUM(Q12:Q26) -> 5315
A4: Csalogány | O4: =SUM(C4:N4) -> 0 | P4: =SUM(C4:N4) -> 0 | Q4: =SUM(C4:N4) -> 0 | AE4: =SUM(S4:AD4) -> 0 | AF4: =SUM(S4:AD4) -> 0 | AG4: =SUM(S4:AD4) -> 0
A5: Rumini Mária tér | O5: =SUM(C5:N5) -> 0 | P5: =SUM(C5:N5) -> 0 | Q5: =SUM(C5:N5) -> 0 | AE5: =SUM(S5:AD5) -> 0 | AF5: =SUM(S5:AD5) -> 0 | AG5: =SUM(S5:AD5) -> 0
A6: Farnklin | O6: =SUM(C6:N6) -> 0 | P6: =SUM(C6:N6) -> 0 | Q6: =SUM(C6:N6) -> 0 | AE6: =SUM(S6:AD6) -> 0 | AF6: =SUM(S6:AD6) -> 0 | AG6: =SUM(S6:AD6) -> 0
A7: Donáti | O7: =SUM(C7:N7) -> 0 | P7: =SUM(C7:N7) -> 0 | Q7: =SUM(C7:N7) -> 0 | AE7: =SUM(S7:AD7) -> 0 | AF7: =SUM(S7:AD7) -> 0 | AG7: =SUM(S7:AD7) -> 0
A8: Mátyás Király | O8: =SUM(C8:N8) -> 0 | P8: =SUM(C8:N8) -> 0 | Q8: =SUM(C8:N8) -> 0 | AE8: =SUM(S8:AD8) -> 0 | AF8: =SUM(S8:AD8) -> 0 | AG8: =SUM(S8:AD8) -> 0
A9: PomPom Naphegy | O9: =SUM(C9:N9) -> 0 | P9: =SUM(C9:N9) -> 0 | Q9: =SUM(C9:N9) -> 0 | AE9: =SUM(S9:AD9) -> 0 | AF9: =SUM(S9:AD9) -> 0 | AG9: =SUM(S9:AD9) -> 0
A10: Vuk Bérc | O10: =SUM(C10:N10) -> 0 | P10: =SUM(C10:N10) -> 0 | Q10: =SUM(C10:N10) -> 0 | AE10: =SUM(S10:AD10) -> 0 | AF10: =SUM(S10:AD10) -> 0 | AG10: =SUM(S10:AD10) -> 0
A11: Aladár | O11: =SUM(C11:N11) -> 0 | P11: =SUM(C11:N11) -> 0 | Q11: =SUM(C11:N11) -> 0 | AE11: =SUM(S11:AD11) -> 0 | AF11: =SUM(S11:AD11) -> 0 | AG11: =SUM(S11:AD11) -> 0
A12: Általános javítás (idegen) | C12: 200 | E12: 200 | G12: 200 | I12: 200 | K12: 200 | M12: 200 | O12: 0 | P12: 0 | AE12: =SUM(S12:AD12) -> 0 | AF12: =SUM(S12:AD12) -> 0 | AG12: =SUM(S12:AD12) -> 0
A13: Általános javítás (saját) | C13: 50 | F13: 50 | I13: 50 | L13: 50 | O13: 0 | P13: 0 | Q13: =SUM(C13:N13) -> 200 | AE13: =SUM(S13:AD13) -> 0 | AF13: =SUM(S13:AD13) -> 0 | AG13: =SUM(S13:AD13) -> 0
Q14: =SUM(C14:N14) -> 0 | AG14: =SUM(S14:AD14) -> 0
A15: Játszóterek takarítása, szemét le 12 db | Q15: =SUM(C15:N15) -> 0 | AE15: =SUM(S15:AD15) -> 0 | AF15: =SUM(S15:AD15) -> 0 | AG15: =SUM(S15:AD15) -> 0
A16: (FKF Zrt, szemetes zsákok, stb.) | C16: 70 | F16: 70 | I16: 70 | L16: 70 | O16: =SUM(C16:N16) -> 280 | P16: =SUM(C16:N16) -> 280 | Q16: =SUM(C16:N16) -> 280
A17: vásárolt szolgáltatás (lomb-, hóeltakarítéás, csúszás ment) | C17: 300 | D17: 300 | M17: 300 | N17: 300 | O17: =SUM(C17:N17) -> 1200 | P17: =SUM(C17:N17) -> 1200 | Q17: =SUM(C17:N17) -> 1200
A18: szemétszállítás FKF | C18: 230 | D18: 230 | E18: 230 | F18: 230 | G18: 230 | H18: 230 | I18: 230 | J18: 230 | K18: 230 | L18: 230 | M18: 230 | N18: 230 | O18: =SUM(C18:N18) -> 2760 | P18: =SUM(C18:N18) -> 2760 | Q18: =SUM(C18:N18) -> 2760
A19: Zöld területek fenntartása | E19: 100 | F19: 100 | G19: 100 | H19: 100 | I19: 100 | J19: 100 | K19: 100 | L19: 100 | O19: =SUM(C19:N19) -> 800 | P19: =SUM(C19:N19) -> 800 | Q19: =SUM(C19:N19) -> 800 | AE19: =SUM(S19:AD19) -> 0 | AF19: =SUM(S19:AD19) -> 0 | AG19: =SUM(S19:AD19) -> 0
A20: öntözések
A21: füvesítés, fák, bokrok cserjék újítása (Vuk)
A22: permetezés
A23: környezetterhelési díj
A24: közművek
A25: száradások, viharok okzta károk elhárítása
A26: zöld hulladék elszállítás (zsák) | L26: 25 | M26: 25 | N26: 25 | O26: =SUM(C26:N26) -> 75 | P26: =SUM(C26:N26) -> 75 | Q26: =SUM(C26:N26) -> 75
A27: Jogszerű működés feltételeihez | O27: =SUM(O28:O33) -> 1430 | P27: =SUM(P28:P33) -> 1430 | Q27: =SUM(Q28:Q33) -> 1430
A28: esedékes szabványossági (megfelelőségi) vizsg | O28: =B28 -> 0 | P28: =B28 -> 0 | Q28: =B28 -> 0 | AE28: =R28 -> 0 | AF28: =R28 -> 0 | AG28: =R28 -> 0
A29: éves felülvizsgálatok, javítások 10db | B29: 100 | O29: =B29 -> 100 | P29: =B29 -> 100 | Q29: =B29 -> 100 | AE29: =R29 -> 0 | AF29: =S29 -> 0 | AG29: =T29 -> 0
A30: karbantartási kötelezettségek 10 db | O30: =B30 -> 0 | P30: =C30 -> 0 | Q30: =D30 -> 0 | AE30: =R30 -> 0 | AF30: =S30 -> 0 | AG30: =T30 -> 0
A31: Parkok nyitás zárása | B31: 90 | C31: 90 | D31: 90 | E31: 90 | F31: 90 | G31: 90 | H31: 90 | I31: 90 | J31: 90 | K31: 90 | L31: 90 | M31: 90 | N31: 90 | O31: =SUM(C31:N31) -> 1080 | P31: =SUM(C31:N31) -> 1080 | Q31: =SUM(C31:N31) -> 1080 | AE31: =SUM(S31:AD31) -> 0 | AF31: =SUM(S31:AD31) -> 0 | AG31: =SUM(S31:AD31) -> 0
A32: FESZ EÜ vizsgálat | E32: 25 | J32: 25 | O32: =SUM(D32:N32) -> 50 | P32: =SUM(C32:N32) -> 50 | Q32: =SUM(C32:N32) -> 50 | AE32: =SUM(T32:AD32) -> 0 | AF32: =SUM(S32:AD32) -> 0 | AG32: =SUM(S32:AD32) -> 0
A33: védőruházat védőfelszerelés | E33: 50 | H33: 50 | K33: 50 | N33: 50 | O33: =SUM(D33:N33) -> 200 | P33: =SUM(C33:N33) -> 200 | Q33: =SUM(C33:N33) -> 200 | AE33: =SUM(T33:AD33) -> 0 | AF33: =SUM(S33:AD33) -> 0 | AG33: =SUM(S33:AD33) -> 0
A34: Alkalmi ráfordítások | O34: =SUM(O36:O44) -> 3180 | P34: =SUM(P36:P44) -> 2730 | Q34: =SUM(Q36:Q44) -> 2730
A35: Játszóterek egyszeri teljes körű szbv. Jav. 2020 | O35: ='2021'!E184/1000 -> 116290 | P35: ='2021'!F184/1000 -> 47935 | Q35: ='2021'!G184/1000 -> 15125 | AE35: ='[4]elvégzendő munkálatok 2017'!U161/1000 -> 0 | AF35: ='[4]elvégzendő munkálatok 2017'!V161/1000 -> 0 | AG35: ='[4]elvégzendő munkálatok 2017'!W161/1000 -> 0
A36: Tájékoztató táblák, felíratok | B36: 100 | O36: =B36 -> 100 | P36: =B36 -> 100 | Q36: =B36 -> 100 | AE36: =R36 -> 0 | AF36: =R36 -> 0 | AG36: =R36 -> 0
O37: =B37 -> 0 | P37: =B37 -> 0 | Q37: =B37 -> 0 | AE37: =R37 -> 0 | AF37: =R37 -> 0 | AG37: =R37 -> 0
A38: Honlap karbantartás, megújítás | B38: 300 | O38: =B38 -> 300 | P38: =B38 -> 300 | Q38: =B38 -> 300 | AE38: =R38 -> 0 | AF38: =R38 -> 0 | AG38: =R38 -> 0
A39: Havaria | C39: 300 | G39: 300 | K39: 300 | O39: =SUM(C39:N39) -> 900 | P39: =SUM(C39:N39)/2 -> 450 | Q39: =SUM(C39:N39)/2 -> 450 | AE39: =SUM(S39:AD39) -> 0 | AF39: =SUM(S39:AD39)/2 -> 0 | AG39: =SUM(S39:AD39) -> 0
A40: infromatikai | C40: 20 | F40: 20 | I40: 20 | L40: 20 | O40: =SUM(C40:N40) -> 80 | P40: =SUM(C40:N40) -> 80 | Q40: =SUM(C40:N40) -> 80 | AE40: =SUM(S40:AD40) -> 0 | AF40: =SUM(S40:AD40) -> 0 | AG40: =SUM(S40:AD40) -> 0
...

Sheet 2021
A1: Eszköz sorszáma | B1: Játszóeszközök | C1: Tervezett feladatok | D1: (1,2,3) | E1: A Bruttó (anyag és munka) | F1: B Bruttó (anyag és munka) | G1: C Bruttó (anyag és munka) | H1: saját karbantartóval elvégezhető
A2: Játszótér neve: VUK | C2: Címe: 1016 Budapest, Szirtes út 22.-Bérc u. 25. | D2: Prioritás | E2: teljes (esztétiaki is) | F2: fontos (indokolt) | G2: minden képpen (elengedhetetlen) | H2: csak munka
A3: 1. | B3: Mászóvár csúszdával "Játszóváros" | C3: Általános karbantartás, esetleges állapotából adódó javítás | D3: 1 | E3: 100000 | F3: 100000 | G3: 100000
A4: 2. | B4: Rókavár "Karak barlangja" | C4: Tetején faburkolat csere | E4: 200000
A5: 3. | B5: Alagútcsúszda 1.
A6: 4. | B6: Alagútcsúszda 2.
A7: 5. | B7: Homokozó és csúszda "Manóház" | C7: Homokcsere 12 m3 | D7: 1 | E7: 550000 | F7: 200000 | G7: 50000
A8: 6. | B8: Duplarugós mérleghinta | C8: Csavarmeghúzás, esetleges rugótörés miatti rugócsere | D8: 1 | E8: 150000 | F8: 100000
A9: 7. | B9: Rugós játék - motor | C9: Csavarmeghúzás, rögzítés | D9: 1 | E9: 25000 | F9: 25000 | H9: 25000
A10: 8. | B10: Rugós lépegető | C10: Csavarmeghúzás, rögzítés | D10: 1 | E10: 25000 | F10: 25000 | H10: 25000
A11: 9. | B11: Kötélpálya | C11: Bontás új eszköz telepítése, fakivágás | D11: 1 | E11: 2500000 | F11: 1000000 | G11: 1000000
A12: 10. | B12: Függőhíd "Kötélhíd" | C12: Új eszköz telepítése | D12: 2 | E12: 1150000
A13: 11. | B13: Babaház előtérrel | C13: Általános karbantartás korhadt faelemek cseréje, tetőfedés javítása | D13: 3 | E13: 75000 | F13: 75000 | G13: 75000
A14: 12. | B14: Hintaállvány két ülőkével | C14: Csavarmeghúzás, rögzítés | D14: 1 | E14: 25000 | F14: 25000 | H14: 25000
A15: 13. | B15: Hintaállvány két speciális bölcsőülőkével | C15: Csavarmeghúzás, rögzítés | D15: 1 | E15: 25000 | F15: 25000 | H15: 25000
A16: 14. | B16: trambulin | C16: Új játszóeszköz telepítése | D16: 2 | E16: 5850000
A17: 15. | C17: Ivókút karbantartása: nyitás-zárás, tisztítás, dugulás elhárítás. Automata öntözőrendszer beállítása, beüzemelése | D17: 1 | E17: 180000 | F17: 100000 | G17: 50000 | H17: 50000
A18: 16. | C18: Mulcsfeltöltés, kétregpótlás | D18: 2 | E18: 350000 | F18: 100000 | G18: 100000
A19: 17. | C19: Játszóeszközök védőmázolása | D19: 2 | E19: 300000 | F19: 100000 | H19: 50000
A20: 18. | C20: Tematikus matricák pótlása | D20: 3 | E20: 280000
A21: Összesen: | E21: =SUM(E3:E20) -> 11785000 | F21: =SUM(F3:F20) -> 1875000 | G21: =SUM(G3:G20) -> 1375000 | H21: =SUM(H3:H20) -> 200000
A22: Játszótér neve: Pom-Pom | C22: Címe: 1016 Budapest, Naphegy tér | E22: Hrsz:7339/2
A23: 1. | B23: Piros forgóbogrács
A24: 2. | B24: Rugós játék 4 levelű lóhere | C24: Csavarmeghúzás, rögzítés | D24: 1 | E24: 25000 | F24: 25000 | H24: 25000
A25: 3. | B25: Beülős rugós játék | C25: Csavarmeghúzás, rögzítés | D25: 1 | E25: 25000 | F25: 25000 | H25: 25000
A26: 4. | B26: 2*2-es hintaállvány vegyes ülőkékkel | C26: Általános karbantartás, csavarmeghúzás, öntött gumi pótlása | D26: 1 | E26: 100000 | F26: 100000 | G26: 100000
A27: 5. | B27: Szabadon álló nagycsúszda | C27: Csavarmeghúzás, hegesztés, rögzítés | D27: 1 | E27: 25000 | F27: 25000 | H27: 25000
A28: 6. | B28: Vonat | C28: Általános karbantartás | D28: 1 | E28: 25000 | F28: 25000 | H28: 25000
A29: 7. | B29: Sivatag hajója | C29: Általános karbantartás, csavarmeghúzás, ujjbeszorulást megakadályozó elemek pótlása, korlát hegesztése, járódeszkák cseréje | D29: 1 | E29: 200000 | F29: 100000 | G29: 50000 | H29: 25000
A30: 8. | B30: Sárga forgóbogrács
A31: 9. | B31: Szabadon álló kiscsúszda | C31: Csavarmeghúzás, rögzítés | D31: 1 | E31: 25000 | F31: 25000 | H31: 25000
A32: 10. | B32: Rugós játék - kakas | C32: Csavarmeghúzás, rögzítés | D32: 1 | E32: 25000 | F32: 25000 | H32: 25000
A33: 11. | B33: Rugós játék - motor | C33: Csavarmeghúzás, rögzítés | D33: 1 | E33: 25000 | F33: 25000 | H33: 25000
A34: 12. | B34: Hálós függeszkedő kombinált mászóka | C34: Általános karbantartás, csavarmeghúzás | D34: 1 | E34: 50000 | F34: 50000 | H34: 50000
A35: 13. | B35: Homokozó | C35: Homokcsere 8 m3 | D35: 2 | E35: 360000 | F35: 100000 | G35: 50000 | H35: 25000
A36: 14. | B36: Gombóc Artúr háza | C36: Általános karbantartás, ülőpadok karbantartása | D36: 3 | E36: 80000 | F36: 40000
A37: 15. | B37: Madárvédő Golyókapkodó háza | C37: Általános karbantartás, ülőpadok faalkatrészének cseréje | D37: 3 | E37: 80000 | F37: 40000 | G37: 20000 | H37: 25000
A38: 16. | B38: Hapci Benő háza | C38: Általános karbantartás, ülőpadok faalkatrészének cseréje | D38: 3 | E38: 80000 | F38: 40000 | G38: 20000 | H38: 25000
A39: 17. | B39: Órás hirdetőoszlop
A40: 18. | B40: Fitnesz eszközök | C40: Bontott és átszállított fitnesz eszközök telepítése ütéscsillapító gumival, valamint meglévő botlásveszélyes gumitéglák cseréje öntött gumiburkolat kialakítása | D40: 2 | E40: =180000+50*60000 -> 3180000 | F40: 1800000
...

Sheet 2021 zöld fenntartás
A1: Zöldfelület fenntartással összefüggő költségek | G1: 2021 évi árszinten
H3: I fázis | J3: II fázis
A4: Bérköltségek | H4: 5 fő | J4: 10 fő
A5: Munkatárs | B5: hó/fő | G5: =SUM(G6:G12) -> 4710000 | H5: =G5*5 -> 23550000 | J5: =G5*10 -> 47100000
A6: bruttó alapbér | B6: 300000 | G6: =B6*12 -> 3600000
A7: járulékok | B7: ='[5]bérek és terhek'!Q21 -> 51000 | G7: =B7*12 -> 612000
A8: cafeteria | B8: 16000 | G8: =B8*12 -> 192000
A9: nyugdíjpénztári hozzáj. (5%) | B9: =B6*0.05 -> 15000 | G9: =B9*12 -> 180000
A10: munkába járás | G10: =B10*12 -> 0
A11: BKV bérlet | B11: 10500 | G11: =B11*12 -> 126000
H12: 1 fő | J12: 2 fő
A13: csoportvezető | B13: hó/fő | G13: =SUM(G14:G19) -> 6174000 | H13: =G13 -> 6174000 | J13: =G13*2 -> 12348000
A14: bruttó alapbér | B14: 400000 | G14: =B14*12 -> 4800000
A15: járulékok | B15: ='[5]bérek és terhek'!P21 -> 68000 | G15: =B15*12 -> 816000
A16: cafeteria | B16: 16000 | G16: =B16*12 -> 192000
A17: nyugdíjpénztári hozzáj. (5%) | B17: =B14*0.05 -> 20000 | G17: =B17*12 -> 240000
A18: munkába járás | G18: =B18*12 -> 0
A19: BKV bérlet | B19: 10500 | G19: =B19*12 -> 126000
A20: Jogszerű működés feltételeihez
A21: éves felülvizsgálatok, javítások | B21: 100000 | H21: =B21 -> 100000 | J21: =B21 -> 100000
A22: karbantartási kötelezettségek | B22: 100000 | H22: =B22 -> 100000 | J22: =H22 -> 100000
A23: FESZ EÜ vizsgálat | B23: 12500 | H23: =B23*6 -> 75000 | J23: =B23*12 -> 150000
A24: védőruházat védőfelszerelés | B24: 50000 | H24: =B24*6 -> 300000 | J24: =B24*12 -> 600000
A26: Tevékenység járulékos költségei | H26: 10000000 | J26: 15000000
A27: szemét szállítás
A28: üzemanyag
A29: termőföld pótlás
A30: fűmag, gyeptégla
A31: műtrágya, permet
A32: kéziszerszámok
A33: lerakóhelyi díj
A34: vásárolt szolgáltatások | B34: 2020
A35: út és térfelületek fenntartása | B35: 2000000 | H35: 0 | J35: 0
A36: pázsit felületek | B36: 9000000 | H36: 0 | J36: 0
A37: cserje, rózsa fenntartás | B37: 3600000 | H37: 0 | J37: 0
A38: sövény fenntartás | B38: 1500000 | H38: 0 | J38: 0
A39: fenyő és örökzöld | B39: 100000 | H39: 0 | J39: 0
A40: dézsás növények gondozása | B40: 800000 | H40: 0 | J40: 0
A41: köztisztasági feladatok | B41: 4000000 | H41: 0 | J41: 0
A42: gyep felújítás | B42: 22000000 | H42: =B42 -> 22000000 | J42: 0
...

Sheet 2021 wc
A1: 2021 | B1: heti 7 | D1: 6-22 /wc | E1: 6-24 /wc | F1: 0-24 / wc | G1: 0-24/wc | H1: 3 db 6-22 | I1: 3 db 0-24 | J1: 3 db 0-24 | K1: 6 db 6-22 | L1: 6 db 0-24
D2: 4 fő / 8ó | E2: 4 fő / 9ó | F2: 5 fő/8ó | G2: 4 fő / 12ó | J2: 3 db 6-22
A3: bér | B3: Ft/fő/hó | D3: 4 | E3: 4 | F3: 5 | G3: 4
A4: havi munkabér | B4: ='[5]bérek és terhek'!T2 -> 230000 | D4: =$B$4*$D$3 -> 920000 | E4: =(($B$4/8)*9)*$E$3 -> 1035000 | F4: =$B$4*$F$3 -> 1150000 | G4: =(($B$4/8)*12)*$G$3 -> 1380000
