Workbook
Name Excel_BuiltIn_Print_Area_1: #REF!
Name Excel_BuiltIn_Print_Titles_26: #REF!,#REF!
Name GDP: [1]Háttéradatok!$B$22:$AG$28
Name gdpp: [2]Háttéradatok!$B$22:$AG$28
Name intézmény: [1]Háttéradatok!$C$29:$AG$32
Name más: #REF!,#REF!
Name nep: [1]Háttéradatok!$C$29:$AG$32
Name nép: [1]Háttéradatok!$C$29:$AG$32
Name Tűzoltóság: [3]Háttéradatok!$C$29:$AG$32
Name xxx: [1]Háttéradatok!$C$29:$AG$32
Name xxxxxx: [1]Háttéradatok!$C$29:$AG$32

Sheet I. terv 2019 (2)
A1: Költség elem | C1: 2019 | D1: terv | O1: A össz | P1: B össz | Q1: C össz | R1: tény | S1: tény | AE1: A össz | AF1: B össz | AG1: C össz
C2: jan | D2: febr | E2: márc | F2: ápr | G2: máj | H2: jún | I2: júl | J2: aug | K2: szep | L2: okt | M2: nov | N2: dec | O2: teljes | P2: min | Q2: min | S2: jan | T2: febr | U2: márc | V2: ápr | W2: máj | X2: jún | Y2: júl | Z2: aug | AA2: szep | AB2: okt | AC2: nov | AD2: dec | AE2: teljes | AF2: min | AG2: min
A3: Javítások, nem tervezett | Q3: =SUM(Q4:Q26) -> 4240
A4: Csalogány | O4: =SUM(C4:N4) -> 0 | P4: =SUM(C4:N4) -> 0 | Q4: =SUM(C4:N4) -> 0 | AE4: =SUM(S4:AD4) -> 0 | AF4: =SUM(S4:AD4) -> 0 | AG4: =SUM(S4:AD4) -> 0
A5: Rumini Mária tér | O5: =SUM(C5:N5) -> 0 | P5: =SUM(C5:N5) -> 0 | Q5: =SUM(C5:N5) -> 0 | AE5: =SUM(S5:AD5) -> 0 | AF5: =SUM(S5:AD5) -> 0 | AG5: =SUM(S5:AD5) -> 0
A6: Farnklin | O6: =SUM(C6:N6) -> 0 | P6: =SUM(C6:N6) -> 0 | Q6: =SUM(C6:N6) -> 0 | AE6: =SUM(S6:AD6) -> 0 | AF6: =SUM(S6:AD6) -> 0 | AG6: =SUM(S6:AD6) -> 0
A7: Donáti | O7: =SUM(C7:N7) -> 0 | P7: =SUM(C7:N7) -> 0 | Q7: =SUM(C7:N7) -> 0 | AE7: =SUM(S7:AD7) -> 0 | AF7: =SUM(S7:AD7) -> 0 | AG7: =SUM(S7:AD7) -> 0
A8: Mátyás Király | O8: =SUM(C8:N8) -> 0 | P8: =SUM(C8:N8) -> 0 | Q8: =SUM(C8:N8) -> 0 | AE8: =SUM(S8:AD8) -> 0 | AF8: =SUM(S8:AD8) -> 0 | AG8: =SUM(S8:AD8) -> 0
A9: PomPom Naphegy | O9: =SUM(C9:N9) -> 0 | P9: =SUM(C9:N9) -> 0 | Q9: =SUM(C9:N9) -> 0 | AE9: =SUM(S9:AD9) -> 0 | AF9: =SUM(S9:AD9) -> 0 | AG9: =SUM(S9:AD9) -> 0
A10: Vuk Bérc | O10: =SUM(C10:N10) -> 0 | P10: =SUM(C10:N10) -> 0 | Q10: =SUM(C10:N10) -> 0 | AE10: =SUM(S10:AD10) -> 0 | AF10: =SUM(S10:AD10) -> 0 | AG10: =SUM(S10:AD10) -> 0
A11: Aladár | O11: =SUM(C11:N11) -> 0 | P11: =SUM(C11:N11) -> 0 | Q11: =SUM(C11:N11) -> 0 | AE11: =SUM(S11:AD11) -> 0 | AF11: =SUM(S11:AD11) -> 0 | AG11: =SUM(S11:AD11) -> 0
A12: Általános javítás (idegen) | C12: 200 | E12: 200 | G12: 200 | I12: 200 | K12: 200 | M12: 200 | O12: =SUM(C12:N12) -> 1200 | P12: =SUM(C12:N12) -> 1200 | Q12: =SUM(C12:N12) -> 1200 | AE12: =SUM(S12:AD12) -> 0 | AF12: =SUM(S12:AD12) -> 0 | AG12: =SUM(S12:AD12) -> 0
A13: Általános javítás (saját) | C13: 50 | F13: 50 | I13: 50 | L13: 50 | O13: =SUM(C13:N13) -> 200 | P13: =SUM(C13:N13) -> 200 | Q13: =SUM(C13:N13) -> 200 | AE13: =SUM(S13:AD13) -> 0 | AF13: =SUM(S13:AD13) -> 0 | AG13: =SUM(S13:AD13) -> 0
Q14: =SUM(C14:N14) -> 0 | AG14: =SUM(S14:AD14) -> 0
A15: Játszóterek takarítása, szemét le 8 db | Q15: =SUM(C15:N15) -> 0 | AE15: =SUM(S15:AD15) -> 0 | AF15: =SUM(S15:AD15) -> 0 | AG15: =SUM(S15:AD15) -> 0
A16: (FKF Zrt, szemetes zsákok, stb.) | C16: 70 | D16: 70 | E16: 70 | F16: 70 | G16: 70 | H16: 70 | I16: 70 | J16: 70 | K16: 70 | L16: 70 | M16: 70 | N16: 70 | O16: =SUM(C16:N16) -> 840 | P16: =SUM(C16:N16) -> 840 | Q16: =SUM(C16:N16) -> 840
A17: vásárolt szolgáltatás (lomb-, hóeltakarítéás, csúszás ment) | C17: 300 | D17: 300 | M17: 300 | N17: 300 | O17: =SUM(C17:N17) -> 1200 | P17: =SUM(C17:N17) -> 1200 | Q17: =SUM(C17:N17) -> 1200
A19: Zöld területek fenntartása | E19: 100 | F19: 100 | G19: 100 | H19: 100 | I19: 100 | J19: 100 | K19: 100 | L19: 100 | O19: =SUM(C19:N19) -> 800 | P19: =SUM(C19:N19) -> 800 | Q19: =SUM(C19:N19) -> 800 | AE19: =SUM(S19:AD19) -> 0 | AF19: =SUM(S19:AD19) -> 0 | AG19: =SUM(S19:AD19) -> 0
A20: öntözések
A21: füvesítés, fák, bokrok cserjék újítása (Vuk)
A22: permetezés
A23: környezetterhelési díj
A24: közművek
A25: száradások, viharok okzta károk elhárítása
A26: zöld hulladék elszállítás (zsák)
A27: Jogszerű működés feltételeinek biztosítása | Q27: =SUM(Q28:Q33) -> 907.5
A28: esedékes szabványossági (megfelelőségi) vizsg | O28: =B28 -> 0 | P28: =B28 -> 0 | Q28: =B28 -> 0 | AE28: =R28 -> 0 | AF28: =R28 -> 0 | AG28: =R28 -> 0
A29: éves felülvizsgálatok, javítások 8db | B29: 100 | O29: =B29 -> 100 | P29: =B29 -> 100 | Q29: =B29 -> 100 | AE29: =R29 -> 0 | AF29: =S29 -> 0 | AG29: =T29 -> 0
A30: karbantartási kötelezettségek 8 db | O30: =B30 -> 0 | P30: =C30 -> 0 | Q30: =D30 -> 0 | AE30: =R30 -> 0 | AF30: =S30 -> 0 | AG30: =T30 -> 0
A31: Parkok nyitás zárása | B31: 60 | C31: 60 | D31: 60 | E31: 60 | F31: 60 | G31: 60 | H31: 60 | I31: 60 | J31: 60 | K31: 60 | L31: 60 | M31: 60 | N31: 60 | O31: =SUM(C31:N31) -> 720 | P31: =SUM(C31:N31) -> 720 | Q31: =SUM(C31:N31) -> 720 | AE31: =SUM(S31:AD31) -> 0 | AF31: =SUM(S31:AD31) -> 0 | AG31: =SUM(S31:AD31) -> 0
A32: FESZ EÜ vizsgálat | E32: 12.5 | J32: 25 | O32: =SUM(D32:N32) -> 37.5 | P32: =SUM(C32:N32) -> 37.5 | Q32: =SUM(C32:N32) -> 37.5 | AE32: =SUM(T32:AD32) -> 0 | AF32: =SUM(S32:AD32) -> 0 | AG32: =SUM(S32:AD32) -> 0
A33: védőruházat védőfelszerelés | F33: 50 | O33: =SUM(D33:N33) -> 50 | P33: =SUM(C33:N33) -> 50 | Q33: =SUM(C33:N33) -> 50 | AE33: =SUM(T33:AD33) -> 0 | AF33: =SUM(S33:AD33) -> 0 | AG33: =SUM(S33:AD33) -> 0
A34: Alkalmi ráfordítások, havaria | Q34: =SUM(Q36:Q43) -> 2370
A35: Játszóterek egyszeri teljes körű szbv. Jav. 2019 | O35: ='2019 játszóterek'!E157/1000 -> 34980 | P35: ='2019 játszóterek'!F157/1000 -> 26635 | Q35: ='2019 játszóterek'!G157/1000 -> 9035 | AE35: ='[4]elvégzendő munkálatok 2017'!U161/1000 -> 0 | AF35: ='[4]elvégzendő munkálatok 2017'!V161/1000 -> 0 | AG35: ='[4]elvégzendő munkálatok 2017'!W161/1000 -> 0
A36: Tájékoztató táblák, felíratok | B36: 100 | O36: =B36 -> 100 | P36: =B36 -> 100 | Q36: =B36 -> 100 | AE36: =R36 -> 0 | AF36: =R36 -> 0 | AG36: =R36 -> 0
O37: =B37 -> 0 | P37: =B37 -> 0 | Q37: =B37 -> 0 | AE37: =R37 -> 0 | AF37: =R37 -> 0 | AG37: =R37 -> 0
A38: Honlap karbantartás, megújítás | B38: 100 | O38: =B38 -> 100 | P38: =B38 -> 100 | Q38: =B38 -> 100 | AE38: =R38 -> 0 | AF38: =R38 -> 0 | AG38: =R38 -> 0
A39: Havaria | C39: 300 | G39: 300 | K39: 300 | O39: =SUM(C39:N39) -> 900 | P39: =SUM(C39:N39)/2 -> 450 | Q39: =SUM(C39:N39)/2 -> 450 | AE39: =SUM(S39:AD39) -> 0 | AF39: =SUM(S39:AD39)/2 -> 0 | AG39: =SUM(S39:AD39) -> 0
A40: infromatikai | C40: 20 | F40: 20 | I40: 20 | L40: 20 | O40: =SUM(C40:N40) -> 80 | P40: =SUM(C40:N40) -> 80 | Q40: =SUM(C40:N40) -> 80 | AE40: =SUM(S40:AD40) -> 0 | AF40: =SUM(S40:AD40) -> 0 | AG40: =SUM(S40:AD40) -> 0
A41: cég működés járulékos(iroda, védőital,fénym.stb.) | C41: 20 | F41: 20 | I41: 20 | L41: 20 | O41: =SUM(C41:N41) -> 80 | P41: =SUM(C41:N41) -> 80 | Q41: =SUM(C41:N41) -> 80 | AE41: =SUM(S41:AD41) -> 0 | AF41: =SUM(S41:AD41) -> 0 | AG41: =SUM(S41:AD41) -> 0
A42: Egyéb (parkolás,illeték bélyeg,posta stb.) | C42: 5 | D42: 5 | E42: 5 | F42: 5 | G42: 5 | H42: 5 | I42: 5 | J42: 5 | K42: 5 | L42: 5 | M42: 5 | N42: 5 | O42: =SUM(C42:N42) -> 60 | P42: =SUM(C42:N42) -> 60 | Q42: =SUM(C42:N42) -> 60 | AE42: =SUM(S42:AD42) -> 0 | AF42: =SUM(S42:AD42) -> 0 | AG42: =SUM(S42:AD42) -> 0
A43: Ünnepi díszkivilágítások | B43: 1500 | O43: 1500 | P43: 1500 | Q43: 1500
A45: Személyi költségek | Q45: =SUM(Q46:Q72) -> 29456.906
A46: Ügyvezető | B46: 510
A47: alap | C47: =$B$46 -> 510 | D47: =$B$46 -> 510 | E47: =$B$46 -> 510 | F47: =$B$46 -> 510 | G47: =$B$46 -> 510 | H47: =$B$46 -> 510 | I47: =$B$46 -> 510 | J47: =$B$46 -> 510 | ... N47: =$B$46 -> 510 | O47: =SUM(C47:N47) -> 6120 | P47: =SUM(C47:N47) -> 6120 | Q47: =SUM(C47:N47) -> 6120 | AE47: =SUM(S47:AD47) -> 0 | AF47: =SUM(S47:AD47) -> 0 | AG47: =SUM(S47:AD47) -> 0
A48: járulékok | C48: =C47*0.235 -> 119.85 | D48: =D47*0.235 -> 119.85 | E48: =E47*0.235 -> 119.85 | F48: =F47*0.235 -> 119.85 | G48: =G47*0.235 -> 119.85 | H48: =H47*0.235 -> 119.85 | I48: =I47*0.235 -> 119.85 | J48: =J47*0.235 -> 119.85 | ... N48: =N47*0.235 -> 119.85 | O48: =SUM(C48:N48) -> 1438.2 | P48: =SUM(C48:N48) -> 1438.2 | Q48: =SUM(C48:N48) -> 1438.2 | AE48: =SUM(S48:AD48) -> 0 | AF48: =SUM(S48:AD48) -> 0 | AG48: =SUM(S48:AD48) -> 0
Q49: =SUM(C49:N49) -> 0 | AG49: =SUM(S49:AD49) -> 0
A50: Munkatárs | B50: 408 | Q50: =SUM(C50:N50) -> 0 | AG50: =SUM(S50:AD50) -> 0
A51: alap | C51: =$B$50 -> 408 | D51: =$B$50 -> 408 | E51: =$B$50 -> 408 | F51: =$B$50 -> 408 | G51: =$B$50 -> 408 | H51: =$B$50 -> 408 | I51: =$B$50 -> 408 | J51: =$B$50 -> 408 | ... N51: =$B$50 -> 408 | O51: =SUM(C51:N51) -> 4896 | P51: =SUM(C51:N51) -> 4896 | Q51: =SUM(C51:N51) -> 4896 | AE51: =SUM(S51:AD51) -> 0 | AF51: =SUM(S51:AD51) -> 0 | AG51: =SUM(S51:AD51) -> 0
A52: járulékok | C52: =C51*0.235 -> 95.88 | D52: =D51*0.235 -> 95.88 | E52: =E51*0.235 -> 95.88 | F52: =F51*0.235 -> 95.88 | G52: =G51*0.235 -> 95.88 | H52: =H51*0.235 -> 95.88 | I52: =I51*0.235 -> 95.88 | J52: =J51*0.235 -> 95.88 | ... N52: =N51*0.235 -> 95.88 | O52: =SUM(C52:N52) -> 1150.56 | P52: =SUM(C52:N52) -> 1150.56 | Q52: =SUM(C52:N52) -> 1150.56 | AE52: =SUM(S52:AD52) -> 0 | AF52: =SUM(S52:AD52) -> 0 | AG52: =SUM(S52:AD52) -> 0
Q53: =SUM(C53:N53) -> 0 | AG53: =SUM(S53:AD53) -> 0
A54: Játszótér ellenőr | B54: 214 | Q54: =SUM(C54:N54) -> 0 | AG54: =SUM(S54:AD54) -> 0
A55: alap | C55: 163 | D55: 163 | E55: 163 | F55: 163 | G55: 163 | H55: 163 | I55: 163 | J55: 163 | K55: 163 | L55: 163 | M55: 163 | N55: 163 | O55: =SUM(C55:N55) -> 1956 | P55: =SUM(C55:N55) -> 1956 | Q55: =SUM(C55:N55) -> 1956 | AE55: =SUM(S55:AD55) -> 0 | AF55: =SUM(S55:AD55) -> 0 | AG55: =SUM(S55:AD55) -> 0
A56: járulékok | C56: =C55*0.235 -> 38.305 | D56: =D55*0.235 -> 38.305 | E56: =E55*0.235 -> 38.305 | F56: =F55*0.235 -> 38.305 | G56: =G55*0.235 -> 38.305 | H56: =H55*0.235 -> 38.305 | I56: =I55*0.235 -> 38.305 | J56: =J55*0.235 -> 38.305 | ... N56: =N55*0.235 -> 38.305 | O56: =SUM(C56:N56) -> 459.66 | P56: =SUM(C56:N56) -> 459.66 | Q56: =SUM(C56:N56) -> 459.66 | AE56: =SUM(S56:AD56) -> 0 | AF56: =SUM(S56:AD56) -> 0 | AG56: =SUM(S56:AD56) -> 0
A58: Játszótér takarítók (2 fő) | B58: 214
A59: alap | C59: =$B$58*2 -> 428 | D59: =$B$58*2 -> 428 | E59: =$B$58*2 -> 428 | F59: =$B$58*2 -> 428 | G59: =$B$58*2 -> 428 | H59: =$B$58*2 -> 428 | I59: =$B$58*2 -> 428 | J59: =$B$58*2 -> 428 | ... N59: =$B$58*2 -> 428 | O59: =SUM(C59:N59) -> 5136 | P59: =SUM(C59:N59) -> 5136 | Q59: =SUM(C59:N59) -> 5136
A60: járulékok | C60: =C59*0.235 -> 100.58 | D60: =D59*0.235 -> 100.58 | E60: =E59*0.235 -> 100.58 | F60: =F59*0.235 -> 100.58 | G60: =G59*0.235 -> 100.58 | H60: =H59*0.235 -> 100.58 | I60: =I59*0.235 -> 100.58 | J60: =J59*0.235 -> 100.58 | ... N60: =N59*0.235 -> 100.58 | O60: =SUM(C60:N60) -> 1206.96 | P60: =SUM(C60:N60) -> 1206.96 | Q60: =SUM(C60:N60) -> 1206.96
A62: Játszótér karbantartó | B62: 214
A63: alap | C63: =$B$62 -> 214 | D63: =$B$62 -> 214 | E63: =$B$62 -> 214 | F63: =$B$62 -> 214 | G63: =$B$62 -> 214 | H63: =$B$62 -> 214 | I63: =$B$62 -> 214 | J63: =$B$62 -> 214 | ... N63: =$B$62 -> 214 | O63: =SUM(C63:N63) -> 2568 | P63: =SUM(C63:N63) -> 2568 | Q63: =SUM(C63:N63) -> 2568
A64: járulékok | C64: =C63*0.235 -> 50.29 | D64: =D63*0.235 -> 50.29 | E64: =E63*0.235 -> 50.29 | F64: =F63*0.235 -> 50.29 | G64: =G63*0.235 -> 50.29 | H64: =H63*0.235 -> 50.29 | I64: =I63*0.235 -> 50.29 | J64: =J63*0.235 -> 50.29 | ... N64: =N63*0.235 -> 50.29 | O64: =SUM(C64:N64) -> 603.48 | P64: =SUM(C64:N64) -> 603.48 | Q64: =SUM(C64:N64) -> 603.48
O65: =SUM(C65:N65) -> 0 | P65: =SUM(C65:N65) -> 0 | Q65: =SUM(C65:N65) -> 0 | AE65: =SUM(S65:AD65) -> 0 | AF65: =SUM(S65:AD65) -> 0 | AG65: =SUM(S65:AD65) -> 0
A66: FEB tagok tisztelet díja (40-40-70 eFt/hó) | C66: 150 | D66: 150 | E66: 150 | F66: 150 | G66: 150 | H66: 150 | I66: 150 | J66: 150 | K66: 150 | L66: 150 | M66: 150 | N66: 150 | O66: =SUM(C66:N66) -> 1800 | P66: =SUM(C66:N66) -> 1800 | Q66: =SUM(C66:N66) -> 1800 | AE66: =SUM(S66:AD66) -> 0 | AF66: =SUM(S66:AD66) -> 0 | AG66: =SUM(S66:AD66) -> 0
A67: FEB taszteletdíj járulékai | C67: 40 | D67: 40 | E67: 40 | F67: 40 | G67: 40 | H67: 40 | I67: 40 | J67: 40 | K67: 40 | L67: 40 | M67: 40 | N67: 40 | O67: =SUM(C67:N67) -> 480 | P67: =SUM(C67:N67) -> 480 | Q67: =SUM(C67:N67) -> 480
Q68: =SUM(C68:N68) -> 0 | AG68: =SUM(S68:AD68) -> 0
A69: nyugdíj pénztár munkált (5%) | C69: =((C47+C51+C55+C59+C63)*0.03)*1.235 -> 63.83715 | D69: =$C$69 -> 63.83715 | E69: =$C$69 -> 63.83715 | F69: =$C$69 -> 63.83715 | G69: =$C$69 -> 63.83715 | H69: =$C$69 -> 63.83715 | I69: =$C$69 -> 63.83715 | J69: =$C$69 -> 63.83715 | K69: =$C$69 -> 63.83715 | ... N69: =$C$69 -> 63.83715 | O69: =SUM($C$69:$N$69) -> 766.0458 | P69: =SUM($C$69:$N$69) -> 766.0458 | Q69: =SUM($C$69:$N$69) -> 766.0458 | AE69: =SUM(S69:AD69) -> 0 | AF69: =SUM(T69:AE69) -> 0 | AG69: =SUM(U69:AF69) -> 0
A70: Erzsébet út (8000Ft) 6fő | C70: 48 | D70: 48 | E70: 48 | F70: 48 | G70: 48 | H70: 48 | I70: 48 | J70: 48 | K70: 48 | L70: 48 | M70: 48 | N70: 48 | O70: =SUM(C70:N70) -> 576 | P70: =SUM(C70:N70) -> 576 | Q70: =SUM(C70:N70) -> 576 | AE70: =SUM(S70:AD70) -> 0 | AF70: =SUM(S70:AD70) -> 0 | AG70: =SUM(S70:AD70) -> 0
A71: munkábajárás | O71: =SUM(C71:N71) -> 0 | P71: =SUM(C71:N71) -> 0 | Q71: =SUM(C71:N71) -> 0 | AE71: =SUM(S71:AD71) -> 0 | AF71: =SUM(S71:AD71) -> 0 | AG71: =SUM(S71:AD71) -> 0
A72: hivatali célú gépjármű haszn | C72: 25 | D72: 25 | E72: 25 | F72: 25 | G72: 25 | H72: 25 | I72: 25 | J72: 25 | K72: 25 | L72: 25 | M72: 25 | N72: 25 | O72: =SUM(C72:N72) -> 300 | P72: =SUM(C72:N72) -> 300 | Q72: =SUM(C72:N72) -> 300
A73: Állandó költségek | Q73: =SUM(Q74:Q83) -> 2700
A74: víz,csatorna | C74: 5 | D74: 5 | E74: 5 | F74: 5 | G74: 5 | H74: 5 | I74: 5 | J74: 5 | K74: 5 | L74: 5 | M74: 5 | N74: 5 | O74: =SUM(C74:N74) -> 60 | P74: =SUM(C74:N74) -> 60 | Q74: =SUM(C74:N74) -> 60 | AE74: =SUM(S74:AD74) -> 0 | AF74: =SUM(S74:AD74) -> 0 | AG74: =SUM(S74:AD74) -> 0
A75: villany | C75: 10 | D75: 10 | E75: 10 | F75: 10 | G75: 10 | H75: 10 | I75: 10 | J75: 10 | K75: 10 | L75: 10 | M75: 10 | N75: 10 | O75: =SUM(C75:N75) -> 120 | P75: =SUM(C75:N75) -> 120 | Q75: =SUM(C75:N75) -> 120 | AE75: =SUM(S75:AD75) -> 0 | AF75: =SUM(S75:AD75) -> 0 | AG75: =SUM(S75:AD75) -> 0
A76: fűtés | C76: 30 | D76: 30 | E76: 30 | F76: 30 | G76: 30 | H76: 30 | I76: 30 | J76: 30 | K76: 30 | L76: 30 | M76: 30 | N76: 30 | O76: =SUM(C76:N76) -> 360 | P76: =SUM(C76:N76) -> 360 | Q76: =SUM(C76:N76) -> 360 | AE76: =SUM(S76:AD76) -> 0 | AF76: =SUM(S76:AD76) -> 0 | AG76: =SUM(S76:AD76) -> 0
A77: szemét | C77: 3 | D77: 3 | E77: 3 | F77: 3 | G77: 3 | H77: 3 | I77: 3 | J77: 3 | K77: 3 | L77: 3 | M77: 3 | N77: 3 | O77: =SUM(C77:N77) -> 36 | P77: =SUM(C77:N77) -> 36 | Q77: =SUM(C77:N77) -> 36 | AE77: =SUM(S77:AD77) -> 0 | AF77: =SUM(S77:AD77) -> 0 | AG77: =SUM(S77:AD77) -> 0
A78: info kommunikáció adat (webcam, iroda, wifi,stb.) | C78: 50 | D78: 50 | E78: 50 | F78: 50 | G78: 50 | H78: 50 | I78: 50 | J78: 50 | K78: 50 | L78: 50 | M78: 50 | N78: 50 | O78: =SUM(C78:N78) -> 600 | P78: =SUM(C78:N78) -> 600 | Q78: =SUM(C78:N78) -> 600 | AE78: =SUM(S78:AD78) -> 0 | AF78: =SUM(S78:AD78) -> 0 | AG78: =SUM(S78:AD78) -> 0
A79: info supprot (rendszer) | C79: 50 | D79: 50 | E79: 50 | F79: 50 | G79: 50 | H79: 50 | I79: 50 | J79: 50 | K79: 50 | L79: 50 | M79: 50 | N79: 50 | O79: =SUM(C79:N79) -> 600 | P79: =SUM(C79:N79) -> 600 | Q79: =SUM(C79:N79) -> 600 | AE79: =SUM(S79:AD79) -> 0 | AF79: =SUM(S79:AD79) -> 0 | AG79: =SUM(S79:AD79) -> 0
A80: könyvelő | C80: 15 | D80: 15 | E80: 15 | F80: 15 | G80: 15 | H80: 15 | I80: 15 | J80: 15 | K80: 15 | L80: 15 | M80: 15 | N80: 15 | O80: =SUM(C80:N80) -> 180 | P80: =SUM(C80:N80) -> 180 | Q80: =SUM(C80:N80) -> 180 | AE80: =SUM(S80:AD80) -> 0 | AF80: =SUM(S80:AD80) -> 0 | AG80: =SUM(S80:AD80) -> 0
A81: iroda takarítás | C81: 20 | D81: 20 | E81: 20 | F81: 20 | G81: 20 | H81: 20 | I81: 20 | J81: 20 | K81: 20 | L81: 20 | M81: 20 | N81: 20 | O81: =SUM(C81:N81) -> 240 | P81: =SUM(C81:N81) -> 240 | Q81: =SUM(C81:N81) -> 240 | AE81: =SUM(S81:AD81) -> 0 | AF81: =SUM(S81:AD81) -> 0 | AG81: =SUM(S81:AD81) -> 0
A82: munkavégzéshez Bkv bérlet 4 fő | C82: 42 | D82: 42 | E82: 42 | F82: 42 | G82: 42 | H82: 42 | I82: 42 | J82: 42 | K82: 42 | L82: 42 | M82: 42 | N82: 42 | O82: =SUM(C82:N82) -> 504 | P82: =SUM(C82:N82) -> 504 | Q82: =SUM(C82:N82) -> 504 | AE82: =SUM(S82:AD82) -> 0 | AF82: =SUM(S82:AD82) -> 0 | AG82: =SUM(S82:AD82) -> 0
A84: Rendezvények | B84: 3000 | O84: =B84 -> 3000 | P84: =B84 -> 3000 | Q84: =B84 -> 3000
A86: Beruházások
A87: Csalogány
A88: Rumini Mária tér | B88: aut WC | C88: 50000 | AE88: =SUM(S88:AD88) -> 0
A89: Farnklin
A90: Donáti
A91: Mátyás Király
A92: PomPom Naphegy
A93: Vuk Bérc | B93: aut WC | C93: 50000
A94: Aladár
A95: Szaffi (új)
A96: Web kamera rendszer kiépítése ( 8x2 db) | B96: 4000 | O96: =B96 -> 4000 | P96: =B96 -> 4000 | Q96: =C96 -> 0 | AE96: =R96 -> 0 | AF96: =R96 -> 0 | AG96: =S96 -> 0
A97: Sportpályák fenntartása | Q97: =SUM(Q98:Q99) -> 4000
A98: Európa liget | B98: 5000 | O98: =$B$98 -> 5000 | P98: 3500 | Q98: 2000
A99: Váralja utca | B99: 5000 | O99: =$B$99 -> 5000 | P99: 3500 | Q99: 2000
A100: Összesen: | C100: =SUM(C3:C82) -> 3704.7421 | D100: =SUM(D3:D82) -> 3114.7421 | E100: =SUM(E3:E82) -> 3127.2421 | F100: =SUM(F3:F82) -> 3054.7421 | G100: =SUM(G3:G82) -> 3414.7421 | H100: =SUM(H3:H82) -> 2914.7422 | I100: =SUM(I3:I82) -> 3204.7421 | J100: =SUM(J3:J82) -> 2939.7422 | ... N100: =SUM(N3:N82) -> 3114.7421 | O100: =SUM(O3:O99) -> 92104.406 | P100: =SUM(P3:P99) -> 80309.406 | Q100: =SUM(Q3,Q27,Q34,Q35,Q45,Q73,Q84,Q97) -> 55709.406 | S100: =SUM(S3:S82) -> 0 | T100: =SUM(T3:T82) -> 0 | U100: =SUM(U3:U82) -> 0 | V100: =SUM(V3:V82) -> 0 | W100: =SUM(W3:W82) -> 0 | X100: =SUM(X3:X82) -> 0 | Y100: =SUM(Y3:Y82) -> 0 | Z100: =SUM(Z3:Z82) -> 0 | ... AD100: =SUM(AD3:AD82) -> 0 | AE100: =SUM(AE3:AE99) -> 0 | AF100: =SUM(AF3:AF99) -> 0 | AG100: =SUM(AG3:AG99) -> 0

Sheet I. terv 2019
A1: Költség elem | C1: 2019 | D1: terv | O1: A össz | P1: B össz | Q1: C össz | R1: tény | S1: tény | AE1: A össz | AF1: B össz | AG1: C össz
C2: jan | D2: febr | E2: márc | F2: ápr | G2: máj | H2: jún | I2: júl | J2: aug | K2: szep | L2: okt | M2: nov | N2: dec | O2: teljes | P2: min | Q2: min | S2: jan | T2: febr | U2: márc | V2: ápr | W2: máj | X2: jún | Y2: júl | Z2: aug | AA2: szep | AB2: okt | AC2: nov | AD2: dec | AE2: teljes | AF2: min | AG2: min
A3: Javítások
A4: Csalogány | O4: =SUM(C4:N4) -> 0 | P4: =SUM(C4:N4) -> 0 | Q4: =SUM(C4:N4) -> 0 | AE4: =SUM(S4:AD4) -> 0 | AF4: =SUM(S4:AD4) -> 0 | AG4: =SUM(S4:AD4) -> 0
A5: Rumini Mária tér | O5: =SUM(C5:N5) -> 0 | P5: =SUM(C5:N5) -> 0 | Q5: =SUM(C5:N5) -> 0 | AE5: =SUM(S5:AD5) -> 0 | AF5: =SUM(S5:AD5) -> 0 | AG5: =SUM(S5:AD5) -> 0
A6: Farnklin | O6: =SUM(C6:N6) -> 0 | P6: =SUM(C6:N6) -> 0 | Q6: =SUM(C6:N6) -> 0 | AE6: =SUM(S6:AD6) -> 0 | AF6: =SUM(S6:AD6) -> 0 | AG6: =SUM(S6:AD6) -> 0
A7: Donáti | O7: =SUM(C7:N7) -> 0 | P7: =SUM(C7:N7) -> 0 | Q7: =SUM(C7:N7) -> 0 | AE7: =SUM(S7:AD7) -> 0 | AF7: =SUM(S7:AD7) -> 0 | AG7: =SUM(S7:AD7) -> 0
A8: Mátyás Király | O8: =SUM(C8:N8) -> 0 | P8: =SUM(C8:N8) -> 0 | Q8: =SUM(C8:N8) -> 0 | AE8: =SUM(S8:AD8) -> 0 | AF8: =SUM(S8:AD8) -> 0 | AG8: =SUM(S8:AD8) -> 0
A9: PomPom Naphegy | O9: =SUM(C9:N9) -> 0 | P9: =SUM(C9:N9) -> 0 | Q9: =SUM(C9:N9) -> 0 | AE9: =SUM(S9:AD9) -> 0 | AF9: =SUM(S9:AD9) -> 0 | AG9: =SUM(S9:AD9) -> 0
A10: Vuk Bérc | O10: =SUM(C10:N10) -> 0 | P10: =SUM(C10:N10) -> 0 | Q10: =SUM(C10:N10) -> 0 | AE10: =SUM(S10:AD10) -> 0 | AF10: =SUM(S10:AD10) -> 0 | AG10: =SUM(S10:AD10) -> 0
A11: Aladár | O11: =SUM(C11:N11) -> 0 | P11: =SUM(C11:N11) -> 0 | Q11: =SUM(C11:N11) -> 0 | AE11: =SUM(S11:AD11) -> 0 | AF11: =SUM(S11:AD11) -> 0 | AG11: =SUM(S11:AD11) -> 0
A12: Általános javítás (idegen) | C12: 200 | E12: 200 | G12: 200 | I12: 200 | K12: 200 | M12: 200 | O12: =SUM(C12:N12) -> 1200 | P12: =SUM(C12:N12) -> 1200 | Q12: =SUM(C12:N12) -> 1200 | AE12: =SUM(S12:AD12) -> 0 | AF12: =SUM(S12:AD12) -> 0 | AG12: =SUM(S12:AD12) -> 0
A13: Általános javítás (saját) | C13: 50 | F13: 50 | I13: 50 | L13: 50 | O13: =SUM(C13:N13) -> 200 | P13: =SUM(C13:N13) -> 200 | Q13: =SUM(C13:N13) -> 200 | AE13: =SUM(S13:AD13) -> 0 | AF13: =SUM(S13:AD13) -> 0 | AG13: =SUM(S13:AD13) -> 0
Q14: =SUM(C14:N14) -> 0 | AG14: =SUM(S14:AD14) -> 0
A15: Játszóterek takarítása, szemét le 8 db | Q15: =SUM(C15:N15) -> 0 | AE15: =SUM(S15:AD15) -> 0 | AF15: =SUM(S15:AD15) -> 0 | AG15: =SUM(S15:AD15) -> 0
A16: (FKF Zrt, szemetes zsákok, stb.) | C16: 70 | D16: 70 | E16: 70 | F16: 70 | G16: 70 | H16: 70 | I16: 70 | J16: 70 | K16: 70 | L16: 70 | M16: 70 | N16: 70 | O16: =SUM(C16:N16) -> 840 | P16: =SUM(C16:N16) -> 840 | Q16: =SUM(C16:N16) -> 840
A17: vásárolt szolgáltatás (lomb-, hóeltakarítéás, csúszás ment) | C17: 300 | D17: 300 | M17: 300 | N17: 300 | O17: =SUM(C17:N17) -> 1200 | P17: =SUM(C17:N17) -> 1200 | Q17: =SUM(C17:N17) -> 1200
A19: Zöld területek fenntartása | E19: 100 | F19: 100 | G19: 100 | H19: 100 | I19: 100 | J19: 100 | K19: 100 | L19: 100 | O19: =SUM(C19:N19) -> 800 | P19: =SUM(C19:N19) -> 800 | Q19: =SUM(C19:N19) -> 800 | AE19: =SUM(S19:AD19) -> 0 | AF19: =SUM(S19:AD19) -> 0 | AG19: =SUM(S19:AD19) -> 0
A20: öntözések
A21: füvesítés, fák, bokrok cserjék újítása (Vuk)
A22: permetezés
A23: környezetterhelési díj
A24: közművek
A25: száradások, viharok okzta károk elhárítása
A26: zöld hulladék elszállítás (zsák)
A27: Jogszerű működés feltételeihez
A28: esedékes szabványossági (megfelelőségi) vizsg | O28: =B28 -> 0 | P28: =B28 -> 0 | Q28: =B28 -> 0 | AE28: =R28 -> 0 | AF28: =R28 -> 0 | AG28: =R28 -> 0
A29: éves felülvizsgálatok, javítások 8db | B29: 100 | O29: =B29 -> 100 | P29: =B29 -> 100 | Q29: =B29 -> 100 | AE29: =R29 -> 0 | AF29: =S29 -> 0 | AG29: =T29 -> 0
A30: karbantartási kötelezettségek 8 db | O30: =B30 -> 0 | P30: =C30 -> 0 | Q30: =D30 -> 0 | AE30: =R30 -> 0 | AF30: =S30 -> 0 | AG30: =T30 -> 0
A31: Parkok nyitás zárása | B31: 60 | C31: 60 | D31: 60 | E31: 60 | F31: 60 | G31: 60 | H31: 60 | I31: 60 | J31: 60 | K31: 60 | L31: 60 | M31: 60 | N31: 60 | O31: =SUM(C31:N31) -> 720 | P31: =SUM(C31:N31) -> 720 | Q31: =SUM(C31:N31) -> 720 | AE31: =SUM(S31:AD31) -> 0 | AF31: =SUM(S31:AD31) -> 0 | AG31: =SUM(S31:AD31) -> 0
A32: FESZ EÜ vizsgálat | E32: 12.5 | J32: 25 | O32: =SUM(D32:N32) -> 37.5 | P32: =SUM(C32:N32) -> 37.5 | Q32: =SUM(C32:N32) -> 37.5 | AE32: =SUM(T32:AD32) -> 0 | AF32: =SUM(S32:AD32) -> 0 | AG32: =SUM(S32:AD32) -> 0
A33: védőruházat védőfelszerelés | F33: 50 | O33: =SUM(D33:N33) -> 50 | P33: =SUM(C33:N33) -> 50 | Q33: =SUM(C33:N33) -> 50 | AE33: =SUM(T33:AD33) -> 0 | AF33: =SUM(S33:AD33) -> 0 | AG33: =SUM(S33:AD33) -> 0
A34: Alkalmi ráfordítások
A35: Játszóterek egyszeri teljes körű szbv. Jav. 2019 | O35: ='2019 játszóterek'!E157/1000 -> 34980 | P35: ='2019 játszóterek'!F157/1000 -> 26635 | Q35: ='2019 játszóterek'!G157/1000 -> 9035 | AE35: ='[4]elvégzendő munkálatok 2017'!U161/1000 -> 0 | AF35: ='[4]elvégzendő munkálatok 2017'!V161/1000 -> 0 | AG35: ='[4]elvégzendő munkálatok 2017'!W161/1000 -> 0
A36: Tájékoztató táblák, felíratok | B36: 100 | O36: =B36 -> 100 | P36: =B36 -> 100 | Q36: =B36 -> 100 | AE36: =R36 -> 0 | AF36: =R36 -> 0 | AG36: =R36 -> 0
O37: =B37 -> 0 | P37: =B37 -> 0 | Q37: =B37 -> 0 | AE37: =R37 -> 0 | AF37: =R37 -> 0 | AG37: =R37 -> 0
A38: Honlap karbantartás, megújítás | B38: 100 | O38: =B38 -> 100 | P38: =B38 -> 100 | Q38: =B38 -> 100 | AE38: =R38 -> 0 | AF38: =R38 -> 0 | AG38: =R38 -> 0
A39: Havaria | C39: 300 | G39: 300 | K39: 300 | O39: =SUM(C39:N39) -> 900 | P39: =SUM(C39:N39)/2 -> 450 | Q39: =SUM(C39:N39)/2 -> 450 | AE39: =SUM(S39:AD39) -> 0 | AF39: =SUM(S39:AD39)/2 -> 0 | AG39: =SUM(S39:AD39) -> 0
A40: infromatikai | C40: 20 | F40: 20 | I40: 20 | L40: 20 | O40: =SUM(C40:N40) -> 80 | P40: =SUM(C40:N40) -> 80 | Q40: =SUM(C40:N40) -> 80 | AE40: =SUM(S40:AD40) -> 0 | AF40: =SUM(S40:AD40) -> 0 | AG40: =SUM(S40:AD40) -> 0
A41: cég működés járulékos(iroda, védőital,fénym.stb.) | C41: 20 | F41: 20 | I41: 20 | L41: 20 | O41: =SUM(C41:N41) -> 80 | P41: =SUM(C41:N41) -> 80 | Q41: =SUM(C41:N41) -> 80 | AE41: =SUM(S41:AD41) -> 0 | AF41: =SUM(S41:AD41) -> 0 | AG41: =SUM(S41:AD41) -> 0
A42: Egyéb (parkolás,illeték bélyeg,posta stb.) | C42: 5 | D42: 5 | E42: 5 | F42: 5 | G42: 5 | H42: 5 | I42: 5 | J42: 5 | K42: 5 | L42: 5 | M42: 5 | N42: 5 | O42: =SUM(C42:N42) -> 60 | P42: =SUM(C42:N42) -> 60 | Q42: =SUM(C42:N42) -> 60 | AE42: =SUM(S42:AD42) -> 0 | AF42: =SUM(S42:AD42) -> 0 | AG42: =SUM(S42:AD42) -> 0
A43: Ünnepi díszkivilágítások | B43: 1500 | O43: 1500 | P43: 1500 | Q43: 1500
A45: Személyi költségek
A46: Ügyvezető | B46: 510
A47: alap | C47: =$B$46 -> 510 | D47: =$B$46 -> 510 | E47: =$B$46 -> 510 | F47: =$B$46 -> 510 | G47: =$B$46 -> 510 | H47: =$B$46 -> 510 | I47: =$B$46 -> 510 | J47: =$B$46 -> 510 | ... N47: =$B$46 -> 510 | O47: =SUM(C47:N47) -> 6120 | P47: =SUM(C47:N47) -> 6120 | Q47: =SUM(C47:N47) -> 6120 | AE47: =SUM(S47:AD47) -> 0 | AF47: =SUM(S47:AD47) -> 0 | AG47: =SUM(S47:AD47) -> 0
A48: járulékok | C48: =C47*0.235 -> 119.85 | D48: =D47*0.235 -> 119.85 | E48: =E47*0.235 -> 119.85 | F48: =F47*0.235 -> 119.85 | G48: =G47*0.235 -> 119.85 | H48: =H47*0.235 -> 119.85 | I48: =I47*0.235 -> 119.85 | J48: =J47*0.235 -> 119.85 | ... N48: =N47*0.235 -> 119.85 | O48: =SUM(C48:N48) -> 1438.2 | P48: =SUM(C48:N48) -> 1438.2 | Q48: =SUM(C48:N48) -> 1438.2 | AE48: =SUM(S48:AD48) -> 0 | AF48: =SUM(S48:AD48) -> 0 | AG48: =SUM(S48:AD48) -> 0
Q49: =SUM(C49:N49) -> 0 | AG49: =SUM(S49:AD49) -> 0
A50: Munkatárs | B50: 408 | Q50: =SUM(C50:N50) -> 0 | AG50: =SUM(S50:AD50) -> 0
A51: alap | C51: =$B$50 -> 408 | D51: =$B$50 -> 408 | E51: =$B$50 -> 408 | F51: =$B$50 -> 408 | G51: =$B$50 -> 408 | H51: =$B$50 -> 408 | I51: =$B$50 -> 408 | J51: =$B$50 -> 408 | ... N51: =$B$50 -> 408 | O51: =SUM(C51:N51) -> 4896 | P51: =SUM(C51:N51) -> 4896 | Q51: =SUM(C51:N51) -> 4896 | AE51: =SUM(S51:AD51) -> 0 | AF51: =SUM(S51:AD51) -> 0 | AG51: =SUM(S51:AD51) -> 0
A52: járulékok | C52: =C51*0.235 -> 95.88 | D52: =D51*0.235 -> 95.88 | E52: =E51*0.235 -> 95.88 | F52: =F51*0.235 -> 95.88 | G52: =G51*0.235 -> 95.88 | H52: =H51*0.235 -> 95.88 | I52: =I51*0.235 -> 95.88 | J52: =J51*0.235 -> 95.88 | ... N52: =N51*0.235 -> 95.88 | O52: =SUM(C52:N52) -> 1150.56 | P52: =SUM(C52:N52) -> 1150.56 | Q52: =SUM(C52:N52) -> 1150.56 | AE52: =SUM(S52:AD52) -> 0 | AF52: =SUM(S52:AD52) -> 0 | AG52: =SUM(S52:AD52) -> 0
Q53: =SUM(C53:N53) -> 0 | AG53: =SUM(S53:AD53) -> 0
A54: Játszótér ellenőr | B54: 214 | Q54: =SUM(C54:N54) -> 0 | AG54: =SUM(S54:AD54) -> 0
A55: alap | C55: 163 | D55: 163 | E55: 163 | F55: 163 | G55: 163 | H55: 163 | I55: 163 | J55: 163 | K55: 163 | L55: 163 | M55: 163 | N55: 163 | O55: =SUM(C55:N55) -> 1956 | P55: =SUM(C55:N55) -> 1956 | Q55: =SUM(C55:N55) -> 1956 | AE55: =SUM(S55:AD55) -> 0 | AF55: =SUM(S55:AD55) -> 0 | AG55: =SUM(S55:AD55) -> 0
A56: járulékok | C56: =C55*0.235 -> 38.305 | D56: =D55*0.235 -> 38.305 | E56: =E55*0.235 -> 38.305 | F56: =F55*0.235 -> 38.305 | G56: =G55*0.235 -> 38.305 | H56: =H55*0.235 -> 38.305 | I56: =I55*0.235 -> 38.305 | J56: =J55*0.235 -> 38.305 | ... N56: =N55*0.235 -> 38.305 | O56: =SUM(C56:N56) -> 459.66 | P56: =SUM(C56:N56) -> 459.66 | Q56: =SUM(C56:N56) -> 459.66 | AE56: =SUM(S56:AD56) -> 0 | AF56: =SUM(S56:AD56) -> 0 | AG56: =SUM(S56:AD56) -> 0
A58: Játszótér takarítók (2 fő) | B58: 214
A59: alap | C59: =$B$58*2 -> 428 | D59: =$B$58*2 -> 428 | E59: =$B$58*2 -> 428 | F59: =$B$58*2 -> 428 | G59: =$B$58*2 -> 428 | H59: =$B$58*2 -> 428 | I59: =$B$58*2 -> 428 | J59: =$B$58*2 -> 428 | ... N59: =$B$58*2 -> 428 | O59: =SUM(C59:N59) -> 5136 | P59: =SUM(C59:N59) -> 5136 | Q59: =SUM(C59:N59) -> 5136
A60: járulékok | C60: =C59*0.235 -> 100.58 | D60: =D59*0.235 -> 100.58 | E60: =E59*0.235 -> 100.58 | F60: =F59*0.235 -> 100.58 | G60: =G59*0.235 -> 100.58 | H60: =H59*0.235 -> 100.58 | I60: =I59*0.235 -> 100.58 | J60: =J59*0.235 -> 100.58 | ... N60: =N59*0.235 -> 100.58 | O60: =SUM(C60:N60) -> 1206.96 | P60: =SUM(C60:N60) -> 1206.96 | Q60: =SUM(C60:N60) -> 1206.96
A62: Játszótér karbantartó | B62: 214
A63: alap | C63: =$B$62 -> 214 | D63: =$B$62 -> 214 | E63: =$B$62 -> 214 | F63: =$B$62 -> 214 | G63: =$B$62 -> 214 | H63: =$B$62 -> 214 | I63: =$B$62 -> 214 | J63: =$B$62 -> 214 | ... N63: =$B$62 -> 214 | O63: =SUM(C63:N63) -> 2568 | P63: =SUM(C63:N63) -> 2568 | Q63: =SUM(C63:N63) -> 2568
A64: járulékok | C64: =C63*0.235 -> 50.29 | D64: =D63*0.235 -> 50.29 | E64: =E63*0.235 -> 50.29 | F64: =F63*0.235 -> 50.29 | G64: =G63*0.235 -> 50.29 | H64: =H63*0.235 -> 50.29 | I64: =I63*0.235 -> 50.29 | J64: =J63*0.235 -> 50.29 | ... N64: =N63*0.235 -> 50.29 | O64: =SUM(C64:N64) -> 603.48 | P64: =SUM(C64:N64) -> 603.48 | Q64: =SUM(C64:N64) -> 603.48
O65: =SUM(C65:N65) -> 0 | P65: =SUM(C65:N65) -> 0 | Q65: =SUM(C65:N65) -> 0 | AE65: =SUM(S65:AD65) -> 0 | AF65: =SUM(S65:AD65) -> 0 | AG65: =SUM(S65:AD65) -> 0
A66: FEB tagok tisztelet díja (40-40-70 eFt/hó) | C66: 150 | D66: 150 | E66: 150 | F66: 150 | G66: 150 | H66: 150 | I66: 150 | J66: 150 | K66: 150 | L66: 150 | M66: 150 | N66: 150 | O66: =SUM(C66:N66) -> 1800 | P66: =SUM(C66:N66) -> 1800 | Q66: =SUM(C66:N66) -> 1800 | AE66: =SUM(S66:AD66) -> 0 | AF66: =SUM(S66:AD66) -> 0 | AG66: =SUM(S66:AD66) -> 0
A67: FEB taszteletdíj járulékai | C67: 40 | D67: 40 | E67: 40 | F67: 40 | G67: 40 | H67: 40 | I67: 40 | J67: 40 | K67: 40 | L67: 40 | M67: 40 | N67: 40 | O67: =SUM(C67:N67) -> 480 | P67: =SUM(C67:N67) -> 480 | Q67: =SUM(C67:N67) -> 480
Q68: =SUM(C68:N68) -> 0 | AG68: =SUM(S68:AD68) -> 0
A69: nyugdíj pénztár munkált (5%) | C69: =((C47+C51+C55+C59+C63)*0.03)*1.235 -> 63.83715 | D69: =$C$69 -> 63.83715 | E69: =$C$69 -> 63.83715 | F69: =$C$69 -> 63.83715 | G69: =$C$69 -> 63.83715 | H69: =$C$69 -> 63.83715 | I69: =$C$69 -> 63.83715 | J69: =$C$69 -> 63.83715 | K69: =$C$69 -> 63.83715 | ... N69: =$C$69 -> 63.83715 | O69: =SUM($C$69:$N$69) -> 766.0458 | P69: =SUM($C$69:$N$69) -> 766.0458 | Q69: =SUM($C$69:$N$69) -> 766.0458 | AE69: =SUM(S69:AD69) -> 0 | AF69: =SUM(T69:AE69) -> 0 | AG69: =SUM(U69:AF69) -> 0
A70: Erzsébet út (8000Ft) 6fő | C70: 48 | D70: 48 | E70: 48 | F70: 48 | G70: 48 | H70: 48 | I70: 48 | J70: 48 | K70: 48 | L70: 48 | M70: 48 | N70: 48 | O70: =SUM(C70:N70) -> 576 | P70: =SUM(C70:N70) -> 576 | Q70: =SUM(C70:N70) -> 576 | AE70: =SUM(S70:AD70) -> 0 | AF70: =SUM(S70:AD70) -> 0 | AG70: =SUM(S70:AD70) -> 0
A71: munkábajárás | O71: =SUM(C71:N71) -> 0 | P71: =SUM(C71:N71) -> 0 | Q71: =SUM(C71:N71) -> 0 | AE71: =SUM(S71:AD71) -> 0 | AF71: =SUM(S71:AD71) -> 0 | AG71: =SUM(S71:AD71) -> 0
A72: hivatali célú gépjármű haszn | C72: 25 | D72: 25 | E72: 25 | F72: 25 | G72: 25 | H72: 25 | I72: 25 | J72: 25 | K72: 25 | L72: 25 | M72: 25 | N72: 25 | O72: =SUM(C72:N72) -> 300 | P72: =SUM(C72:N72) -> 300 | Q72: =SUM(C72:N72) -> 300
A73: Állandó költségek
A74: víz,csatorna | C74: 5 | D74: 5 | E74: 5 | F74: 5 | G74: 5 | H74: 5 | I74: 5 | J74: 5 | K74: 5 | L74: 5 | M74: 5 | N74: 5 | O74: =SUM(C74:N74) -> 60 | P74: =SUM(C74:N74) -> 60 | Q74: =SUM(C74:N74) -> 60 | AE74: =SUM(S74:AD74) -> 0 | AF74: =SUM(S74:AD74) -> 0 | AG74: =SUM(S74:AD74) -> 0
A75: villany | C75: 10 | D75: 10 | E75: 10 | F75: 10 | G75: 10 | H75: 10 | I75: 10 | J75: 10 | K75: 10 | L75: 10 | M75: 10 | N75: 10 | O75: =SUM(C75:N75) -> 120 | P75: =SUM(C75:N75) -> 120 | Q75: =SUM(C75:N75) -> 120 | AE75: =SUM(S75:AD75) -> 0 | AF75: =SUM(S75:AD75) -> 0 | AG75: =SUM(S75:AD75) -> 0
A76: fűtés | C76: 30 | D76: 30 | E76: 30 | F76: 30 | G76: 30 | H76: 30 | I76: 30 | J76: 30 | K76: 30 | L76: 30 | M76: 30 | N76: 30 | O76: =SUM(C76:N76) -> 360 | P76: =SUM(C76:N76) -> 360 | Q76: =SUM(C76:N76) -> 360 | AE76: =SUM(S76:AD76) -> 0 | AF76: =SUM(S76:AD76) -> 0 | AG76: =SUM(S76:AD76) -> 0
A77: szemét | C77: 3 | D77: 3 | E77: 3 | F77: 3 | G77: 3 | H77: 3 | I77: 3 | J77: 3 | K77: 3 | L77: 3 | M77: 3 | N77: 3 | O77: =SUM(C77:N77) -> 36 | P77: =SUM(C77:N77) -> 36 | Q77: =SUM(C77:N77) -> 36 | AE77: =SUM(S77:AD77) -> 0 | AF77: =SUM(S77:AD77) -> 0 | AG77: =SUM(S77:AD77) -> 0
A78: info kommunikáció adat (webcam, iroda, wifi,stb.) | C78: 50 | D78: 50 | E78: 50 | F78: 50 | G78: 50 | H78: 50 | I78: 50 | J78: 50 | K78: 50 | L78: 50 | M78: 50 | N78: 50 | O78: =SUM(C78:N78) -> 600 | P78: =SUM(C78:N78) -> 600 | Q78: =SUM(C78:N78) -> 600 | AE78: =SUM(S78:AD78) -> 0 | AF78: =SUM(S78:AD78) -> 0 | AG78: =SUM(S78:AD78) -> 0
A79: info supprot (rendszer) | C79: 50 | D79: 50 | E79: 50 | F79: 50 | G79: 50 | H79: 50 | I79: 50 | J79: 50 | K79: 50 | L79: 50 | M79: 50 | N79: 50 | O79: =SUM(C79:N79) -> 600 | P79: =SUM(C79:N79) -> 600 | Q79: =SUM(C79:N79) -> 600 | AE79: =SUM(S79:AD79) -> 0 | AF79: =SUM(S79:AD79) -> 0 | AG79: =SUM(S79:AD79) -> 0
A80: könyvelő | C80: 15 | D80: 15 | E80: 15 | F80: 15 | G80: 15 | H80: 15 | I80: 15 | J80: 15 | K80: 15 | L80: 15 | M80: 15 | N80: 15 | O80: =SUM(C80:N80) -> 180 | P80: =SUM(C80:N80) -> 180 | Q80: =SUM(C80:N80) -> 180 | AE80: =SUM(S80:AD80) -> 0 | AF80: =SUM(S80:AD80) -> 0 | AG80: =SUM(S80:AD80) -> 0
A81: iroda takarítás | C81: 20 | D81: 20 | E81: 20 | F81: 20 | G81: 20 | H81: 20 | I81: 20 | J81: 20 | K81: 20 | L81: 20 | M81: 20 | N81: 20 | O81: =SUM(C81:N81) -> 240 | P81: =SUM(C81:N81) -> 240 | Q81: =SUM(C81:N81) -> 240 | AE81: =SUM(S81:AD81) -> 0 | AF81: =SUM(S81:AD81) -> 0 | AG81: =SUM(S81:AD81) -> 0
A82: munkavégzéshez Bkv bérlet 4 fő | C82: 42 | D82: 42 | E82: 42 | F82: 42 | G82: 42 | H82: 42 | I82: 42 | J82: 42 | K82: 42 | L82: 42 | M82: 42 | N82: 42 | O82: =SUM(C82:N82) -> 504 | P82: =SUM(C82:N82) -> 504 | Q82: =SUM(C82:N82) -> 504 | AE82: =SUM(S82:AD82) -> 0 | AF82: =SUM(S82:AD82) -> 0 | AG82: =SUM(S82:AD82) -> 0
A84: Rendezvények | B84: 3000 | O84: =B84 -> 3000 | P84: =B84 -> 3000 | Q84: =B84 -> 3000
A86: Beruházások
A87: Csalogány
A88: Rumini Mária tér | B88: aut WC | C88: 50000 | AE88: =SUM(S88:AD88) -> 0
A89: Farnklin
A90: Donáti
A91: Mátyás Király
A92: PomPom Naphegy
A93: Vuk Bérc | B93: aut WC | C93: 50000
A94: Aladár
A95: Szaffi (új)
A96: Web kamera rendszer kiépítése ( 8x2 db) | B96: 4000 | O96: =B96 -> 4000 | P96: =B96 -> 4000 | Q96: =C96 -> 0 | AE96: =R96 -> 0 | AF96: =R96 -> 0 | AG96: =S96 -> 0
A97: Sportpályák
A98: Európa liget | B98: 5000 | O98: =$B$98 -> 5000 | P98: 3500 | Q98: 2000
A99: Váralja utca | B99: 5000 | O99: =$B$99 -> 5000 | P99: 3500 | Q99: 2000
A100: Összesen: | C100: =SUM(C3:C82) -> 3704.7421 | D100: =SUM(D3:D82) -> 3114.7421 | E100: =SUM(E3:E82) -> 3127.2421 | F100: =SUM(F3:F82) -> 3054.7421 | G100: =SUM(G3:G82) -> 3414.7421 | H100: =SUM(H3:H82) -> 2914.7422 | I100: =SUM(I3:I82) -> 3204.7421 | J100: =SUM(J3:J82) -> 2939.7422 | ... N100: =SUM(N3:N82) -> 3114.7421 | O100: =SUM(O3:O99) -> 92104.406 | P100: =SUM(P3:P99) -> 80309.406 | Q100: =SUM(Q3:Q99) -> 55709.406 | S100: =SUM(S3:S82) -> 0 | T100: =SUM(T3:T82) -> 0 | U100: =SUM(U3:U82) -> 0 | V100: =SUM(V3:V82) -> 0 | W100: =SUM(W3:W82) -> 0 | X100: =SUM(X3:X82) -> 0 | Y100: =SUM(Y3:Y82) -> 0 | Z100: =SUM(Z3:Z82) -> 0 | ... AD100: =SUM(AD3:AD82) -> 0 | AE100: =SUM(AE3:AE99) -> 0 | AF100: =SUM(AF3:AF99) -> 0 | AG100: =SUM(AG3:AG99) -> 0

Sheet 2019 játszóterek
A1: Eszköz sorszáma | B1: Játszóeszközök | C1: Tervezett feladatok | D1: (1,2,3) | E1: A Bruttó (anyag és munka) | F1: B Bruttó (anyag és munka) | G1: C Bruttó (anyag és munka) | H1: C Bruttó (saját munka)
A2: Játszótér neve: VUK | C2: Címe: 1016 Budapest, Szirtes út 22.-Bérc u. 25. | D2: Prioritás | E2: teljes (esztétiaki is) | F2: fontos (indokolt) | G2: minden képpen (elengedhetetlen) | H2: saját karbant.
A3: 1. | B3: Mászóvár csúszdával "Játszóváros" | C3: Általános karbantartás, íves feljárón a faelemek cseréje | D3: 1 | E3: 200000 | F3: 200000 | G3: 200000
A4: 2. | B4: Rókavár "Karak barlangja"
A5: 3. | B5: Alagútcsúszda 1.
A6: 4. | B6: Alagútcsúszda 2.
A7: 5. | B7: Homokozó és csúszda "Manóház" | C7: Homokcsere 12 m3 | D7: 1 | E7: 500000 | F7: 300000 | G7: 150000
A8: 6. | B8: Duplarugós mérleghinta | C8: Csavarmeghúzás, évente előforduló rugótörés miatt csere tervezése 2019-re is | D8: 1 | E8: 120000 | F8: 120000 | G8: 120000
A9: 7. | B9: Rugós játék - motor | C9: Csavarmeghúzás, rögzítés | D9: 1 | H9: 25000
A10: 8. | B10: Rugós lépegető | C10: Csavarmeghúzás, rögzítés | D10: 1 | H10: 25000
A11: 9. | B11: Kötélpálya | C11: Átalakítás a fa védelme érdekében, kötélzet védőburkolat csere | E11: 1500000 | F11: 1500000
A12: 10. | B12: Függőhíd "Kötélhíd" | C12: Elemek rögzítése | H12: 25000
A13: 12. | B13: Babaház előtérrel | C13: Általános karbantartás korhadt faelemek cseréje, tetőfedés javítása | H13: 75000
A14: 13. | B14: Hintaállvány két ülőkével | C14: Hintalánc és ülőkék cseréje (kopott ülőkék) | D14: 1 | E14: 150000 | F14: 150000 | G14: 150000
A15: 14. | B15: Hintaállvány két speciális bölcsőülőkével | C15: Csavarmeghúzás, rögzítés | D15: 1 | H15: 25000
A16: 15. | B16: Új fészekhinta | C16: Telepítése öntött ütéscsillapító gumiburkolattal | D16: 1 | E16: 2500000 | F16: 2500000
A17: 16. | C17: Ivókút karbantartása: nyitás-zárás, tisztítás, dugulás elhárítás. Automata öntözőrendszer beállítása, beüzemelése | D17: 1 | E17: 350000 | F17: 150000 | G17: 100000 | H17: 50000
A18: 17. | C18: Mulcsfeltöltés, kétregpótlás 150 l | D18: 1 | E18: 320000 | F18: 320000
A19: 18. | C19: Játszóeszközök védőmázolása | D19: 1 | E19: 300000 | F19: 300000 | G19: 200000 | H19: 100000
A20: 19. | C20: Tematikus matricák pótlása | D20: 1 | E20: 280000 | F20: 280000
A21: Összesen: | E21: =SUM(E3:E20) -> 6220000 | F21: =SUM(F3:F20) -> 5820000 | G21: =SUM(G3:G20) -> 920000 | H21: =SUM(H3:H20) -> 325000
A22: Játszótér neve: Pom-Pom | C22: Címe: 1016 Budapest, Naphegy tér | E22: Hrsz:7339/2
A23: 1. | B23: Piros forgóbogrács
A24: 2. | B24: Rugós játék 4 levelű lóhere | C24: Csavarmeghúzás, rögzítés | D24: 1 | H24: 25000
A25: 3. | B25: Beülős rugós játék | C25: Csavarmeghúzás, rögzítés | D25: 1 | H25: 25000
A26: 4. | B26: 2*2-es hintaállvány vegyes ülőkékkel | C26: Általános karbantartás, csavarmeghúzás, öntött gumi pótlása | D26: 1 | E26: 95000 | F26: 95000 | G26: 95000
A27: 5. | B27: Szabadon álló nagycsúszda | C27: Csavarmeghúzás, rögzítés | D27: 1 | H27: 25000
A28: 6. | B28: Vonat | C28: Általános karbantartás | D28: 1 | H28: 25000
A29: 7. | B29: Sivatag hajója | C29: Általános karbantartás, csavarmeghúzás, ujjbeszorulást megakadályozó elemek pótlása, korlát hegesztése, járódeszkák cseréje | D29: 1 | E29: 195000 | F29: 195000 | G29: 195000
A30: 8. | B30: Sárga forgóbogrács
A31: 9. | B31: Szabadon álló kiscsúszda | C31: Csavarmeghúzás, rögzítés | D31: 1 | H31: 25000
A32: 10. | B32: Rugós játék - kakas | C32: Csavarmeghúzás, rögzítés | D32: 1 | H32: 25000
A33: 11. | B33: Rugós játék - motor | C33: Csavarmeghúzás, rögzítés | D33: 1 | H33: 25000
A34: 12. | B34: Hálós függeszkedő kombinált mászóka | C34: Általános karbantartás, csavarmeghúzás | H34: 50000
A35: 13. | B35: Homokozó | C35: Homokcsere 8 m3 | D35: 1 | E35: 335000 | F35: 150000 | G35: 150000
A36: 14. | B36: Gombóc Artúr háza | C36: Általános karbantartás, szükség szerinti villanyszerelés | D36: 1 | E36: 80000 | H36: 40000
A37: 15. | B37: Madárvédő Golyókapkodó háza | C37: Általános karbantartás, ülőpadok faalkatrészének cseréje, szükség szerinti villanyszerelés | D37: 1 | E37: 80000 | H37: 40000
A38: 16. | B38: Hapci Benő háza | C38: Általános karbantartás, ülőpadok faalkatrészének cseréje, szükség szerinti villanyszerelés | D38: 1 | E38: 80000 | H38: 40000
A39: 17. | B39: Órás hirdetőoszlop | C39: Általános karbantartás, órajavítás | E39: 650000 | F39: 500000
C40: Ütéscsillapító burkolat, talajtakaró feltöltés 2-8 mm közötti idegen anyagtól mentes kavics feltöltés | E40: 100000 | F40: 100000
C41: Játszóeszközök védőmázolása | D41: 1 | E41: 400000 | F41: 400000 | G41: 200000 | H41: 200000
C42: Bejárati kapuk javítása | D42: 1 | E42: 200000 | G42: 100000 | H42: 100000
C43: Ivókút karbantartása: nyitás-zárás, tisztítás, dugulás elhárítás | D43: 1 | E43: 280000 | F43: 280000 | H43: 280000
A44: Összesen: | E44: =SUM(E23:E43) -> 2495000 | F44: =SUM(F23:F43) -> 1720000 | G44: =SUM(G23:G43) -> 740000 | H44: =SUM(H23:H43) -> 925000
A45: Játszótér neve: Mátyás Király Játszópark | C45: Címe: 1014 Budapest, Tárnok u. 9. | E45: Hrsz:6527/2
A46: 1. | B46: "Mátyás király vára" játszópavilon-óriásvár | C46: Általános éves karbantartás, esztétikai szintentartás, javítás, helyreállítás, bástya átépítés | D46: 1 | E46: 2000000 | F46: 2000000 | G46: 1500000 | H46: 500000
A47: 2. | B47: Rugós lépegető | C47: Csavarmeghúzás, rögzítés | D47: 1 | H47: 25000
A48: 3. | B48: Hintaállvány két ülőkével I. | C48: Csavarmeghúzás, rögzítés | D48: 1 | H48: 25000
A49: 4. | B49: Hintaállvány két ülőkével II. | C49: Csavarmeghúzás, rögzítés | D49: 1 | H49: 25000
A50: 5. | B50: Homokozó | C50: Homokcsere 8 m3 (teherfelvonóval) | D50: 1 | E50: 550000 | F50: 350000 | G50: 150000
C51: Homokozó játék asztalka telepítése | E51: 380000
A52: 6. | B52: Kéttornyú kombinált vár csúszdával, hintával | C52: Általános éves karbantartás, esztétikai szintentartás, javítás, helyreállítás | D52: 1 | E52: 150000 | H52: 100000
B53: Általános | C53: Ivókút karbantartása: nyitás-zárás, tisztítás, dugulás elhárítás | D53: 1 | E53: 280000 | F53: 280000 | H53: 280000
C54: Párakapu karbantartása | D54: 1 | E54: 50000 | F54: 50000 | G54: 50000
C55: Játszóeszközök védőmázolása | D55: 1 | E55: 550000 | F55: 550000 | G55: 250000 | H55: 300000
C56: Megrongálódott tematikus matricák pótlása | D56: 1 | E56: 200000 | F56: 200000
A57: Összesen: | E57: =SUM(E46:E56) -> 4160000 | F57: =SUM(F46:F56) -> 3430000 | G57: =SUM(G46:G56) -> 1950000 | H57: =SUM(H46:H56) -> 1255000
A58: Játszótér neve: Rumini | C58: Címe: 1011 Budapest, Mária tér | E58: Hrsz:14098/1/2/3
A59: 1. | B59: "Egérváros" óriás játszóvár | C59: Általános éves karbantartás, esztétikai szintentartás, javítás, helyreállítás. Meglévő padlódeszka cseréje, tartós akác deszkázatra | D59: 1 | E59: 1800000 | F59: 1800000 | G59: 1000000 | H59: 800000
A60: 2. | B60: Hintaállvány laphintával | C60: Csavarmeghúzás, rögzítés | D60: 1 | H60: 25000
A61: 3. | B61: Homokozó 1 | C61: Homokcsere 5 m3, Homokozó faszegély cseréje | D61: 1 | E61: 310000 | F61: 150000
A62: 4. | B62: Beülős rugós játék | C62: Csavarmeghúzás, rögzítés | D62: 1 | H62: 25000
A63: 5. | B63: Homokozó-óriáskerék-vonat-forgatós memória játék kombináció | C63: Homokcsere 5 m3. Homokozót szegélyező gerendák cseréje | D63: 1 | E63: 310000 | F63: 150000 | G63: 100000 | H63: 50000
A64: 6. | B64: "Pókháló" Kötélmászóka | C64: Csavarmeghúzás, rögzítés | D64: 1 | H64: 25000
A65: 7. | B65: Duplarugós mérleghinta "Albatrosz" | C65: Csavarmeghúzás, rögzítés | D65: 1 | H65: 25000
A66: 8. | B66: Többfunkciós mászóka "Szíriusz" | C66: Csavarmeghúzás, rögzítés | D66: 1 | H66: 60000
A67: 9. | B67: Hajó "Uniplay Keszthely" | C67: Általános karbantartás, esztétikai szintentartás, egyedi fafaragással készített hajóorr karbantartása | D67: 1 | E67: 250000 | F67: 250000 | G67: 250000
A68: 10. | B68: Labirintus kuckókkal "Unimini Pyralli" | C68: Csavarmeghúzás, rögzítés | D68: 1 | H68: 25000
A69: 11. | B69: Forgatható iránytű | C69: Általános karbantartás, esztétikai szintentartás | D69: 1 | E69: 50000 | F69: 50000 | G69: 50000
A70: 12. | B70: Hintaállvány két ülőkével "Swing Goro" | C70: Csavarmeghúzás, rögzítés | D70: 1 | H70: 25000
A71: 13. | B71: Fészekhinta | C71: Csavarmeghúzás, rögzítés, általános karbantartás, olajozás | D71: 1 | E71: 50000 | F71: 50000 | H71: 50000
A72: 14. | B72: Minibárka I. | C72: Korhadás miatt új felépítmény készítése | D72: 1 | E72: 150000 | F72: 150000 | G72: 150000
A73: 15. | B73: Minibárka II. | C73: Általános karbantartás, esztétikai szintentartás | D73: 1 | E73: 25000 | F73: 25000 | G73: 25000
A74: 16. | B74: Minibárka III. | C74: Általános karbantartás, esztétikai szintentartás | D74: 1 | E74: 25000 | F74: 25000 | G74: 25000
A75: 17. | B75: Minibárka IV. | C75: Általános karbantartás, esztétikai szintentartás | D75: 1 | E75: 25000 | F75: 25000 | G75: 25000
A76: 18. | B76: Horgony ülőke | C76: Általános karbantartás, esztétikai szintentartás | D76: 1 | E76: 25000 | F76: 25000 | G76: 25000
A77: 19. | B77: Hordó kilátó | C77: Általános karbantartás, esztétikai szintentartás | D77: 1 | E77: 25000 | F77: 25000 | G77: 25000
C78: Hajó alatti terület feltöltése o,2-2 mm szemcsenagyság közötti folyami homokkal ütéscsillapítás céljából 6 m3 | D78: 1 | E78: 220000 | F78: 150000 | G78: 150000
C79: Játszóeszközök védőmázolása | D79: 1 | E79: 520000 | F79: 520000 | G79: 300000 | H79: 220000
C80: Labirintus játék köré, valamint óriásvár mögötti területen mulcsfeltöltés pótlása 130 l | D80: 1 | E80: 280000 | F80: 150000
C81: Stabilizált kavicsburkolat kialakítása hajó feletti és horgony körüli területeken | E81: 900000 | F81: 900000
C82: Hinták alatti kopott gumiburkolat felújítása | E82: 800000 | F82: 800000
C83: Ivókút karbantartása: nyitás-zárás, tisztítás, dugulás elhárítás | D83: 1 | E83: 280000 | F83: 280000 | G83: 100000 | H83: 180000
A84: Összesen: | E84: =SUM(E59:E83) -> 6045000 | F84: =SUM(F59:F83) -> 5525000 | G84: =SUM(G59:G83) -> 2225000 | H84: =SUM(H59:H83) -> 1510000
A85: Játszótér neve: Franklin | C85: Címe: 1015 Budapest, Franklin u. 1. | E85: Hrsz:14111/7
A86: 1. | B86: Egyensúlyozó kombináció "klub sarok" Kompan | C86: Csavarmeghúzás, rögzítés. Egyes kopott faalkatrészek cseréje | D86: 1 | E86: 125000 | F86: 125000 | G86: 125000
A87: 2. | B87: Függeszkedő emelvénnyel "trapéz" | C87: Csavarmeghúzás, rögzítés. Egyes kopott faalkatrészek cseréje | D87: 1 | E87: 45000 | F87: 45000 | G87: 45000
A88: 3. | B88: Kombinált mászóka "Mászófal" | C88: Csavarmeghúzás, rögzítés. Egyes kopott faalkatrészek cseréje | D88: 1 | E88: 125000 | F88: 125000 | G88: 125000
A89: 4. | B89: Emelvények álló hintával "Si-szving" | C89: Csavarmeghúzás, rögzítés. Egyes kopott faalkatrészek cseréje | D89: 1 | E89: 50000 | F89: 50000 | G89: 50000
A90: 5. | B90: Spica 1 | E90: 0
A91: 6. | B91: Spica 2 | E91: 0
A92: 7. | B92: Spica 3 | E92: 0
A93: 8. | B93: Kuckó "Mágikus házikó" | C93: Csavarmeghúzás, rögzítés | D93: 1 | H93: 25000
A94: 9. | B94: Szabadon álló csúszda "Minifánt" | C94: Csavarmeghúzás, rögzítés | D94: 1 | H94: 25000
A95: 10. | B95: Békás duplarugós mérleghinta | C95: Csavarmeghúzás, rögzítés. Gumitégla/öntött gumi telepítése a játék köré | D95: 1 | E95: 300000 | F95: 300000 | G95: 300000
A96: 11. | B96: Rugós játék 4 levelű lóhere | C96: Csavarmeghúzás, rögzítés | D96: 1 | H96: 25000
A97: 12. | B97: Hintaállvány két ülőkével | C97: Csavarmeghúzás, rögzítés | D97: 1 | H97: 25000
A98: 13. | B98: Minivár "Erőd" | C98: Csavarmeghúzás, rögzítés. Egyes kopott faalkatrészek cseréje | D98: 1 | E98: 120000 | F98: 120000 | G98: 100000 | H98: 20000
A99: 14. | B99: Kötélpiramis
A100: 15. | B100: Vitorlás mászóka | C100: Csavarmeghúzás, rögzítés | D100: 1 | H100: 25000
...

Sheet 2016-23as bérek és terhek
A1: 2016. január 1-től a minimálbér bruttó 111 000 forintra, míg a garantált bérminimum 1275000 forintra emelkedett. | B1: 2016 | C1: 2017 | D1: 2022 | E1: 2016 | F1: 2017 | G1: 2017 | H1: 2016 | I1: 2016 | J1: 2017 | K1: 2017 | L1: 2018 | M1: 2018 | N1: 2018 | O1: 2018 | P1: 2018 | Q1: 2019 | R1: 2019 | S1: 2019 | T1: 2019 | U1: 2022 | V1: 2022 | W1: 2022 | X1: 2023 | Y1: 2023 | Z1: 2023
A2: BRUTTÓ BÉR | E2: 111000 | F2: 127500 | G2: 163000 | H2: 400000 | I2: 320000 | J2: 400000 | K2: 320000 | L2: 187450 | M2: 460000 | N2: 368000 | O2: 163000 | P2: 70000 | Q2: 210000 | R2: 514000 | S2: 411000 | T2: 182000 | U2: 300000 | V2: 530000 | W2: 950000 | X2: 336000 | Y2: 593000 | Z2: 950000
A3: Éves bruttó jövedelem | E3: =E13*12 -> 885780 | F3: =F13*12 -> 1017450 | G3: =G13*12 -> 1300740 | H3: =H2*12 -> 4800000 | I3: =I2*12 -> 3840000 | J3: =J2*12 -> 4800000 | K3: =K2*12 -> 3840000 | L3: =L2*12 -> 2249400 | M3: =M2*12 -> 5520000 | N3: =N2*12 -> 4416000 | O3: =O2*12 -> 1956000 | ... Z3: =Z2*12 -> 11400000
A4: Kedvezmény | B4: gyermek-kedvezmény (2 gy) | E4: nincs gyermek | F4: nincs gyermek | G4: nincs gyermek | H4: nincs gyermek | I4: nincs gyermek | J4: nincs gyermek | K4: nincs gyermek | L4: nincs gyermek | M4: nincs gyermek | N4: nincs gyermek | O4: nincs gyermek | P4: nincs gyermek | Q4: nincs gyermek | R4: nincs gyermek | S4: nincs gyermek | T4: nincs gyermek | U4: nincs gyermek | V4: nincs gyermek | W4: nincs gyermek | X4: nincs gyermek | Y4: nincs gyermek | Z4: nincs gyermek
A5: LEVONÁSOK | B5: 25000 | C5: 30000 | D5: 30000
A6: Adók és járulékok
A7: személyi jövedelemadó | B7: 0.15 | C7: 0.15 | D7: 0.15 | E7: =E2*$B$7 -> 16650 | F7: =F2*$B$7 -> 19125 | G7: =G2*$B$7 -> 24450 | H7: =$H$2*B7 -> 60000 | I7: =$I$2*B7 -> 48000 | J7: =$H$2*B7 -> 60000 | K7: =$I$2*B7 -> 48000 | L7: =L2*$B$7 -> 28117.5 | M7: =M2*$B$7 -> 69000 | N7: =N2*$B$7 -> 55200 | O7: =$O$2*B7 -> 24450 | P7: =$P$2*B7 -> 10500 | Q7: =Q2*$C$7 -> 31500 | R7: =R2*$C$7 -> 77100 | S7: =S2*$C$7 -> 61650 | T7: =T2*$C$7 -> 27300 | U7: =U2*$C$7 -> 45000 | V7: =V2*$C$7 -> 79500 | W7: =W2*$C$7 -> 142500 | X7: =X2*$C$7 -> 50400 | ... Z7: =Z2*$C$7 -> 142500
A8: nyugdíjbiztosítási-járulék | B8: 0.1 | C8: 0.1 | D8: 0.185 | E8: =E2*$B$8 -> 11100 | F8: =F2*$B$8 -> 12750 | G8: =G2*$B$8 -> 16300 | H8: =H2*$B$8 -> 40000 | I8: =$I$2*B8 -> 32000 | J8: =$H$2*B8 -> 40000 | K8: =$I$2*B8 -> 32000 | L8: =$L$2*$B$8 -> 18745 | M8: =$L$2*$B$8 -> 18745 | N8: =$L$2*$B$8 -> 18745 | O8: =$O$2*B8 -> 16300 | P8: =$P$2*B8 -> 7000 | Q8: =Q2*$C$7 -> 31500 | R8: =R2*$C$7 -> 77100 | S8: =S2*$C$8 -> 41100 | T8: =T2*$C$8 -> 18200 | U8: =U2*$C$8 -> 30000 | V8: =V2*$C$8 -> 53000 | W8: =W2*$C$8 -> 95000 | X8: =X2*$C$8 -> 33600 | Y8: =Y2*$C$8 -> 59300 | Z8: =Z2*$C$8 -> 95000
A9: egészségbiztosítási járulék természetbeni | B9: 0.04 | C9: 0.04 | E9: =E2*$B$9 -> 4440 | F9: =F2*$B$9 -> 5100 | G9: =G2*$B$9 -> 6520 | H9: =H2*$B$9 -> 16000 | I9: =$I$2*B9 -> 12800 | J9: =$H$2*B9 -> 16000 | K9: =$I$2*B9 -> 12800 | L9: =$L$2*$B$9 -> 7498 | M9: =$L$2*$B$9 -> 7498 | N9: =$L$2*$B$9 -> 7498 | O9: =$O$2*B9 -> 6520 | P9: =$P$2*B9 -> 2800 | Q9: =Q2*$C$9 -> 8400 | R9: =R2*$C$9 -> 20560 | S9: =S2*$C$9 -> 16440 | T9: =T2*$C$9 -> 7280 | U9: =U2*$C$9 -> 12000 | V9: =V2*$C$9 -> 21200 | W9: =W2*$C$9 -> 38000 | X9: =X2*$C$9 -> 13440 | ... Z9: =Z2*$C$9 -> 38000
A10: egészségbiztosítási járulék pénzbeli | B10: 0.03 | C10: 0.03 | E10: =E2*$B$10 -> 3330 | F10: =F2*$B$10 -> 3825 | G10: =G2*$B$10 -> 4890 | H10: =H2*$B$10 -> 12000 | I10: =$I$2*B10 -> 9600 | J10: =$H$2*B10 -> 12000 | K10: =$I$2*B10 -> 9600 | L10: =$L$2*$B$10 -> 5623.5 | M10: =$L$2*$B$10 -> 5623.5 | N10: =$L$2*$B$10 -> 5623.5 | O10: =$O$2*B10 -> 4890 | P10: =$P$2*B10 -> 2100 | Q10: =Q2*$C$10 -> 6300 | R10: =R2*$C$10 -> 15420 | S10: =S2*$C$10 -> 12330 | T10: =T2*$C$10 -> 5460 | U10: =U2*$C$10 -> 9000 | V10: =V2*$C$10 -> 15900 | W10: =W2*$C$10 -> 28500 | X10: =X2*$C$10 -> 10080 | ... Z10: =Z2*$C$10 -> 28500
A11: Munkaerő-piaci járulék | B11: 0.015 | C11: 0.015 | E11: =E2*$B$11 -> 1665 | F11: =F2*$B$11 -> 1912.5 | G11: =G2*$B$11 -> 2445 | H11: =H2*$B$11 -> 6000 | I11: =$I$2*B11 -> 4800 | J11: =$H$2*B11 -> 6000 | K11: =$I$2*B11 -> 4800 | L11: =$L$2*$B$11 -> 2811.75 | M11: =$L$2*$B$11 -> 2811.75 | N11: =$L$2*$B$11 -> 2811.75 | O11: =$O$2*B11 -> 2445 | P11: =$P$2*B11 -> 1050 | Q11: =Q2*$C$11 -> 3150 | R11: =R2*$C$11 -> 7710 | S11: =S2*$C$11 -> 6165 | T11: =T2*$C$11 -> 2730 | U11: =U2*$C$11 -> 4500 | V11: =V2*$C$11 -> 7950 | W11: =W2*$C$11 -> 14250 | X11: =X2*$C$11 -> 5040 | ... Z11: =Z2*$C$11 -> 14250
A12: ÖSSZES LEVONÁS(munkabérből levonásra kerül, munkaadó továbbutalja a NAV adott számlájára) | B12: =SUM(B7:B11) -> 0.335 | C12: =SUM(C7:C11) -> 0.335 | D12: =SUM(D7:D11) -> 0.335 | E12: =E2*$B$12 -> 37185 | F12: =F2*$B$12 -> 42712.5 | G12: =G2*$B$12 -> 54605 | H12: =H2*$B$12 -> 134000 | I12: =$I$2*B12 -> 107200 | J12: =J2*$B$12 -> 134000 | K12: =$I$2*B12 -> 107200 | L12: =L2*$B$12 -> 62795.75 | M12: =M2*$B$12 -> 154100 | N12: =N2*$B$12 -> 123280 | O12: =O2*$B$12 -> 54605 | P12: =P2*$B$12 -> 23450 | Q12: =Q2*$B$12 -> 70350 | R12: =R2*$B$12 -> 172190 | S12: =SUM(S7:S11) -> 137685 | T12: =SUM(T7:T11) -> 60970 | U12: =SUM(U7:U11) -> 100500 | V12: =V2*$B$12 -> 177550 | W12: =W2*$B$12 -> 318250 | X12: =SUM(X7:X11) -> 112560 | Y12: =Y2*$B$12 -> 198655 | Z12: =Z2*$B$12 -> 318250
A13: NETTÓ BÉR | E13: =E2-E12 -> 73815 | F13: =F2-F12 -> 84787.5 | G13: =G2-G12 -> 108395 | H13: =H2-H12 -> 266000 | I13: =I2-I12 -> 212800 | J13: =J2-J12 -> 266000 | K13: =K2-K12 -> 212800 | L13: =L2-L12 -> 124654.25 | ... Z13: =Z2-Z12 -> 631750
A15: kifizetendő 2 gyermek esetén | H15: =H13+B5 -> 291000 | I15: =I13+B5 -> 237800 | J15: =J13+F5 -> 266000 | K15: =K13+F5 -> 212800 | L15: =L13+G5 -> 124654.25 | M15: =M13+H5 -> 305900 | N15: =N13+H5 -> 244720 | O15: =O13+J5 -> 108395 | P15: =P13+J5 -> 46550 | Q15: =Q13+L5 -> 139650 | R15: =R13+M5 -> 341810 | S15: =S13+M5 -> 273315 | T15: =T13+N5 -> 121030 | U15: =U13+O5 -> 199500 | V15: =V13+P5 -> 352450 | W15: =W13+Q5 -> 631750 | X15: =X13+R5 -> 223440 | Y15: =Y13+S5 -> 394345 | Z15: =Z13+T5 -> 631750
A16: szja 2 gyermek esetén | H16: =H7-B5 -> 35000 | I16: =I7-B5 -> 23000 | J16: =J7-C5 -> 30000 | K16: =K7-C5 -> 18000 | L16: =L7-E5 -> 28117.5 | M16: =M7-F5 -> 69000 | N16: =N7-F5 -> 55200 | O16: =O7-H5 -> 24450 | P16: =P7-H5 -> 10500 | Q16: =Q7-$C$5 -> 1500 | R16: =R7-$C$5 -> 47100 | S16: =S7-$C$5 -> 31650 | T16: =T7-$C$5 -> -2700 | U16: =U7-$C$5 -> 15000 | V16: =V7-$C$5 -> 49500 | W16: =W7-$C$5 -> 112500 | X16: =X7-$C$5 -> 20400 | ... Z16: =Z7-$C$5 -> 112500
A18: Munkaadó összes költsége 111 000.- és 129 000.- forintos bruttó bérfizetés esetén:
A19: BRUTTÓ BÉR | E19: 111000 | F19: =F2 -> 127500 | G19: =G2 -> 163000 | H19: 400000 | I19: 320000 | J19: 400000 | K19: 320000 | L19: =G29 -> 187229.73 | M19: =H29 -> 459459.46 | N19: =I29 -> 367567.57 | O19: =O2 -> 163000 | P19: =P2 -> 70000 | Q19: =N31 -> 209194.2 | R19: =O31 -> 513360 | S19: =P31 -> 410688 | T19: =Q31 -> 181908 | U19: =U2 -> 300000 | V19: =V2 -> 530000 | W19: =W2 -> 950000 | X19: =X2 -> 336000 | Y19: =Y2 -> 593000 | Z19: =Z2 -> 950000
A20: szociális hozzájárulási adó | B20: 0.27 | C20: 0.22 | D20: 0.13 | E20: =E19*$B$20 -> 29970 | F20: =F19*C20 -> 28050 | G20: =G19*C20 -> 35860 | H20: =$H$19*B20 -> 108000 | I20: =$I$19*B20 -> 86400 | J20: =$H$19*B20 -> 108000 | K20: =$I$19*B20 -> 86400 | L20: =$L$19*$C$20 -> 41190.541 | M20: =$M$19*$C$20 -> 101081.08 | N20: =$N$19*$C$20 -> 80864.865 | O20: =$O$19*C20 -> 35860 | P20: =$P$2*$C$20 -> 15400 | Q20: =$L$19*$C$20 -> 41190.541 | R20: =$M$19*$C$20 -> 101081.08 | S20: =$N$19*$C$20 -> 80864.865 | T20: =$N$19*$C$20 -> 80864.865 | U20: =U19*$D$20 -> 39000 | V20: =V19*$D$20 -> 68900 | W20: =W19*$D$20 -> 123500 | X20: =X19*$D$20 -> 43680 | Y20: =Y19*$D$20 -> 77090 | Z20: =Z19*$D$20 -> 123500
A21: szakképzési hozzájárulás | B21: 0.015 | C21: 0.015 | E21: =E19*$B$21 -> 1665 | F21: =F19*C21 -> 1912.5 | G21: =G19*C21 -> 2445 | H21: =H19*$B$21 -> 6000 | I21: =$I$19*B21 -> 4800 | J21: =$H$19*B21 -> 6000 | K21: =$I$19*B21 -> 4800 | L21: =$L$19*$C$21 -> 2808.4459 | M21: =$M$19*$C$21 -> 6891.8919 | N21: =$N$19*$C$21 -> 5513.5135 | O21: =$O$19*C21 -> 2445 | P21: =$P$2*$C$21 -> 1050 | Q21: =$L$19*$C$21 -> 2808.4459 | R21: =$M$19*$C$21 -> 6891.8919 | S21: =$N$19*$C$21 -> 5513.5135 | T21: =$N$19*$C$21 -> 5513.5135
A22: Munkaadó összes kötelezettsége | B22: =SUM(B20:B21) -> 0.285 | C22: =SUM(C20:C21) -> 0.235 | D22: =SUM(D20:D21) -> 0.13 | E22: =E19*$B$22 -> 31635 | F22: =F19*$C$22 -> 29962.5 | G22: =G19*$C$22 -> 38305 | H22: =H19*$B$22 -> 114000 | I22: =$I$19*B22 -> 91200 | J22: =$H$19*C22 -> 94000 | K22: =$I$19*C22 -> 75200 | L22: =$L$19*C22 -> 43998.986 | M22: =$M$19*C22 -> 107972.97 | N22: =$N$19*C22 -> 86378.378 | O22: =O19*C22 -> 38305 | P22: =P19*C22 -> 16450 | Q22: =Q19*$C$22 -> 49160.637 | R22: =R19*$C$22 -> 120639.6 | S22: =S19*$C$22 -> 96511.68 | T22: =T19*$C$22 -> 42748.38 | U22: =SUM(U20:U21) -> 39000 | V22: =SUM(V20:V21) -> 68900 | W22: =SUM(W20:W21) -> 123500 | X22: =SUM(X20:X21) -> 43680 | Y22: =SUM(Y20:Y21) -> 77090 | Z22: =SUM(Z20:Z21) -> 123500
A23: Bruttó bér + szociális hozzájárulási adó + szakképzési hozzájárulás
A24: Ennyibe kerül 1 fő foglalkoztatása: | E24: =E19+E22 -> 142635 | F24: =F19+F22 -> 157462.5 | G24: =G19+G22 -> 201305 | H24: =H19+H22 -> 514000 | I24: =I19+I22 -> 411200 | J24: =J19+J22 -> 494000 | K24: =K19+K22 -> 395200 | L24: =L19+L22 -> 231228.72 | ... Z24: =Z19+Z22 -> 1073500
A25: Befizetendő: | F25: =F22+F12 -> 72675 | G25: =G22+G12 -> 92910 | H25: =H22+H12 -> 248000 | I25: =I22+I12 -> 198400 | J25: =J22+J12 -> 228000 | K25: =K22+K12 -> 182400 | L25: =L22+L12 -> 106794.74 | M25: =M22+M12 -> 262072.97 | ... Z25: =Z22+Z12 -> 441750
A26: éves szinten | E26: =E24*12 -> 1711620 | F26: =F24*12 -> 1889550 | G26: =G24*12 -> 2415660 | H26: =H24*12 -> 6168000 | I26: =I24*12 -> 4934400 | J26: =J24*12 -> 5928000 | K26: =K24*12 -> 4742400 | L26: =L24*12 -> 2774744.6 | ... Z26: =Z24*12 -> 12882000
E28: változás -> | F28: =(F2/E2)-1 -> 0.14864865 | G28: =G2*$F$28 -> 24229.73 | H28: =H2*$F$28 -> 59459.459 | I28: =I2*$F$28 -> 47567.568 | K28: ="/év" -> /év | L28: =L26-G26 -> 359084.59 | M28: =M26-J26 -> 881189.19 | N28: =N26-K26 -> 704951.35
E29: új bér/ hó | F29: 2018 -> | G29: =G2+G28 -> 187229.73 | H29: =H2+H28 -> 459459.46 | I29: =I2+I28 -> 367567.57
L30: változás -> | M30: 0.116 | N30: =$M$30*L2 -> 21744.2 | O30: =$M$30*M2 -> 53360 | P30: =$M$30*N2 -> 42688 | Q30: =$M$30*O2 -> 18908
L31: új bér/ hó | M31: 2018 -> | N31: =L2+N30 -> 209194.2 | O31: =M2+O30 -> 513360 | P31: =N2+P30 -> 410688 | Q31: =O2+Q30 -> 181908
E32: Bruttó havi bér | F32: 168 000 | H32: 0 | I32: 2 016 000
E33: Adóalap | F33: 168 000 | G33: Érv. adóalap kedvezmény: | H33: 0 | I33: 2 016 000
E34: SZJA 15% | F34: 25 200 | G34: Elvi járulék kedvezmény: | H34: 0 | I34: 302 400
E35: Természetbeni eg.bizt. járulék 4% | F35: 6 720 | G35: Elvi T.eg.bizt. járulék 4%: | H35: 6 720 | I35: 80 640 | L35: minimálbér | O35: szakm bérmin
E36: Pénzbeni eg.bizt.járulék 3% | F36: 5 040 | G36: Elvi P.eg.bizt járulék 3%: | H36: 5 040 | I36: 60 480 | L36: 2016 | M36: 111000
E37: Nyugdíjjárulék 10% | F37: 16 800 | G37: Elvi Nyugdíjjárulék 10%: | H37: 16 800 | I37: 201 600 | L37: 2017 | M37: 127500 | N37: =(M37-M36)/M36 -> 0.14864865 | R37: 2020
E38: Munkaerő-piaci járulék 1,5% | F38: 2 520 | H38: 0 | I38: 30 240 | L38: 2018 | M38: 138000 | N38: =(M38-M37)/M37 -> 0.082352941 | R38: Bruttó havi bér | U38: 524000
E39: Nettó jövedelem | F39: 111 720 | G39: Nem érv. családi kedvezmény: | H39: 0 | I39: 1 340 640 | L39: 2019 | M39: 149000 | N39: =(M39-M38)/M38 -> 0.079710145 | R39: Nettó havi bér: | U39: 388459
E40: Szociális hozzájárulási adó | F40: 36 960 | H40: 0 | I40: 443 520 | L40: 2020 | M40: 161000 | N40: =(M40-M39)/M39 -> 0.080536913 | O40: 210600 | R40: Havi bérköltség: | U40: 623560
E41: Szakképzési hozzájárulás 1,5% | F41: 2 520 | H41: 0 | I41: 30 240 | L41: 2021 | M41: 167400 | N41: =(M41-M40)/M40 -> 0.039751553 | O41: 219000 | P41: =(O41-O40)/O40 -> 0.03988604 | R41: Levonások a munkavállalótól
E42: Összes ráfordítás | F42: 207 480 | H42: 0 | I42: 2 489 760 | L42: 2022 | M42: 200000 | N42: =(M42-M41)/M41 -> 0.19474313 | O42: 260000 | P42: =(O42-O41)/O41 -> 0.18721461 | R42: SZJA | U42: 38601
E43: Nettó/ráfordítás % | F43: 0.5385 | H43: 0 | I43: 0 | R43: Nyugdíjjárulék | U43: 52400
R44: Egyéb munkavállalói járulékok | U44: 44540
E45: Bruttó havi bér | F45: 400 000 | H45: 0 | I45: 4 800 000 | R45: Munkáltatói teher
E46: Adóalap | F46: 400 000 | G46: Érv. adóalap kedvezmény: | H46: 200 000 | I46: 4 800 000 | R46: Szociális hozzájárulási adó | U46: 91700
E47: SZJA 15% | F47: 30 000 | G47: Elvi járulék kedvezmény: | H47: 0 | I47: 360 000 | R47: Szakképzési hozzájárulás | U47: 7860
E48: Természetbeni eg.bizt. járulék 4% | F48: 16 000 | G48: Elvi T.eg.bizt. járulék 4%: | H48: 16 000 | I48: 192 000 | R48: Az SZJA részletezése
E49: Pénzbeni eg.bizt.járulék 3% | F49: 12 000 | G49: Elvi P.eg.bizt járulék 3%: | H49: 12 000 | I49: 144 000 | R49: Adóalap | U49: 524000
E50: Nyugdíjjárulék 10% | F50: 40 000 | G50: Elvi Nyugdíjjárulék 10%: | H50: 40 000 | I50: 480 000 | R50: Adó- és járulékalap-csökkentő kedvezmény | U50: 266660
E51: Munkaerő-piaci járulék 1,5% | F51: 6 000 | H51: 0 | I51: 72 000 | R51: Levont SZJA | U51: 38601
E52: Nettó jövedelem | F52: 296 000 | G52: Nem érv. családi kedvezmény: | H52: 0 | I52: 3 552 000
E53: Szociális hozzájárulási adó | F53: 88 000 | H53: 0 | I53: 1 056 000
E54: Szakképzési hozzájárulás 1,5% | F54: 6 000 | H54: 0 | I54: 72 000
E55: Összes ráfordítás | F55: 494 000 | H55: 0 | I55: 5 928 000
E56: Nettó/ráfordítás % | F56: 0.5992 | H56: 0 | I56: 0
E58: Bruttó havi bér | F58: 320 000 | H58: 0 | I58: 3 840 000
E59: Adóalap | F59: 320 000 | G59: Érv. adóalap kedvezmény: | H59: 200 000 | I59: 3 840 000
E60: SZJA 15% | F60: 18 000 | G60: Elvi járulék kedvezmény: | H60: 0 | I60: 216 000
E61: Természetbeni eg.bizt. járulék 4% | F61: 12 800 | G61: Elvi T.eg.bizt. járulék 4%: | H61: 12 800 | I61: 153 600
E62: Pénzbeni eg.bizt.járulék 3% | F62: 9 600 | G62: Elvi P.eg.bizt járulék 3%: | H62: 9 600 | I62: 115 200
E63: Nyugdíjjárulék 10% | F63: 32 000 | G63: Elvi Nyugdíjjárulék 10%: | H63: 32 000 | I63: 384 000
E64: Munkaerő-piaci járulék 1,5% | F64: 4 800 | H64: 0 | I64: 57 600
E65: Nettó jövedelem | F65: 242 800 | G65: Nem érv. családi kedvezmény: | H65: 0 | I65: 2 913 600
E66: Szociális hozzájárulási adó | F66: 70 400 | H66: 0 | I66: 844 800
E67: Szakképzési hozzájárulás 1,5% | F67: 4 800 | H67: 0 | I67: 57 600
E68: Összes ráfordítás | F68: 395 200 | H68: 0 | I68: 4 742 400
E69: Nettó/ráfordítás % | F69: 0.6144 | H69: 0 | I69: 0

Sheet 2018
A1: Eszköz sorszáma | B1: Játszóeszközök | C1: Tervezett feladatok | D1: (1,2,3) | E1: A Bruttó (anyag és munka) | F1: B Bruttó (anyag és munka) | G1: C Bruttó (anyag és munka)
A2: Játszótér neve: VUK | C2: Címe: 1016 Budapest, Szirtes út 22.-Bérc u. 25. | D2: Prioritás | E2: teljes (esztétiaki is) | F2: fontos (indokolt) | G2: minden képpen (elengedhetetlen)
A3: 1. | B3: Mászóvár csúszdával "Játszóváros" | C3: Általános karbantartás, íves feljárón a faelemek cseréje | D3: 1 | E3: 200000
A4: 2. | B4: Rókavár "Karak barlangja"
A5: 3. | B5: Alagútcsúszda 1.
A6: 4. | B6: Alagútcsúszda 2.
A7: 5. | B7: Homokozó és csúszda "Manóház" | C7: Homokfeltöltés 2 m3 / TELJES HOMOKCSERE 12 m3 | D7: 1 | E7: 80000 | G7: 300000
A8: 6. | B8: Duplarugós mérleghinta | C8: Csavarmeghúzás, évente előforduló rugótörés miatt csere tervezése 2019-re is | D8: 1 | E8: 120000
A9: 7. | B9: Rugós játék - motor | C9: Csavarmeghúzás, rögzítés | D9: 1 | E9: 25000
A10: 8. | B10: Rugós lépegető | C10: Csavarmeghúzás, rögzítés | D10: 1 | E10: 25000
A11: 9. | B11: Kötélpálya
A12: 10. | B12: Függőhíd "Kötélhíd" | C12: Elemek rögzítése | E12: 25000
A13: 12. | B13: Babaház előtérrel | C13: Általános karbantartás korhadt faelemek cseréje, tetőfedés javítása | E13: 55000
A14: 13. | B14: Hintaállvány két ülőkével | C14: Hintalánc és ülőkék cseréje | D14: 1 | E14: 106000 | F14: szabványossági felülvizsgálat nem talált hibát
A15: 14. | B15: Hintaállvány két speciális bölcsőülőkével | C15: Csavarmeghúzás, rögzítés | D15: 1 | E15: 20000
A16: 15. | C16: Ivókút karbantartása: nyitás-zárás, tisztítás, dugulás elhárítás | D16: 1 | E16: 230000
A17: 16. | C17: Mulcsfeltöltés, kétregpótlás 20 m3 | D17: 1 | E17: 520000
A18: 17. | C18: Játszóeszközök védőmázolása | D18: 1 | E18: 210000
A19: 18. | C19: Tematikus matricák pótlása | D19: 1 | E19: 280000
A20: 19. | C20: Bejárati kapuk javítása | D20: 1 | E20: 80000
A21: Összesen: | E21: =SUM(E3:E20) -> 1976000 | F21: =SUM(F3:F20) -> 0 | G21: =SUM(G3:G20) -> 300000
A22: Játszótér neve: Pom-Pom | C22: Címe: 1016 Budapest, Naphegy tér | E22: Hrsz:7339/2
A23: 1. | B23: Piros forgóbogrács | F23: =IF(OR(D23=1,D23=2),E23,0) -> 0 | G23: =IF(D23=1,E23,0) -> 0
A24: 2. | B24: Rugós játék 4 levelű lóhere | C24: Csavarmeghúzás, rögzítés | D24: 1 | E24: 20000 | F24: =IF(OR(D24=1,D24=2),E24,0) -> 20000 | G24: =IF(D24=1,E24,0) -> 20000
A25: 3. | B25: Beülős rugós játék | C25: Csavarmeghúzás, rögzítés | D25: 1 | E25: 20000 | F25: =IF(OR(D25=1,D25=2),E25,0) -> 20000 | G25: =IF(D25=1,E25,0) -> 20000
A26: 4. | B26: 2*2-es hintaállvány vegyes ülőkékkel | C26: Általános karbantartás, csavarmeghúzás, díszítő elemek pótlása | D26: 1 | E26: 45000 | F26: =IF(OR(D26=1,D26=2),E26,0) -> 45000 | G26: =IF(D26=1,E26,0) -> 45000
A27: 5. | B27: Szabadon álló nagycsúszda | C27: Csavarmeghúzás, rögzítés | D27: 1 | E27: 20000 | F27: =IF(OR(D27=1,D27=2),E27,0) -> 20000 | G27: =IF(D27=1,E27,0) -> 20000
A28: 6. | B28: Vonat | C28: Játék talajhoz rögzítése | D28: 1 | E28: 70000 | F28: =IF(OR(D28=1,D28=2),E28,0) -> 70000 | G28: =IF(D28=1,E28,0) -> 70000
A29: 7. | B29: Sivatag hajója | C29: Általános karbantartás, csavarmeghúzás, ujjbeszorulást megakadályozó elemek pótlása, korlát hegesztése | D29: 1 | E29: 145000 | F29: =IF(OR(D29=1,D29=2),E29,0) -> 145000 | G29: =IF(D29=1,E29,0) -> 145000
A30: 8. | B30: Sárga forgóbogrács
A31: 9. | B31: Szabadon álló kiscsúszda | C31: Csavarmeghúzás, rögzítés | D31: 1 | E31: 20000
A32: 10. | B32: Rugós játék - kakas | C32: Csavarmeghúzás, rögzítés | D32: 1 | E32: 20000
A33: 11. | B33: Rugós játék - motor | C33: Csavarmeghúzás, rögzítés | D33: 1 | E33: 20000
A34: 12. | B34: Hálós függeszkedő kombinált mászóka | C34: Általános karbantartás, csavarmeghúzás, díszítő elemek pótlása, szükség esetén mászóháló cseréje | E34: 450000
A35: 13. | B35: Homokozó | C35: Homokfeltöltés 2 m3 | D35: 1 | E35: 40000
A36: 14. | B36: Gombóc Artúr háza | C36: Általános karbantartás, izzócsere, szükség szerinti villanyszerelés | D36: 1 | E36: 45000 | F36: =IF(OR(D36=1,D36=2),E36,0) -> 45000 | G36: =IF(D36=1,E36,0) -> 45000
A37: 15. | B37: Madárvédő Golyókapkodó háza | C37: Általános karbantartás, ülőpadok faalkatrészének csere, izzócsere, szükség szerinti villanyszerelés | D37: 1 | E37: 60000 | F37: =IF(OR(D37=1,D37=2),E37,0) -> 60000 | G37: =IF(D37=1,E37,0) -> 60000
A38: 16. | B38: Hapci Benő háza | C38: Általános karbantartás, ülőpadok faalkatrészének csere, izzócsere, szükség szerinti villanyszerelés | D38: 1 | E38: 60000 | F38: =IF(OR(D38=1,D38=2),E38,0) -> 60000 | G38: =IF(D38=1,E38,0) -> 60000
A39: 17. | B39: Órás hirdetőoszlop | C39: Általános karbantartás, órajavítás | E39: 650000 | F39: =IF(OR(D39=1,D39=2),E39,0) -> 0 | G39: =IF(D39=1,E39,0) -> 0
A40: 18. | C40: Ütéscsillapító burkolat, talajtakaró feltöltés 2-8 mm közötti idegen anyagtól mentes kavics feltöltés: 4 m3 | E40: 100000 | F40: =IF(OR(D40=1,D40=2),E40,0) -> 0 | G40: =IF(D40=1,E40,0) -> 0
A41: 19. | C41: Játszóeszközök védőmázolása | D41: 1 | E41: 280000 | F41: =IF(OR(D41=1,D41=2),E41,0) -> 280000 | G41: =IF(D41=1,E41,0) -> 280000
A42: 20. | C42: Bejárati kapuk javítása | D42: 1 | E42: 160000 | F42: =IF(OR(D42=1,D42=2),E42,0) -> 160000 | G42: =IF(D42=1,E42,0) -> 160000
C43: Ivókút karbantartása: nyitás-zárás, tisztítás, dugulás elhárítás | D43: 1 | E43: 230000 | F43: =IF(OR(D43=1,D43=2),E43,0) -> 230000 | G43: =IF(D43=1,E43,0) -> 230000
A44: Összesen: | E44: =SUM(E23:E43) -> 2455000 | F44: =SUM(F23:F43) -> 1155000 | G44: =SUM(G23:G43) -> 1155000
A45: Játszótér neve: Mátyás Király Játszópark | C45: Címe: 1014 Budapest, Tárnok u. 9. | E45: Hrsz:6527/2
A46: 1. | B46: "Mátyás király vára" játszópavilon-óriásvár | C46: Általános éves karbantartás, esztétikai szintentartás, javítás, helyreállítás | D46: 1 | E46: 1100000
A47: 2. | B47: Rugós lépegető | C47: Csavarmeghúzás, rögzítés | D47: 1 | E47: 20000 | F47: =IF(OR(D47=1,D47=2),E47,0) -> 20000 | G47: =IF(D47=1,E47,0) -> 20000
A48: 3. | B48: Hintaállvány két ülőkével I. | C48: Csavarmeghúzás, rögzítés | D48: 1 | E48: 20000 | F48: =IF(OR(D48=1,D48=2),E48,0) -> 20000 | G48: =IF(D48=1,E48,0) -> 20000
A49: 4. | B49: Hintaállvány két ülőkével II. | C49: Csavarmeghúzás, rögzítés | D49: 1 | E49: 20000 | F49: =IF(OR(D49=1,D49=2),E49,0) -> 20000 | G49: =IF(D49=1,E49,0) -> 20000
A50: 5. | B50: Homokozó | C50: Homokfeltöltés 2 m3 | D50: 1 | E50: 40000 | F50: =IF(OR(D50=1,D50=2),E50,0) -> 40000 | G50: =IF(D50=1,E50,0) -> 40000
C51: Homokozó játék asztalka telepítése | E51: 380000 | F51: =IF(OR(D51=1,D51=2),E51,0) -> 0 | G51: =IF(D51=1,E51,0) -> 0
A52: 6. | B52: Kéttornyú kombinált vár csúszdával, hintával | C52: Általános éves karbantartás, esztétikai szintentartás, javítás, helyreállítás | D52: 1 | E52: 150000 | F52: =IF(OR(D52=1,D52=2),E52,0) -> 150000 | G52: =IF(D52=1,E52,0) -> 150000
A53: 7. | B53: Általános | C53: Ivókút karbantartása: nyitás-zárás, tisztítás, dugulás elhárítás | D53: 1 | E53: 230000 | F53: =IF(OR(D53=1,D53=2),E53,0) -> 230000 | G53: =IF(D53=1,E53,0) -> 230000
C54: Párakapu karbantartása | D54: 1 | E54: 200000 | F54: =IF(OR(D54=1,D54=2),E54,0) -> 200000 | G54: =IF(D54=1,E54,0) -> 200000
C55: Játszóeszközök védőmázolása | D55: 1 | E55: 650000 | G55: =IF(D55=1,E55,0) -> 650000
C56: Megrongálódott tematikus matricák pótlása | D56: 1 | E56: 180000 | F56: =IF(OR(D56=1,D56=2),E56,0) -> 180000 | G56: =IF(D56=1,E56,0) -> 180000
A57: Összesen: | E57: =SUM(E46:E56) -> 2990000 | F57: =SUM(F46:F56) -> 860000 | G57: =SUM(G46:G56) -> 1510000
A58: Játszótér neve: Rumini | C58: Címe: 1011 Budapest, Mária tér | E58: Hrsz:14098/1/2/3
A59: 1. | B59: "Egérváros" óriás játszóvár | C59: Általános éves karbantartás, esztétikai szintentartás, javítás, helyreállítás | D59: 1 | E59: 300000 | F59: =IF(OR(D59=1,D59=2),E59,0) -> 300000 | G59: =IF(D59=1,E59,0) -> 300000
A60: 2. | B60: Hintaállvány laphintával | C60: Csavarmeghúzás, rögzítés | D60: 1 | E60: 20000 | F60: =IF(OR(D60=1,D60=2),E60,0) -> 20000 | G60: =IF(D60=1,E60,0) -> 20000
A61: 3. | B61: Homokozó 1 | C61: Homokfeltöltés 2 m3 | D61: 1 | E61: 40000 | G61: =IF(D61=1,E61,0) -> 40000
A62: 4. | B62: Beülős rugós játék | C62: Csavarmeghúzás, rögzítés | D62: 1 | E62: 20000 | F62: =IF(OR(D62=1,D62=2),E62,0) -> 20000 | G62: =IF(D62=1,E62,0) -> 20000
A63: 5. | B63: Szabadon álló fémülőkés csúszda "Aladdin" | C63: Játszóeszköz esztétikai állapota miatt bontás. Új 1 m esésmagasság alatti csúszda telepítése labirintus játék mellé | E63: 2600000 | F63: =IF(OR(D63=1,D63=2),E63,0) -> 0 | G63: =IF(D63=1,E63,0) -> 0
A64: 6. | B64: Homokozó-óriáskerék-vonat-forgatós memória játék kombináció | C64: Homokfeltöltés 3 m3 | D64: 1 | E64: 60000 | F64: =IF(OR(D64=1,D64=2),E64,0) -> 60000 | G64: =IF(D64=1,E64,0) -> 60000
A65: 7. | B65: "Pókháló" Kötélmászóka | C65: Csavarmeghúzás, rögzítés | D65: 1 | E65: 20000 | F65: =IF(OR(D65=1,D65=2),E65,0) -> 20000 | G65: =IF(D65=1,E65,0) -> 20000
A66: 8. | B66: Duplarugós mérleghinta "Albatrosz" | C66: Csavarmeghúzás, rögzítés | D66: 1 | E66: 20000 | F66: =IF(OR(D66=1,D66=2),E66,0) -> 20000 | G66: =IF(D66=1,E66,0) -> 20000
A67: 9. | B67: Spica | C67: Bontás, újratelepítés | D67: 1 | E67: 210000 | F67: =IF(OR(D67=1,D67=2),E67,0) -> 210000 | G67: =IF(D67=1,E67,0) -> 210000
A68: 10. | B68: Többfunkciós mászóka "Szíriusz" | C68: Csavarmeghúzás, rögzítés | D68: 1 | E68: 60000 | F68: =IF(OR(D68=1,D68=2),E68,0) -> 60000 | G68: =IF(D68=1,E68,0) -> 60000
A69: 11. | B69: Hajó "Uniplay Keszthely" | C69: Általános karbantartás, esztétikai szintentartás, egyedi fafaragással készített hajóorr karbantartása | D69: 1 | E69: 350000 | F69: =IF(OR(D69=1,D69=2),E69,0) -> 350000 | G69: =IF(D69=1,E69,0) -> 350000
A70: 12. | B70: Labirintus kuckókkal "Unimini Pyralli" | C70: Csavarmeghúzás, rögzítés | D70: 1 | E70: 20000 | F70: =IF(OR(D70=1,D70=2),E70,0) -> 20000 | G70: =IF(D70=1,E70,0) -> 20000
A71: 13. | B71: Forgatható iránytű | C71: Általános karbantartás, esztétikai szintentartás | D71: 1 | E71: 150000 | F71: =IF(OR(D71=1,D71=2),E71,0) -> 150000 | G71: =IF(D71=1,E71,0) -> 150000
A72: 14. | B72: Hintaállvány két ülőkével "Swing Goro" | C72: Csavarmeghúzás, rögzítés | D72: 1 | E72: 20000 | F72: =IF(OR(D72=1,D72=2),E72,0) -> 20000 | G72: =IF(D72=1,E72,0) -> 20000
A73: 15. | B73: Minibárka I. | C73: Általános karbantartás, esztétikai szintentartás | D73: 1 | E73: 25000 | F73: =IF(OR(D73=1,D73=2),E73,0) -> 25000 | G73: =IF(D73=1,E73,0) -> 25000
A74: 16. | B74: Minibárka II. | C74: Általános karbantartás, esztétikai szintentartás | D74: 1 | E74: 25000 | F74: =IF(OR(D74=1,D74=2),E74,0) -> 25000 | G74: =IF(D74=1,E74,0) -> 25000
A75: 17. | B75: Minibárka III. | C75: Általános karbantartás, esztétikai szintentartás | D75: 1 | E75: 25000 | F75: =IF(OR(D75=1,D75=2),E75,0) -> 25000 | G75: =IF(D75=1,E75,0) -> 25000
... A78: 20. | B78: Hordó kilátó | C78: Általános karbantartás, esztétikai szintentartás | D78: 1 | E78: 25000 | F78: =IF(OR(D78=1,D78=2),E78,0) -> 25000 | G78: =IF(D78=1,E78,0) -> 25000
A79: 21. | C79: Hajó alatti terület feltöltése o,2-2 mm szemcsenagyság közötti folyami homokkal ütéscsillapítás céljából 6 m3 | D79: 1 | E79: 120000 | F79: =IF(OR(D79=1,D79=2),E79,0) -> 120000 | G79: =IF(D79=1,E79,0) -> 120000
A80: 22. | C80: Játszóeszközök védőmázolása | D80: 1 | E80: 520000 | F80: =IF(OR(D80=1,D80=2),E80,0) -> 520000 | G80: =IF(D80=1,E80,0) -> 520000
A81: 23. | C81: Labirintus játék köré, valamint óriásvár mögötti területen mulcsfeltöltés pótlása 10 m3 | D81: 1 | E81: 260000 | F81: =IF(OR(D81=1,D81=2),E81,0) -> 260000 | G81: =IF(D81=1,E81,0) -> 260000
A82: 24. | C82: Stabilizált kavicsburkolat kialakítása hajó feletti és horgony körüli területeken | E82: 900000 | F82: =IF(OR(D82=1,D82=2),E82,0) -> 0 | G82: =IF(D82=1,E82,0) -> 0
A83: 25. | C83: Gumiburkolat felújítása, bővítése, sérült gumidombok javítása, tematika szerinti díszítése ~ 130 m2 | E83: 4800000 | F83: =IF(OR(D83=1,D83=2),E83,0) -> 0 | G83: =IF(D83=1,E83,0) -> 0
A84: 26. | C84: Aszfaltburkolat felújítása, lépcső és támfalak felújítása ~ 100 m2 | E84: 3000000 | F84: =IF(OR(D84=1,D84=2),E84,0) -> 0 | G84: =IF(D84=1,E84,0) -> 0
A85: 27. | B85: Hintaállvány fészekhintával | C85: ÚJ JÁTÉK TELEPÍTÉSSEL, ÜTÉSCSILLAPÍTÓ GUMI | D85: 1 | G85: 1500000
C86: Ivókút karbantartása: nyitás-zárás, tisztítás, dugulás elhárítás | D86: 1 | E86: 230000 | F86: =IF(OR(D86=1,D86=2),E86,0) -> 230000 | G86: =IF(D86=1,E86,0) -> 230000
A87: Összesen: | E87: =SUM(E59:E86) -> 13870000 | F87: =SUM(F59:F86) -> 2530000 | G87: =SUM(G59:G86) -> 4070000
A88: Játszótér neve: Franklin | C88: Címe: 1015 Budapest, Donáti u.-Iskola u. között Franklin u. 1. | E88: Hrsz:14111/7
A89: 1. | B89: Egyensúlyozó kombináció "klub sarok" Kompan | C89: Csavarmeghúzás, rögzítés. Egyes kopott faalkatrészek cseréje | D89: 1 | E89: 120000 | F89: =IF(OR(D89=1,D89=2),E89,0) -> 120000 | G89: =IF(D89=1,E89,0) -> 120000
A90: 2. | B90: Függeszkedő emelvénnyel "trapéz" | C90: Csavarmeghúzás, rögzítés. Egyes kopott faalkatrészek cseréje | D90: 1 | E90: 45000 | F90: =IF(OR(D90=1,D90=2),E90,0) -> 45000 | G90: =IF(D90=1,E90,0) -> 45000
A91: 3. | B91: Kombinált mászóka "Mászófal" | C91: Csavarmeghúzás, rögzítés. Egyes kopott faalkatrészek cseréje | D91: 1 | E91: 120000 | F91: =IF(OR(D91=1,D91=2),E91,0) -> 120000 | G91: =IF(D91=1,E91,0) -> 120000
A92: 4. | B92: Emelvények álló hintával "Si-szving" | C92: Csavarmeghúzás, rögzítés. Egyes kopott faalkatrészek cseréje | D92: 1 | E92: 45000 | F92: =IF(OR(D92=1,D92=2),E92,0) -> 45000 | G92: =IF(D92=1,E92,0) -> 45000
A93: 5. | B93: Spica 1 | C93: Csapágyjavítás | E93: 65000 | F93: =IF(OR(D93=1,D93=2),E93,0) -> 0 | G93: =IF(D93=1,E93,0) -> 0
A94: 6. | B94: Spica 2 | C94: Csapágyjavítás | E94: 65000 | F94: =IF(OR(D94=1,D94=2),E94,0) -> 0 | G94: =IF(D94=1,E94,0) -> 0
A95: 7. | B95: Spica 3 | F95: =IF(OR(D95=1,D95=2),E95,0) -> 0 | G95: =IF(D95=1,E95,0) -> 0
A96: 8. | B96: Kuckó "Mágikus házikó" | C96: Csavarmeghúzás, rögzítés | D96: 1 | E96: 20000 | F96: =IF(OR(D96=1,D96=2),E96,0) -> 20000 | G96: =IF(D96=1,E96,0) -> 20000
A97: 9. | B97: Szabadon álló csúszda "Minifánt" | C97: Csavarmeghúzás, rögzítés | D97: 1 | E97: 20000 | F97: =IF(OR(D97=1,D97=2),E97,0) -> 20000 | G97: =IF(D97=1,E97,0) -> 20000
A98: 10. | B98: Békás duplarugós mérleghinta | C98: Csavarmeghúzás, rögzítés. Ütköző felület kialakítása autógumi beásás | D98: 1 | E98: 50000 | G98: =IF(D98=1,E98,0) -> 50000
A99: 11. | B99: Rugós játék 4 levelű lóhere | C99: Csavarmeghúzás, rögzítés | D99: 1 | E99: 20000 | G99: =IF(D99=1,E99,0) -> 20000
A100: 12. | B100: Hintaállvány két ülőkével | C100: Csavarmeghúzás, rögzítés | D100: 1 | E100: 20000 | F100: =IF(OR(D100=1,D100=2),E100,0) -> 20000 | G100: =IF(D100=1,E100,0) -> 20000
A101: 13. | B101: Minivár "Erőd" | C101: Csavarmeghúzás, rögzítés. Egyes kopott faalkatrészek cseréje | D101: 1 | E101: 120000 | F101: =IF(OR(D101=1,D101=2),E101,0) -> 120000 | G101: =IF(D101=1,E101,0) -> 120000
A102: 14. | B102: Kötélpiramis
...

Sheet I. terv 2020
A1: Költség elem | C1: 2020 | D1: terv | O1: A össz | P1: B össz | Q1: C össz | R1: tény | S1: tény | AE1: A össz | AF1: B össz | AG1: C össz
C2: jan | D2: febr | E2: márc | F2: ápr | G2: máj | H2: jún | I2: júl | J2: aug | K2: szep | L2: okt | M2: nov | N2: dec | O2: teljes | P2: közép | Q2: min | S2: jan | T2: febr | U2: márc | V2: ápr | W2: máj | X2: jún | Y2: júl | Z2: aug | AA2: szep | AB2: okt | AC2: nov | AD2: dec | AE2: teljes | AF2: min | AG2: min
A3: Javítások
A4: Csalogány | O4: =SUM(C4:N4) -> 0 | P4: =SUM(C4:N4) -> 0 | Q4: =SUM(C4:N4) -> 0 | AE4: =SUM(S4:AD4) -> 0 | AF4: =SUM(S4:AD4) -> 0 | AG4: =SUM(S4:AD4) -> 0
A5: Rumini Mária tér | O5: =SUM(C5:N5) -> 0 | P5: =SUM(C5:N5) -> 0 | Q5: =SUM(C5:N5) -> 0 | AE5: =SUM(S5:AD5) -> 0 | AF5: =SUM(S5:AD5) -> 0 | AG5: =SUM(S5:AD5) -> 0
A6: Farnklin | O6: =SUM(C6:N6) -> 0 | P6: =SUM(C6:N6) -> 0 | Q6: =SUM(C6:N6) -> 0 | AE6: =SUM(S6:AD6) -> 0 | AF6: =SUM(S6:AD6) -> 0 | AG6: =SUM(S6:AD6) -> 0
A7: Donáti | O7: =SUM(C7:N7) -> 0 | P7: =SUM(C7:N7) -> 0 | Q7: =SUM(C7:N7) -> 0 | AE7: =SUM(S7:AD7) -> 0 | AF7: =SUM(S7:AD7) -> 0 | AG7: =SUM(S7:AD7) -> 0
A8: Mátyás Király | O8: =SUM(C8:N8) -> 0 | P8: =SUM(C8:N8) -> 0 | Q8: =SUM(C8:N8) -> 0 | AE8: =SUM(S8:AD8) -> 0 | AF8: =SUM(S8:AD8) -> 0 | AG8: =SUM(S8:AD8) -> 0
A9: PomPom Naphegy | O9: =SUM(C9:N9) -> 0 | P9: =SUM(C9:N9) -> 0 | Q9: =SUM(C9:N9) -> 0 | AE9: =SUM(S9:AD9) -> 0 | AF9: =SUM(S9:AD9) -> 0 | AG9: =SUM(S9:AD9) -> 0
A10: Vuk Bérc | O10: =SUM(C10:N10) -> 0 | P10: =SUM(C10:N10) -> 0 | Q10: =SUM(C10:N10) -> 0 | AE10: =SUM(S10:AD10) -> 0 | AF10: =SUM(S10:AD10) -> 0 | AG10: =SUM(S10:AD10) -> 0
A11: Aladár | O11: =SUM(C11:N11) -> 0 | P11: =SUM(C11:N11) -> 0 | Q11: =SUM(C11:N11) -> 0 | AE11: =SUM(S11:AD11) -> 0 | AF11: =SUM(S11:AD11) -> 0 | AG11: =SUM(S11:AD11) -> 0
A12: Általános javítás (idegen) | C12: 200 | E12: 200 | G12: 200 | I12: 200 | K12: 200 | M12: 200 | O12: 0 | P12: 0 | AE12: =SUM(S12:AD12) -> 0 | AF12: =SUM(S12:AD12) -> 0 | AG12: =SUM(S12:AD12) -> 0
A13: Általános javítás (saját) | C13: 50 | F13: 50 | I13: 50 | L13: 50 | O13: 0 | P13: 0 | Q13: =SUM(C13:N13) -> 200 | AE13: =SUM(S13:AD13) -> 0 | AF13: =SUM(S13:AD13) -> 0 | AG13: =SUM(S13:AD13) -> 0
Q14: =SUM(C14:N14) -> 0 | AG14: =SUM(S14:AD14) -> 0
A15: Játszóterek takarítása, szemét le 12 db | Q15: =SUM(C15:N15) -> 0 | AE15: =SUM(S15:AD15) -> 0 | AF15: =SUM(S15:AD15) -> 0 | AG15: =SUM(S15:AD15) -> 0
A16: (FKF Zrt, szemetes zsákok, stb.) | C16: 70 | F16: 70 | I16: 70 | L16: 70 | O16: =SUM(C16:N16) -> 280 | P16: =SUM(C16:N16) -> 280 | Q16: =SUM(C16:N16) -> 280
A17: vásárolt szolgáltatás (lomb-, hóeltakarítéás, csúszás ment) | C17: 300 | D17: 300 | M17: 300 | N17: 300 | O17: =SUM(C17:N17) -> 1200 | P17: =SUM(C17:N17) -> 1200 | Q17: =SUM(C17:N17) -> 1200
A18: szemétszállítás FKF | C18: 230 | D18: 230 | E18: 230 | F18: 230 | G18: 230 | H18: 230 | I18: 230 | J18: 230 | K18: 230 | L18: 230 | M18: 230 | N18: 230 | O18: =SUM(C18:N18) -> 2760 | P18: =SUM(C18:N18) -> 2760 | Q18: =SUM(C18:N18) -> 2760
A19: Zöld területek fenntartása | E19: 100 | F19: 100 | G19: 100 | H19: 100 | I19: 100 | J19: 100 | K19: 100 | L19: 100 | O19: =SUM(C19:N19) -> 800 | P19: =SUM(C19:N19) -> 800 | Q19: =SUM(C19:N19) -> 800 | AE19: =SUM(S19:AD19) -> 0 | AF19: =SUM(S19:AD19) -> 0 | AG19: =SUM(S19:AD19) -> 0
A20: öntözések
A21: füvesítés, fák, bokrok cserjék újítása (Vuk)
A22: permetezés
A23: környezetterhelési díj
A24: közművek
A25: száradások, viharok okzta károk elhárítása
A26: zöld hulladék elszállítás (zsák) | L26: 25 | M26: 25 | N26: 25 | O26: =SUM(C26:N26) -> 75 | P26: =SUM(C26:N26) -> 75 | Q26: =SUM(C26:N26) -> 75
A27: Jogszerű működés feltételeihez
A28: esedékes szabványossági (megfelelőségi) vizsg | O28: =B28 -> 0 | P28: =B28 -> 0 | Q28: =B28 -> 0 | AE28: =R28 -> 0 | AF28: =R28 -> 0 | AG28: =R28 -> 0
A29: éves felülvizsgálatok, javítások 10db | B29: 100 | O29: =B29 -> 100 | P29: =B29 -> 100 | Q29: =B29 -> 100 | AE29: =R29 -> 0 | AF29: =S29 -> 0 | AG29: =T29 -> 0
A30: karbantartási kötelezettségek 10 db | O30: =B30 -> 0 | P30: =C30 -> 0 | Q30: =D30 -> 0 | AE30: =R30 -> 0 | AF30: =S30 -> 0 | AG30: =T30 -> 0
A31: Parkok nyitás zárása | B31: 90 | C31: 90 | D31: 90 | E31: 90 | F31: 90 | G31: 90 | H31: 90 | I31: 90 | J31: 90 | K31: 90 | L31: 90 | M31: 90 | N31: 90 | O31: =SUM(C31:N31) -> 1080 | P31: =SUM(C31:N31) -> 1080 | Q31: =SUM(C31:N31) -> 1080 | AE31: =SUM(S31:AD31) -> 0 | AF31: =SUM(S31:AD31) -> 0 | AG31: =SUM(S31:AD31) -> 0
A32: FESZ EÜ vizsgálat | E32: 25 | J32: 25 | O32: =SUM(D32:N32) -> 50 | P32: =SUM(C32:N32) -> 50 | Q32: =SUM(C32:N32) -> 50 | AE32: =SUM(T32:AD32) -> 0 | AF32: =SUM(S32:AD32) -> 0 | AG32: =SUM(S32:AD32) -> 0
A33: védőruházat védőfelszerelés | E33: 50 | H33: 50 | K33: 50 | N33: 50 | O33: =SUM(D33:N33) -> 200 | P33: =SUM(C33:N33) -> 200 | Q33: =SUM(C33:N33) -> 200 | AE33: =SUM(T33:AD33) -> 0 | AF33: =SUM(S33:AD33) -> 0 | AG33: =SUM(S33:AD33) -> 0
A34: Alkalmi ráfordítások
A35: Játszóterek egyszeri teljes körű szbv. Jav. 2020 | O35: ='2020'!E198/1000 -> 131495 | P35: ='2020'!F198/1000 -> 46830 | Q35: ='2020'!G198/1000 -> 17015 | AE35: ='[4]elvégzendő munkálatok 2017'!U161/1000 -> 0 | AF35: ='[4]elvégzendő munkálatok 2017'!V161/1000 -> 0 | AG35: ='[4]elvégzendő munkálatok 2017'!W161/1000 -> 0
A36: Tájékoztató táblák, felíratok | B36: 100 | O36: =B36 -> 100 | P36: =B36 -> 100 | Q36: =B36 -> 100 | AE36: =R36 -> 0 | AF36: =R36 -> 0 | AG36: =R36 -> 0
O37: =B37 -> 0 | P37: =B37 -> 0 | Q37: =B37 -> 0 | AE37: =R37 -> 0 | AF37: =R37 -> 0 | AG37: =R37 -> 0
A38: Honlap karbantartás, megújítás | B38: 300 | O38: =B38 -> 300 | P38: =B38 -> 300 | Q38: =B38 -> 300 | AE38: =R38 -> 0 | AF38: =R38 -> 0 | AG38: =R38 -> 0
A39: Havaria | C39: 300 | G39: 300 | K39: 300 | O39: =SUM(C39:N39) -> 900 | P39: =SUM(C39:N39)/2 -> 450 | Q39: =SUM(C39:N39)/2 -> 450 | AE39: =SUM(S39:AD39) -> 0 | AF39: =SUM(S39:AD39)/2 -> 0 | AG39: =SUM(S39:AD39) -> 0
A40: infromatikai | C40: 20 | F40: 20 | I40: 20 | L40: 20 | O40: =SUM(C40:N40) -> 80 | P40: =SUM(C40:N40) -> 80 | Q40: =SUM(C40:N40) -> 80 | AE40: =SUM(S40:AD40) -> 0 | AF40: =SUM(S40:AD40) -> 0 | AG40: =SUM(S40:AD40) -> 0
A41: cég működés járulékos(iroda, védőital,fénym.stb.) | B41: 20 | C41: 20 | D41: 20 | E41: 20 | F41: 20 | G41: 20 | H41: 20 | I41: 20 | J41: 20 | K41: 20 | L41: 20 | M41: 20 | N41: 20 | O41: =SUM(C41:N41) -> 240 | P41: =SUM(C41:N41) -> 240 | Q41: =SUM(C41:N41) -> 240 | AE41: =SUM(S41:AD41) -> 0 | AF41: =SUM(S41:AD41) -> 0 | AG41: =SUM(S41:AD41) -> 0
A42: Egyéb (parkolás,illeték bélyeg,posta stb.) | C42: 5 | D42: 5 | E42: 5 | F42: 5 | G42: 5 | H42: 5 | I42: 5 | J42: 5 | K42: 5 | L42: 5 | M42: 5 | N42: 5 | O42: =SUM(C42:N42) -> 60 | P42: =SUM(C42:N42) -> 60 | Q42: =SUM(C42:N42) -> 60 | AE42: =SUM(S42:AD42) -> 0 | AF42: =SUM(S42:AD42) -> 0 | AG42: =SUM(S42:AD42) -> 0
A43: Ünnepi díszkivilágítások | B43: 1500 | O43: 1500 | P43: 1500 | Q43: 1500
A45: Személyi költségek
A46: Ügyvezető | B46: 555
A47: alap | C47: 555 | D47: 555 | E47: 555 | F47: 555 | G47: 555 | H47: 555 | I47: 555 | J47: 555 | K47: 555 | L47: 555 | M47: 555 | N47: 555 | O47: =SUM(C47:N47) -> 6660 | P47: =SUM(C47:N47) -> 6660 | Q47: =SUM(C47:N47) -> 6660 | AE47: =SUM(S47:AD47) -> 0 | AF47: =SUM(S47:AD47) -> 0 | AG47: =SUM(S47:AD47) -> 0
A48: járulékok | C48: =C47*0.235 -> 130.425 | D48: =D47*0.235 -> 130.425 | E48: =E47*0.235 -> 130.425 | F48: =F47*0.235 -> 130.425 | G48: =G47*0.235 -> 130.425 | H48: =H47*0.235 -> 130.425 | I48: =I47*0.235 -> 130.425 | J48: =J47*0.235 -> 130.425 | ... N48: =N47*0.235 -> 130.425 | O48: =SUM(C48:N48) -> 1565.1 | P48: =SUM(C48:N48) -> 1565.1 | Q48: =SUM(C48:N48) -> 1565.1 | AE48: =SUM(S48:AD48) -> 0 | AF48: =SUM(S48:AD48) -> 0 | AG48: =SUM(S48:AD48) -> 0
Q49: =SUM(C49:N49) -> 0 | AG49: =SUM(S49:AD49) -> 0
A50: Munkatárs | B50: 443 | Q50: =SUM(C50:N50) -> 0 | AG50: =SUM(S50:AD50) -> 0
A51: alap | C51: =$B$50 -> 443 | D51: =$B$50 -> 443 | E51: =$B$50 -> 443 | F51: =$B$50 -> 443 | G51: =$B$50 -> 443 | H51: =$B$50 -> 443 | I51: =$B$50 -> 443 | J51: =$B$50 -> 443 | ... N51: =$B$50 -> 443 | O51: =SUM(C51:N51) -> 5316 | P51: =SUM(C51:N51) -> 5316 | Q51: =SUM(C51:N51) -> 5316 | AE51: =SUM(S51:AD51) -> 0 | AF51: =SUM(S51:AD51) -> 0 | AG51: =SUM(S51:AD51) -> 0
A52: járulékok | C52: =C51*0.235 -> 104.105 | D52: =D51*0.235 -> 104.105 | E52: =E51*0.235 -> 104.105 | F52: =F51*0.235 -> 104.105 | G52: =G51*0.235 -> 104.105 | H52: =H51*0.235 -> 104.105 | I52: =I51*0.235 -> 104.105 | J52: =J51*0.235 -> 104.105 | ... N52: =N51*0.235 -> 104.105 | O52: =SUM(C52:N52) -> 1249.26 | P52: =SUM(C52:N52) -> 1249.26 | Q52: =SUM(C52:N52) -> 1249.26 | AE52: =SUM(S52:AD52) -> 0 | AF52: =SUM(S52:AD52) -> 0 | AG52: =SUM(S52:AD52) -> 0
Q53: =SUM(C53:N53) -> 0 | AG53: =SUM(S53:AD53) -> 0
A54: Játszótér ellenőr | B54: 227 | Q54: =SUM(C54:N54) -> 0 | AG54: =SUM(S54:AD54) -> 0
A55: alap | C55: 227 | D55: 227 | E55: 227 | F55: 227 | G55: 227 | H55: 227 | I55: 227 | J55: 227 | K55: 227 | L55: 227 | M55: 227 | N55: 227 | O55: =SUM(C55:N55) -> 2724 | P55: =SUM(C55:N55) -> 2724 | Q55: =SUM(C55:N55) -> 2724 | AE55: =SUM(S55:AD55) -> 0 | AF55: =SUM(S55:AD55) -> 0 | AG55: =SUM(S55:AD55) -> 0
A56: járulékok | C56: =C55*0.235 -> 53.345 | D56: =D55*0.235 -> 53.345 | E56: =E55*0.235 -> 53.345 | F56: =F55*0.235 -> 53.345 | G56: =G55*0.235 -> 53.345 | H56: =H55*0.235 -> 53.345 | I56: =I55*0.235 -> 53.345 | J56: =J55*0.235 -> 53.345 | ... N56: =N55*0.235 -> 53.345 | O56: =SUM(C56:N56) -> 640.14 | P56: =SUM(C56:N56) -> 640.14 | Q56: =SUM(C56:N56) -> 640.14 | AE56: =SUM(S56:AD56) -> 0 | AF56: =SUM(S56:AD56) -> 0 | AG56: =SUM(S56:AD56) -> 0
A58: Játszótér takarítók (2 fő) | B58: 227
A59: alap | C59: =$B$58*2 -> 454 | D59: =$B$58*2 -> 454 | E59: =$B$58*2 -> 454 | F59: =$B$58*2 -> 454 | G59: =$B$58*2 -> 454 | H59: =$B$58*2 -> 454 | I59: =$B$58*2 -> 454 | J59: =$B$58*2 -> 454 | ... N59: =$B$58*2 -> 454 | O59: =SUM(C59:N59) -> 5448 | P59: =SUM(C59:N59) -> 5448 | Q59: =SUM(C59:N59) -> 5448
A60: járulékok | C60: =C59*0.235 -> 106.69 | D60: =D59*0.235 -> 106.69 | E60: =E59*0.235 -> 106.69 | F60: =F59*0.235 -> 106.69 | G60: =G59*0.235 -> 106.69 | H60: =H59*0.235 -> 106.69 | I60: =I59*0.235 -> 106.69 | J60: =J59*0.235 -> 106.69 | ... N60: =N59*0.235 -> 106.69 | O60: =SUM(C60:N60) -> 1280.28 | P60: =SUM(C60:N60) -> 1280.28 | Q60: =SUM(C60:N60) -> 1280.28
A62: Játszótér karbantartó | B62: 227
A63: alap | C63: =$B$62 -> 227 | D63: =$B$62 -> 227 | E63: =$B$62 -> 227 | F63: =$B$62 -> 227 | G63: =$B$62 -> 227 | H63: =$B$62 -> 227 | I63: =$B$62 -> 227 | J63: =$B$62 -> 227 | ... N63: =$B$62 -> 227 | Q63: =SUM(C63:N63) -> 2724
A64: járulékok | C64: =C63*0.235 -> 53.345 | D64: =D63*0.235 -> 53.345 | E64: =E63*0.235 -> 53.345 | F64: =F63*0.235 -> 53.345 | G64: =G63*0.235 -> 53.345 | H64: =H63*0.235 -> 53.345 | I64: =I63*0.235 -> 53.345 | J64: =J63*0.235 -> 53.345 | ... N64: =N63*0.235 -> 53.345 | Q64: =SUM(C64:N64) -> 640.14
Q65: =SUM(C65:N65) -> 0 | AE65: =SUM(S65:AD65) -> 0 | AF65: =SUM(S65:AD65) -> 0 | AG65: =SUM(S65:AD65) -> 0
A66: FEB tagok tisztelet díja (40-40-70 eFt/hó) | C66: 150 | D66: 150 | E66: 150 | F66: 150 | G66: 150 | H66: 150 | I66: 150 | J66: 150 | K66: 150 | L66: 150 | M66: 150 | N66: 150 | O66: =SUM(C66:N66) -> 1800 | P66: =SUM(C66:N66) -> 1800 | Q66: =SUM(C66:N66) -> 1800 | AE66: =SUM(S66:AD66) -> 0 | AF66: =SUM(S66:AD66) -> 0 | AG66: =SUM(S66:AD66) -> 0
A67: FEB taszteletdíj járulékai | C67: 40 | D67: 40 | E67: 40 | F67: 40 | G67: 40 | H67: 40 | I67: 40 | J67: 40 | K67: 40 | L67: 40 | M67: 40 | N67: 40 | O67: =SUM(C67:N67) -> 480 | P67: =SUM(C67:N67) -> 480 | Q67: =SUM(C67:N67) -> 480
Q68: =SUM(C68:N68) -> 0 | AG68: =SUM(S68:AD68) -> 0
A69: nyugdíj pénztár munkált (5%) | C69: =((C47+C51+C55+C59+C63)*0.03)*1.235 -> 70.6173 | D69: =$C$69 -> 70.6173 | E69: =$C$69 -> 70.6173 | F69: =$C$69 -> 70.6173 | G69: =$C$69 -> 70.6173 | H69: =$C$69 -> 70.6173 | I69: =$C$69 -> 70.6173 | J69: =$C$69 -> 70.6173 | K69: =$C$69 -> 70.6173 | ... N69: =$C$69 -> 70.6173 | O69: =SUM($C$69:$N$69) -> 847.4076 | P69: =SUM($C$69:$N$69) -> 847.4076 | Q69: =SUM($C$69:$N$69) -> 847.4076 | AE69: =SUM(S69:AD69) -> 0 | AF69: =SUM(T69:AE69) -> 0 | AG69: =SUM(U69:AF69) -> 0
A70: Széchenyi egészség kártya (8000Ft) 6fő | C70: 48 | D70: 48 | E70: 48 | F70: 48 | G70: 48 | H70: 48 | I70: 48 | J70: 48 | K70: 48 | L70: 48 | M70: 48 | N70: 48 | O70: =SUM(C70:N70) -> 576 | P70: =SUM(C70:N70) -> 576 | Q70: =SUM(C70:N70) -> 576 | AE70: =SUM(S70:AD70) -> 0 | AF70: =SUM(S70:AD70) -> 0 | AG70: =SUM(S70:AD70) -> 0
A71: munkábajárás | O71: =SUM(C71:N71) -> 0 | P71: =SUM(C71:N71) -> 0 | Q71: =SUM(C71:N71) -> 0 | AE71: =SUM(S71:AD71) -> 0 | AF71: =SUM(S71:AD71) -> 0 | AG71: =SUM(S71:AD71) -> 0
A72: hivatali célú gépjármű kltsg | C72: 25 | D72: 25 | E72: 25 | F72: 25 | G72: 25 | H72: 25 | I72: 25 | J72: 25 | K72: 25 | L72: 25 | M72: 25 | N72: 25 | O72: =SUM(C72:N72) -> 300 | P72: =SUM(C72:N72) -> 300 | Q72: =SUM(C72:N72) -> 300
A73: Állandó költségek
A74: víz,csatorna | C74: 5 | D74: 5 | E74: 5 | F74: 5 | G74: 5 | H74: 5 | I74: 5 | J74: 5 | K74: 5 | L74: 5 | M74: 5 | N74: 5 | O74: =SUM(C74:N74) -> 60 | P74: =SUM(C74:N74) -> 60 | Q74: =SUM(C74:N74) -> 60 | AE74: =SUM(S74:AD74) -> 0 | AF74: =SUM(S74:AD74) -> 0 | AG74: =SUM(S74:AD74) -> 0
A75: villany | C75: 10 | D75: 10 | E75: 10 | F75: 10 | G75: 10 | H75: 10 | I75: 10 | J75: 10 | K75: 10 | L75: 10 | M75: 10 | N75: 10 | O75: =SUM(C75:N75) -> 120 | P75: =SUM(C75:N75) -> 120 | Q75: =SUM(C75:N75) -> 120 | AE75: =SUM(S75:AD75) -> 0 | AF75: =SUM(S75:AD75) -> 0 | AG75: =SUM(S75:AD75) -> 0
A76: fűtés | C76: 30 | D76: 30 | E76: 30 | F76: 30 | G76: 30 | H76: 30 | I76: 30 | J76: 30 | K76: 30 | L76: 30 | M76: 30 | N76: 30 | O76: =SUM(C76:N76) -> 360 | P76: =SUM(C76:N76) -> 360 | Q76: =SUM(C76:N76) -> 360 | AE76: =SUM(S76:AD76) -> 0 | AF76: =SUM(S76:AD76) -> 0 | AG76: =SUM(S76:AD76) -> 0
A77: szemét | C77: 3 | D77: 3 | E77: 3 | F77: 3 | G77: 3 | H77: 3 | I77: 3 | J77: 3 | K77: 3 | L77: 3 | M77: 3 | N77: 3 | O77: =SUM(C77:N77) -> 36 | P77: =SUM(C77:N77) -> 36 | Q77: =SUM(C77:N77) -> 36 | AE77: =SUM(S77:AD77) -> 0 | AF77: =SUM(S77:AD77) -> 0 | AG77: =SUM(S77:AD77) -> 0
A78: info kommunikáció adat (webcam, iroda, wifi,stb.) | C78: 50 | D78: 50 | E78: 50 | F78: 50 | G78: 50 | H78: 50 | I78: 50 | J78: 50 | K78: 50 | L78: 50 | M78: 50 | N78: 50 | O78: =SUM(C78:N78) -> 600 | P78: =SUM(C78:N78) -> 600 | Q78: =SUM(C78:N78) -> 600 | AE78: =SUM(S78:AD78) -> 0 | AF78: =SUM(S78:AD78) -> 0 | AG78: =SUM(S78:AD78) -> 0
A79: info supprot (rendszer) | C79: 50 | D79: 50 | E79: 50 | F79: 50 | G79: 50 | H79: 50 | I79: 50 | J79: 50 | K79: 50 | L79: 50 | M79: 50 | N79: 50 | O79: =SUM(C79:N79) -> 600 | P79: =SUM(C79:N79) -> 600 | Q79: =SUM(C79:N79) -> 600 | AE79: =SUM(S79:AD79) -> 0 | AF79: =SUM(S79:AD79) -> 0 | AG79: =SUM(S79:AD79) -> 0
A80: könyvelő | C80: 15 | D80: 15 | E80: 15 | F80: 15 | G80: 15 | H80: 15 | I80: 15 | J80: 15 | K80: 15 | L80: 15 | M80: 15 | N80: 15 | O80: =SUM(C80:N80) -> 180 | P80: =SUM(C80:N80) -> 180 | Q80: =SUM(C80:N80) -> 180 | AE80: =SUM(S80:AD80) -> 0 | AF80: =SUM(S80:AD80) -> 0 | AG80: =SUM(S80:AD80) -> 0
A81: iroda takarítás | C81: 20 | D81: 20 | E81: 20 | F81: 20 | G81: 20 | H81: 20 | I81: 20 | J81: 20 | K81: 20 | L81: 20 | M81: 20 | N81: 20 | O81: =SUM(C81:N81) -> 240 | P81: =SUM(C81:N81) -> 240 | Q81: =SUM(C81:N81) -> 240 | AE81: =SUM(S81:AD81) -> 0 | AF81: =SUM(S81:AD81) -> 0 | AG81: =SUM(S81:AD81) -> 0
A82: munkavégzéshez Bkv bérlet 4 fő | C82: 42 | D82: 42 | E82: 42 | F82: 42 | G82: 42 | H82: 42 | I82: 42 | J82: 42 | K82: 42 | L82: 42 | M82: 42 | N82: 42 | O82: =SUM(C82:N82) -> 504 | P82: =SUM(C82:N82) -> 504 | Q82: =SUM(C82:N82) -> 504 | AE82: =SUM(S82:AD82) -> 0 | AF82: =SUM(S82:AD82) -> 0 | AG82: =SUM(S82:AD82) -> 0
A84: Rendezvények | B84: 3000 | O84: =B84 -> 3000 | P84: =B84 -> 3000
A86: Beruházások
A87: Csalogány
A88: Rumini Mária tér | B88: WC | C88: 15000 | O88: 15000 | AE88: =SUM(S88:AD88) -> 0
A89: Farnklin
A90: Donáti
A91: Mátyás Király
A92: PomPom Naphegy | B92: BKV WC | O92: 5000
A93: Vuk Bérc | B93: WC | C93: 15000 | O93: 15000
A94: Aladár
A95: Szaffi (új)
A96: Web kamera rendszer kiépítése ( 10x2 db) | B96: 4000 | O96: =B96 -> 4000 | Q96: =C96 -> 0 | AE96: =R96 -> 0 | AF96: =R96 -> 0 | AG96: =S96 -> 0
A97: Sportpályák
A98: Európa liget | B98: 5000 | O98: =$B$98 -> 5000 | P98: 3000
A99: Váralja utca | B99: 5000 | O99: =$B$99 -> 5000 | P99: 3000
A100: Összesen: | C100: =SUM(C3:C82) -> 4197.5273 | D100: =SUM(D3:D82) -> 3557.5273 | E100: =SUM(E3:E82) -> 3632.5273 | F100: =SUM(F3:F82) -> 3497.5273 | G100: =SUM(G3:G82) -> 3857.5273 | H100: =SUM(H3:H82) -> 3407.5273 | I100: =SUM(I3:I82) -> 3697.5273 | J100: =SUM(J3:J82) -> 3382.5273 | ... N100: =SUM(N3:N82) -> 3632.5273 | O100: =SUM(O3:O99) -> 224806.19 | P100: =SUM(P3:P99) -> 96691.188 | Q100: =SUM(Q3:Q99) -> 61440.328 | S100: =SUM(S3:S82) -> 0 | T100: =SUM(T3:T82) -> 0 | U100: =SUM(U3:U82) -> 0 | V100: =SUM(V3:V82) -> 0 | W100: =SUM(W3:W82) -> 0 | X100: =SUM(X3:X82) -> 0 | Y100: =SUM(Y3:Y82) -> 0 | Z100: =SUM(Z3:Z82) -> 0 | ... AD100: =SUM(AD3:AD82) -> 0 | AE100: =SUM(AE3:AE99) -> 0 | AF100: =SUM(AF3:AF99) -> 0 | AG100: =SUM(AG3:AG99) -> 0

Sheet 2020
A1: Eszköz sorszáma | B1: Játszóeszközök | C1: Tervezett feladatok | D1: (1,2,3) | E1: A Bruttó (anyag és munka) | F1: B Bruttó (anyag és munka) | G1: C Bruttó (anyag és munka) | H1: Saját karbantartó által elvégezhető munkák
A2: Játszótér neve: VUK | C2: Címe: 1016 Budapest, Szirtes út 22.-Bérc u. 25. | D2: Prioritás | E2: teljes (esztétiaki is) | F2: fontos (indokolt) | G2: minden képpen (elengedhetetlen) | H2: bérköltség oldalon
A3: 1. | B3: Mászóvár csúszdával "Játszóváros" | C3: Általános karbantartás, esetleges állapotából adódó javítás | D3: 1 | E3: 100000 | F3: 100000 | H3: 100000
A4: 2. | B4: Rókavár "Karak barlangja"
A5: 3. | B5: Alagútcsúszda 1.
A6: 4. | B6: Alagútcsúszda 2.
A7: 5. | B7: Homokozó és csúszda "Manóház" | C7: Homokcsere 12 m3 | D7: 2 | E7: 550000 | F7: 550000 | G7: 250000
A8: 6. | B8: Duplarugós mérleghinta | C8: Csavarmeghúzás, esetleges rugótörés miatti rugócsere | D8: 1 | E8: 150000 | F8: 150000 | G8: 100000 | H8: 50000
A9: 7. | B9: Rugós játék - motor | C9: Csavarmeghúzás, rögzítés | D9: 1 | E9: 25000 | F9: 25000 | H9: 25000
A10: 8. | B10: Rugós lépegető | C10: Csavarmeghúzás, rögzítés | D10: 1 | E10: 25000 | F10: 25000 | H10: 25000
A11: 9. | B11: Kötélpálya | C11: Rögzítő csavarok lazítása "kalandpark építő" vállalkozás által | D11: 2 | E11: 250000 | F11: 250000 | G11: 100000 | H11: 150000
A12: 10. | B12: Függőhíd "Kötélhíd" | C12: Elemek rögzítése | D12: 1 | E12: 25000 | F12: 25000 | H12: 25000
A13: 12. | B13: Babaház előtérrel | C13: Általános karbantartás korhadt faelemek cseréje, tetőfedés javítása | D13: 2 | E13: 75000 | F13: 75000 | G13: 25000 | H13: 50000
A14: 13. | B14: Hintaállvány két ülőkével | C14: Csavarmeghúzás, rögzítés | D14: 1 | E14: 25000 | F14: 25000 | H14: 25000
A15: 14. | B15: Hintaállvány két speciális bölcsőülőkével | C15: Csavarmeghúzás, rögzítés | D15: 1 | E15: 25000 | F15: 25000 | H15: 25000
A16: 15. | B16: Új fészekhinta | C16: Telepítés öntött ütéscsillapító gumiburkolattal | D16: 3 | E16: 3500000
A17: 16. | B17: Fitnesz eszközök | C17: Fitnesz eszközök elbontása | D17: 2 | E17: 150000 | F17: 150000
A18: 17. | C18: Ivókút karbantartása: nyitás-zárás, tisztítás, dugulás elhárítás. Automata öntözőrendszer beállítása, beüzemelése | D18: 1 | E18: 180000 | F18: 180000 | H18: 180000
A19: 18. | C19: Mulcsfeltöltés, kétregpótlás 150 l | D19: 2 | E19: 410000 | F19: 410000 | G19: 410000
A20: 19. | C20: Játszóeszközök védőmázolása | D20: 2 | E20: 300000 | F20: 300000 | G20: 200000 | H20: 100000
A21: 20. | C21: Tematikus matricák pótlása | D21: 3 | E21: 280000 | F21: 280000
A22: Összesen: | E22: =SUM(E3:E21) -> 6070000 | F22: =SUM(F3:F21) -> 2570000 | G22: =SUM(G3:G21) -> 1085000 | H22: =SUM(H3:H21) -> 755000
A23: Játszótér neve: Pom-Pom | C23: Címe: 1016 Budapest, Naphegy tér | E23: Hrsz:7339/2
A24: 1. | B24: Piros forgóbogrács | C24: Ellenőrzés | D24: 2 | E24: 25000 | F24: 25000 | H24: 25000
A25: 2. | B25: Rugós játék 4 levelű lóhere | C25: Csavarmeghúzás, rögzítés | D25: 1 | E25: 25000 | F25: 25000 | H25: 25000
A26: 3. | B26: Beülős rugós játék | C26: Csavarmeghúzás, rögzítés | D26: 1 | E26: 25000 | F26: 25000 | H26: 25000
A27: 4. | B27: 2*2-es hintaállvány vegyes ülőkékkel | C27: Általános karbantartás, csavarmeghúzás, öntött gumi pótlása | D27: 1 | E27: 25000 | F27: 25000 | H27: 25000
A28: 5. | B28: Szabadon álló nagycsúszda | C28: Csavarmeghúzás, rögzítés | D28: 1 | E28: 25000 | F28: 25000 | H28: 25000
A29: 6. | B29: Vonat | C29: Általános karbantartás | D29: 2 | E29: 25000 | F29: 25000 | H29: 25000
A30: 7. | B30: Sivatag hajója | C30: Általános karbantartás, csavarmeghúzás, ujjbeszorulást megakadályozó elemek pótlása, korlát hegesztése, járódeszkák cseréje | D30: 1 | E30: 200000 | F30: 200000 | G30: 100000 | H30: 100000
A31: 8. | B31: Sárga forgóbogrács | C31: Ellenőrzés | D31: 2 | E31: 25000 | F31: 25000 | H31: 25000
A32: 9. | B32: Szabadon álló kiscsúszda | C32: Csavarmeghúzás, rögzítés | D32: 1 | E32: 25000 | F32: 25000 | H32: 25000
A33: 10. | B33: Rugós játék - kakas | C33: Csavarmeghúzás, rögzítés | D33: 1 | E33: 25000 | F33: 25000 | H33: 25000
A34: 11. | B34: Rugós játék - motor | C34: Csavarmeghúzás, rögzítés | D34: 1 | E34: 25000 | F34: 25000 | H34: 25000
A35: 12. | B35: Hálós függeszkedő kombinált mászóka | C35: Általános karbantartás, csavarmeghúzás | E35: 50000 | F35: 50000 | H35: 50000
A36: 13. | B36: Homokozó | C36: Homokcsere 8 m3 | D36: 2 | E36: 360000 | F36: 360000 | G36: 180000
A37: 14. | B37: Gombóc Artúr háza | C37: Általános karbantartás, ülőpadok karbantartása | D37: 2 | E37: 80000 | F37: 40000 | H37: 40000
A38: 15. | B38: Madárvédő Golyókapkodó háza | C38: Általános karbantartás, ülőpadok faalkatrészének cseréje | D38: 2 | E38: 80000 | F38: 40000 | H38: 40000
A39: 16. | B39: Hapci Benő háza | C39: Általános karbantartás, ülőpadok faalkatrészének cseréje | D39: 2 | E39: 80000 | F39: 40000 | H39: 40000
A40: 17. | B40: Órás hirdetőoszlop | C40: Általános karbantartás, festés, Óraszerkezet karbantartása | D40: 2 | E40: 650000
A41: 18. | B41: Új játszóeszköz | C41: Új játszóeszköz hálós forgó telepítése ütéscsillapító gumiburkolattal | D41: 2 | E41: 3300000 | F41: 3300000 | G41: 3300000
A42: 19. | B42: Fitnesz eszközök | C42: Bontott és átszállított fitnesz eszközök telepítése ütéscsillapító gumitéglával, valamint meglévő botlásveszélyes gumitéglák cseréje | D42: 3 | E42: =180000+200000 -> 380000 | F42: =180000+200000 -> 380000
A43: 20. | C43: Ütéscsillapító burkolat, talajtakaró feltöltés 2-8 mm közötti idegen anyagtól mentes kavics feltöltés | D43: 1 | G43: 150000
A44: 21. | C44: Új ütéscsillapító gumiburkolat készítése teljes felületre gyöngykavics helyett 600nm (400nm) | D44: 3 | E44: 15000000 | F44: 10000000
A45: 22. | C45: Játszóeszközök védőmázolása | D45: 2 | E45: 430000 | F45: 430000 | G45: 200000 | H45: 230000
A46: 23. | C46: Ivókút karbantartása: nyitás-zárás, tisztítás, dugulás elhárítás | D46: 1 | E46: 180000 | F46: 180000 | H46: 180000
A47: Összesen: | E47: =SUM(E24:E46) -> 21040000 | F47: =SUM(F24:F46) -> 15270000 | G47: =SUM(G24:G46) -> 3930000 | H47: =SUM(H24:H46) -> 930000
A48: Játszótér neve: Mátyás Király Játszópark | C48: Címe: 1014 Budapest, Tárnok u. 9. | E48: Hrsz:6527/2
A49: 1. | B49: "Mátyás király vára" játszópavilon-óriásvár | C49: Általános éves karbantartás, esztétikai szintentartás, javítás, helyreállítás | D49: 1 | E49: 2000000 | F49: 1000000 | G49: 300000 | H49: 200000
A50: 2. | B50: Rugós lépegető | C50: Csavarmeghúzás, rögzítés | D50: 1 | E50: 25000 | F50: 25000 | H50: 25000
A51: 3. | B51: Hintaállvány két ülőkével I. | C51: Csavarmeghúzás, rögzítés | D51: 1 | E51: 25000 | F51: 25000 | H51: 25000
A52: 4. | B52: Hintaállvány két ülőkével II. | C52: Csavarmeghúzás, rögzítés | D52: 1 | E52: 25000 | F52: 25000 | H52: 25000
A53: 5. | B53: Homokozó | C53: Homokcsere 8 m3 | D53: 2 | E53: 450000 | F53: 450000 | G53: 200000
C54: Homokozó játék asztalka telepítése | D54: 3 | E54: 380000 | F54: 380000 | G54: 380000
A55: 6. | B55: Kéttornyú kombinált vár csúszdával, hintával | C55: Általános éves karbantartás, esztétikai szintentartás, javítás, helyreállítás | D55: 1 | E55: 150000 | F55: 150000 | H55: 150000
A56: 7. | C56: Ivókút karbantartása: nyitás-zárás, tisztítás, dugulás elhárítás | D56: 1 | E56: 180000 | F56: 180000 | H56: 180000
A57: 8. | C57: Párakapu karbantartása | D57: 2 | E57: 50000 | F57: 50000 | G57: 20000 | H57: 30000
A58: 9. | C58: Játszóeszközök védőmázolása | D58: 2 | E58: 550000 | F58: 550000 | G58: 250000 | H58: 300000
A59: 10. | C59: Megrongálódott tematikus matricák pótlása | D59: 2 | E59: 400000
A60: 11. | C60: Bástya újra építése (árajánlat alapján) | D60: 3 | E60: 30000000
A61: Összesen: | E61: =SUM(E49:E60) -> 34235000 | F61: =SUM(F49:F60) -> 2835000 | G61: =SUM(G49:G60) -> 1150000 | H61: =SUM(H49:H60) -> 935000
A62: Játszótér neve: Rumini | C62: Címe: 1011 Budapest, Mária tér | E62: Hrsz:14098/1/2/3
A63: 1. | B63: "Egérváros" óriás játszóvár | C63: Általános éves karbantartás, esztétikai szintentartás, javítás, helyreállítás. Meglévő padlódeszka cseréje, tartós akác deszkázatra | D63: 2 | E63: 2000000 | F63: 2000000 | G63: 1000000 | H63: 1000000
A64: 2. | B64: Hintaállvány laphintával | C64: Hintaállvány cseréje ülőkékkel, korhadt balesetveszélyes hintaláb miatt. Gumiburkolat helyreállítása, színes ütéscsillapító öntött gumiból. Munkadíj | D64: 1 | E64: =130000+200000 -> 330000 | F64: =130000+200000 -> 330000 | G64: =130000+200000 -> 330000
A65: 3. | B65: Homokozó 1 | C65: Homokcsere 5 m3, Homokozó faszegélyek további cseréje | D65: 2 | E65: =410000 -> 410000 | F65: =410000 -> 410000 | G65: 200000
A66: 4. | B66: Beülős rugós játék | C66: Csavarmeghúzás, rögzítés | D66: 1 | E66: 25000 | F66: 25000 | H66: 25000
A67: 5. | B67: Homokozó-óriáskerék-vonat-forgatós memória játék kombináció | C67: Homokcsere 5 m3. Homokozót szegélyező gerendák cseréje | D67: 2 | E67: 410000 | F67: 410000 | G67: 250000
A68: 6. | B68: "Pókháló" Kötélmászóka | C68: Csavarmeghúzás, rögzítés | D68: 1 | E68: 25000 | F68: 25000 | H68: 25000
A69: 7. | B69: Duplarugós mérleghinta "Albatrosz" | C69: Csavarmeghúzás, rögzítés | D69: 1 | E69: 25000 | F69: 25000 | H69: 25000
A70: 8. | B70: Többfunkciós mászóka "Szíriusz" | C70: Csavarmeghúzás, rögzítés, kopott mászóalkatrészek cseréje | D70: 1 | E70: 260000 | F70: 260000 | G70: 100000 | H70: 160000
A71: 9. | B71: Hajó "Uniplay Keszthely" | C71: Általános karbantartás, esztétikai szintentartás, egyedi fafaragással készített hajóorr karbantartása | D71: 2 | E71: 250000 | F71: 100000 | G71: 20000 | H71: 80000
A72: 10. | B72: Labirintus kuckókkal "Unimini Pyralli" | C72: Csavarmeghúzás, rögzítés | D72: 1 | E72: 25000 | F72: 25000 | H72: 25000
A73: 11. | B73: Forgatható iránytű | C73: Általános karbantartás, esztétikai szintentartás. Meghibásodás esetén javíttatása gyártóval | D73: 2 | E73: 250000 | F73: 100000 | G73: 20000 | H73: 80000
A74: 12. | B74: Hintaállvány két ülőkével "Swing Goro" | C74: Csavarmeghúzás, rögzítés | D74: 1 | E74: 25000 | F74: 25000 | H74: 25000
A75: 13. | B75: Fészekhinta | C75: Csavarmeghúzás, rögzítés, általános karbantartás, olajozás | D75: 1 | E75: 25000 | F75: 25000 | H75: 25000
A76: 14. | B76: Minibárka I. | C76: Korhadás miatt új felépítmény készítése- tervezet | D76: 2 | E76: 150000 | F76: 150000
A77: 15. | B77: Minibárka II. | C77: Általános karbantartás, esztétikai szintentartás | D77: 1 | E77: 25000 | F77: 25000 | H77: 25000
A78: 16. | B78: Minibárka III. | C78: Általános karbantartás, esztétikai szintentartás | D78: 1 | E78: 25000 | F78: 25000 | H78: 25000
A79: 17. | B79: Minibárka IV. | C79: Általános karbantartás, esztétikai szintentartás | D79: 1 | E79: 25000 | F79: 25000 | H79: 25000
A80: 18. | B80: Horgony ülőke | C80: Általános karbantartás, esztétikai szintentartás | D80: 1 | E80: 25000 | F80: 25000 | H80: 25000
A81: 19. | B81: Hordó kilátó | C81: Általános karbantartás, esztétikai szintentartás | D81: 1 | E81: 25000 | F81: 25000 | H81: 25000
A82: 20. | B82: Árnyékoló | C82: Árnyékoló telepítése Hags hintaállvány fölé. | D82: 2 | E82: 160000 | F82: 160000 | G82: 160000
A83: 21. | C83: Hajó alatti terület feltöltése o,2-2 mm szemcsenagyság közötti folyami homokkal ütéscsillapítás céljából 6 m3 | D83: 1 | E83: 220000 | F83: 220000 | G83: 220000
A84: 22. | C84: Játszóeszközök védőmázolása | D84: 2 | E84: 520000 | F84: 520000 | G84: 200000 | H84: 320000
A85: 23. | C85: Labirintus játék köré, valamint óriásvár mögötti területen mulcsfeltöltés pótlása 130 l | D85: 2 | E85: 350000 | F85: 350000 | G85: 350000
A86: 24. | C86: Terraway vízáteresztő stabilizált kavicsburkolat kialakítása hajó feletti és horgony körüli területeken, valamint a fogadótéren és a két kapu előtt | D86: 3 | E86: 6000000
A87: 25. | C87: Hinta alatti kopott gumiburkolat felújítása- árnyékoló telepítésével egyidőben | D87: 2 | E87: 800000 | F87: 800000
A88: 26. | C88: Tematikus matricák cseréje, pótlása, direktnyomásos technológiával felújítása | D88: 3 | E88: 420000
A89: 27. | C89: Ivókút karbantartása: nyitás-zárás, tisztítás, dugulás elhárítás | D89: 1 | E89: 180000 | F89: 180000 | H89: 180000
A90: Összesen: | E90: =SUM(E63:E89) -> 12985000 | F90: =SUM(F63:F89) -> 6265000 | G90: =SUM(G63:G89) -> 2850000 | H90: =SUM(H63:H89) -> 2095000
A91: Játszótér neve: Franklin | C91: Címe: 1015 Budapest, Franklin u. 1. | E91: Hrsz:14111/7
A92: 1. | B92: Egyensúlyozó kombináció "klub sarok" Kompan | C92: Csavarmeghúzás, rögzítés. Kopott faalkatrészek cseréje | D92: 1 | E92: 125000 | F92: 125000 | G92: 100000 | H92: 25000
A93: 2. | B93: Függeszkedő emelvénnyel "trapéz" | C93: Csavarmeghúzás, rögzítés. Egyes kopott faalkatrészek cseréje | D93: 1 | E93: 85000 | F93: 85000 | G93: 60000 | H93: 25000
A94: 3. | B94: Kombinált mászóka "Mászófal" | C94: Csavarmeghúzás, rögzítés. Egyes kopott faalkatrészek cseréje | D94: 1 | E94: 85000 | F94: 85000 | G94: 60000 | H94: 25000
A95: 4. | B95: Emelvények álló hintával "Si-szving" | C95: Csavarmeghúzás, rögzítés. Egyes kopott faalkatrészek cseréje | D95: 1 | E95: 55000 | F95: 55000 | G95: 30000 | H95: 25000
A96: 5. | B96: Spica 1 | C96: Ellenőrzés | D96: 2 | E96: 25000 | F96: 25000 | H96: 25000
A97: 6. | B97: Spica 2 | C97: Ellenőrzés | D97: 2 | E97: 25000 | F97: 25000 | H97: 25000
A98: 7. | B98: Spica 3 | C98: Ellenőrzés | D98: 2 | E98: 25000 | F98: 25000 | H98: 25000
A99: 8. | B99: Kuckó "Mágikus házikó" | C99: Csavarmeghúzás, rögzítés | D99: 1 | E99: 25000 | F99: 25000 | H99: 25000
A100: 9. | B100: Szabadon álló csúszda "Minifánt" | C100: Csavarmeghúzás, rögzítés | D100: 1 | E100: 25000 | F100: 25000 | H100: 25000
...

Sheet I. terv 2021
A1: Költség elem | C1: 2020 | D1: terv | O1: A össz | P1: B össz | Q1: C össz | R1: tény | S1: tény | AE1: A össz | AF1: B össz | AG1: C össz
C2: jan | D2: febr | E2: márc | F2: ápr | G2: máj | H2: jún | I2: júl | J2: aug | K2: szep | L2: okt | M2: nov | N2: dec | O2: teljes | P2: közép | Q2: min | S2: jan | T2: febr | U2: márc | V2: ápr | W2: máj | X2: jún | Y2: júl | Z2: aug | AA2: szep | AB2: okt | AC2: nov | AD2: dec | AE2: teljes | AF2: min | AG2: min
A3: Javítások | O3: =SUM(O12:O26) -> 5115 | P3: =SUM(P12:P26) -> 5115 | Q3: =SUM(Q12:Q26) -> 5315
A4: Csalogány | O4: =SUM(C4:N4) -> 0 | P4: =SUM(C4:N4) -> 0 | Q4: =SUM(C4:N4) -> 0 | AE4: =SUM(S4:AD4) -> 0 | AF4: =SUM(S4:AD4) -> 0 | AG4: =SUM(S4:AD4) -> 0
A5: Rumini Mária tér | O5: =SUM(C5:N5) -> 0 | P5: =SUM(C5:N5) -> 0 | Q5: =SUM(C5:N5) -> 0 | AE5: =SUM(S5:AD5) -> 0 | AF5: =SUM(S5:AD5) -> 0 | AG5: =SUM(S5:AD5) -> 0
A6: Farnklin | O6: =SUM(C6:N6) -> 0 | P6: =SUM(C6:N6) -> 0 | Q6: =SUM(C6:N6) -> 0 | AE6: =SUM(S6:AD6) -> 0 | AF6: =SUM(S6:AD6) -> 0 | AG6: =SUM(S6:AD6) -> 0
A7: Donáti | O7: =SUM(C7:N7) -> 0 | P7: =SUM(C7:N7) -> 0 | Q7: =SUM(C7:N7) -> 0 | AE7: =SUM(S7:AD7) -> 0 | AF7: =SUM(S7:AD7) -> 0 | AG7: =SUM(S7:AD7) -> 0
A8: Mátyás Király | O8: =SUM(C8:N8) -> 0 | P8: =SUM(C8:N8) -> 0 | Q8: =SUM(C8:N8) -> 0 | AE8: =SUM(S8:AD8) -> 0 | AF8: =SUM(S8:AD8) -> 0 | AG8: =SUM(S8:AD8) -> 0
A9: PomPom Naphegy | O9: =SUM(C9:N9) -> 0 | P9: =SUM(C9:N9) -> 0 | Q9: =SUM(C9:N9) -> 0 | AE9: =SUM(S9:AD9) -> 0 | AF9: =SUM(S9:AD9) -> 0 | AG9: =SUM(S9:AD9) -> 0
A10: Vuk Bérc | O10: =SUM(C10:N10) -> 0 | P10: =SUM(C10:N10) -> 0 | Q10: =SUM(C10:N10) -> 0 | AE10: =SUM(S10:AD10) -> 0 | AF10: =SUM(S10:AD10) -> 0 | AG10: =SUM(S10:AD10) -> 0
A11: Aladár | O11: =SUM(C11:N11) -> 0 | P11: =SUM(C11:N11) -> 0 | Q11: =SUM(C11:N11) -> 0 | AE11: =SUM(S11:AD11) -> 0 | AF11: =SUM(S11:AD11) -> 0 | AG11: =SUM(S11:AD11) -> 0
A12: Általános javítás (idegen) | C12: 200 | E12: 200 | G12: 200 | I12: 200 | K12: 200 | M12: 200 | O12: 0 | P12: 0 | AE12: =SUM(S12:AD12) -> 0 | AF12: =SUM(S12:AD12) -> 0 | AG12: =SUM(S12:AD12) -> 0
A13: Általános javítás (saját) | C13: 50 | F13: 50 | I13: 50 | L13: 50 | O13: 0 | P13: 0 | Q13: =SUM(C13:N13) -> 200 | AE13: =SUM(S13:AD13) -> 0 | AF13: =SUM(S13:AD13) -> 0 | AG13: =SUM(S13:AD13) -> 0
Q14: =SUM(C14:N14) -> 0 | AG14: =SUM(S14:AD14) -> 0
A15: Játszóterek takarítása, szemét le 12 db | Q15: =SUM(C15:N15) -> 0 | AE15: =SUM(S15:AD15) -> 0 | AF15: =SUM(S15:AD15) -> 0 | AG15: =SUM(S15:AD15) -> 0
A16: (FKF Zrt, szemetes zsákok, stb.) | C16: 70 | F16: 70 | I16: 70 | L16: 70 | O16: =SUM(C16:N16) -> 280 | P16: =SUM(C16:N16) -> 280 | Q16: =SUM(C16:N16) -> 280
A17: vásárolt szolgáltatás (lomb-, hóeltakarítéás, csúszás ment) | C17: 300 | D17: 300 | M17: 300 | N17: 300 | O17: =SUM(C17:N17) -> 1200 | P17: =SUM(C17:N17) -> 1200 | Q17: =SUM(C17:N17) -> 1200
A18: szemétszállítás FKF | C18: 230 | D18: 230 | E18: 230 | F18: 230 | G18: 230 | H18: 230 | I18: 230 | J18: 230 | K18: 230 | L18: 230 | M18: 230 | N18: 230 | O18: =SUM(C18:N18) -> 2760 | P18: =SUM(C18:N18) -> 2760 | Q18: =SUM(C18:N18) -> 2760
A19: Zöld területek fenntartása | E19: 100 | F19: 100 | G19: 100 | H19: 100 | I19: 100 | J19: 100 | K19: 100 | L19: 100 | O19: =SUM(C19:N19) -> 800 | P19: =SUM(C19:N19) -> 800 | Q19: =SUM(C19:N19) -> 800 | AE19: =SUM(S19:AD19) -> 0 | AF19: =SUM(S19:AD19) -> 0 | AG19: =SUM(S19:AD19) -> 0
A20: öntözések
A21: füvesítés, fák, bokrok cserjék újítása (Vuk)
A22: permetezés
A23: környezetterhelési díj
A24: közművek
A25: száradások, viharok okzta károk elhárítása
A26: zöld hulladék elszállítás (zsák) | L26: 25 | M26: 25 | N26: 25 | O26: =SUM(C26:N26) -> 75 | P26: =SUM(C26:N26) -> 75 | Q26: =SUM(C26:N26) -> 75
A27: Jogszerű működés feltételeihez | O27: =SUM(O28:O33) -> 1430 | P27: =SUM(P28:P33) -> 1430 | Q27: =SUM(Q28:Q33) -> 1430
A28: esedékes szabványossági (megfelelőségi) vizsg | O28: =B28 -> 0 | P28: =B28 -> 0 | Q28: =B28 -> 0 | AE28: =R28 -> 0 | AF28: =R28 -> 0 | AG28: =R28 -> 0
A29: éves felülvizsgálatok, javítások 10db | B29: 100 | O29: =B29 -> 100 | P29: =B29 -> 100 | Q29: =B29 -> 100 | AE29: =R29 -> 0 | AF29: =S29 -> 0 | AG29: =T29 -> 0
A30: karbantartási kötelezettségek 10 db | O30: =B30 -> 0 | P30: =C30 -> 0 | Q30: =D30 -> 0 | AE30: =R30 -> 0 | AF30: =S30 -> 0 | AG30: =T30 -> 0
A31: Parkok nyitás zárása | B31: 90 | C31: 90 | D31: 90 | E31: 90 | F31: 90 | G31: 90 | H31: 90 | I31: 90 | J31: 90 | K31: 90 | L31: 90 | M31: 90 | N31: 90 | O31: =SUM(C31:N31) -> 1080 | P31: =SUM(C31:N31) -> 1080 | Q31: =SUM(C31:N31) -> 1080 | AE31: =SUM(S31:AD31) -> 0 | AF31: =SUM(S31:AD31) -> 0 | AG31: =SUM(S31:AD31) -> 0
A32: FESZ EÜ vizsgálat | E32: 25 | J32: 25 | O32: =SUM(D32:N32) -> 50 | P32: =SUM(C32:N32) -> 50 | Q32: =SUM(C32:N32) -> 50 | AE32: =SUM(T32:AD32) -> 0 | AF32: =SUM(S32:AD32) -> 0 | AG32: =SUM(S32:AD32) -> 0
A33: védőruházat védőfelszerelés | E33: 50 | H33: 50 | K33: 50 | N33: 50 | O33: =SUM(D33:N33) -> 200 | P33: =SUM(C33:N33) -> 200 | Q33: =SUM(C33:N33) -> 200 | AE33: =SUM(T33:AD33) -> 0 | AF33: =SUM(S33:AD33) -> 0 | AG33: =SUM(S33:AD33) -> 0
A34: Alkalmi ráfordítások | O34: =SUM(O36:O44) -> 3180 | P34: =SUM(P36:P44) -> 2730 | Q34: =SUM(Q36:Q44) -> 2730
A35: Játszóterek egyszeri teljes körű szbv. Jav. 2020 | O35: ='2021'!E184/1000 -> 116290 | P35: ='2021'!F184/1000 -> 47935 | Q35: ='2021'!G184/1000 -> 15125 | AE35: ='[4]elvégzendő munkálatok 2017'!U161/1000 -> 0 | AF35: ='[4]elvégzendő munkálatok 2017'!V161/1000 -> 0 | AG35: ='[4]elvégzendő munkálatok 2017'!W161/1000 -> 0
A36: Tájékoztató táblák, felíratok | B36: 100 | O36: =B36 -> 100 | P36: =B36 -> 100 | Q36: =B36 -> 100 | AE36: =R36 -> 0 | AF36: =R36 -> 0 | AG36: =R36 -> 0
O37: =B37 -> 0 | P37: =B37 -> 0 | Q37: =B37 -> 0 | AE37: =R37 -> 0 | AF37: =R37 -> 0 | AG37: =R37 -> 0
A38: Honlap karbantartás, megújítás | B38: 300 | O38: =B38 -> 300 | P38: =B38 -> 300 | Q38: =B38 -> 300 | AE38: =R38 -> 0 | AF38: =R38 -> 0 | AG38: =R38 -> 0
A39: Havaria | C39: 300 | G39: 300 | K39: 300 | O39: =SUM(C39:N39) -> 900 | P39: =SUM(C39:N39)/2 -> 450 | Q39: =SUM(C39:N39)/2 -> 450 | AE39: =SUM(S39:AD39) -> 0 | AF39: =SUM(S39:AD39)/2 -> 0 | AG39: =SUM(S39:AD39) -> 0
A40: infromatikai | C40: 20 | F40: 20 | I40: 20 | L40: 20 | O40: =SUM(C40:N40) -> 80 | P40: =SUM(C40:N40) -> 80 | Q40: =SUM(C40:N40) -> 80 | AE40: =SUM(S40:AD40) -> 0 | AF40: =SUM(S40:AD40) -> 0 | AG40: =SUM(S40:AD40) -> 0
A41: cég működés járulékos(iroda, védőital,fénym.stb.) | B41: 20 | C41: 20 | D41: 20 | E41: 20 | F41: 20 | G41: 20 | H41: 20 | I41: 20 | J41: 20 | K41: 20 | L41: 20 | M41: 20 | N41: 20 | O41: =SUM(C41:N41) -> 240 | P41: =SUM(C41:N41) -> 240 | Q41: =SUM(C41:N41) -> 240 | AE41: =SUM(S41:AD41) -> 0 | AF41: =SUM(S41:AD41) -> 0 | AG41: =SUM(S41:AD41) -> 0
A42: Egyéb (parkolás,illeték bélyeg,posta stb.) | C42: 5 | D42: 5 | E42: 5 | F42: 5 | G42: 5 | H42: 5 | I42: 5 | J42: 5 | K42: 5 | L42: 5 | M42: 5 | N42: 5 | O42: =SUM(C42:N42) -> 60 | P42: =SUM(C42:N42) -> 60 | Q42: =SUM(C42:N42) -> 60 | AE42: =SUM(S42:AD42) -> 0 | AF42: =SUM(S42:AD42) -> 0 | AG42: =SUM(S42:AD42) -> 0
A43: Ünnepi díszkivilágítások | B43: 1500 | O43: 1500 | P43: 1500 | Q43: 1500
A45: Személyi költségek | O45: =SUM(O46:O76) -> 60371.682 | P45: =SUM(P46:P76) -> 60371.682 | Q45: =SUM(Q46:Q76) -> 64439.682
A46: Ügyvezető | B46: 950
A47: alap | C47: 950 | D47: 950 | E47: 950 | F47: 950 | G47: 950 | H47: 950 | I47: 950 | J47: 950 | K47: 950 | L47: 950 | M47: 950 | N47: 950 | O47: =SUM(C47:N47) -> 11400 | P47: =SUM(C47:N47) -> 11400 | Q47: =SUM(C47:N47) -> 11400 | AE47: =SUM(S47:AD47) -> 0 | AF47: =SUM(S47:AD47) -> 0 | AG47: =SUM(S47:AD47) -> 0
A48: járulékok | C48: =$C$47*0.13 -> 123.5 | D48: =$C$47*0.13 -> 123.5 | E48: =$C$47*0.13 -> 123.5 | F48: =$C$47*0.13 -> 123.5 | G48: =$C$47*0.13 -> 123.5 | H48: =$C$47*0.13 -> 123.5 | I48: =$C$47*0.13 -> 123.5 | J48: =$C$47*0.13 -> 123.5 | ... N48: =$C$47*0.13 -> 123.5 | O48: =SUM(C48:N48) -> 1482 | P48: =SUM(C48:N48) -> 1482 | Q48: =SUM(C48:N48) -> 1482 | AE48: =SUM(S48:AD48) -> 0 | AF48: =SUM(S48:AD48) -> 0 | AG48: =SUM(S48:AD48) -> 0
Q49: =SUM(C49:N49) -> 0 | AG49: =SUM(S49:AD49) -> 0
A50: Munkatárs (2 fő) | B50: 530 | Q50: =SUM(C50:N50) -> 0 | AG50: =SUM(S50:AD50) -> 0
A51: alap | C51: =$B$50*2 -> 1060 | D51: =$B$50*2 -> 1060 | E51: =$B$50*2 -> 1060 | F51: =$B$50*2 -> 1060 | G51: =$B$50*2 -> 1060 | H51: =$B$50*2 -> 1060 | I51: =$B$50*2 -> 1060 | J51: =$B$50*2 -> 1060 | ... N51: =$B$50*2 -> 1060 | O51: =SUM(C51:N51) -> 12720 | P51: =SUM(C51:N51) -> 12720 | Q51: =SUM(C51:N51) -> 12720 | AE51: =SUM(S51:AD51) -> 0 | AF51: =SUM(S51:AD51) -> 0 | AG51: =SUM(S51:AD51) -> 0
A52: járulékok | C52: =$C$51*0.13 -> 137.8 | D52: =$C$51*0.13 -> 137.8 | E52: =$C$51*0.13 -> 137.8 | F52: =$C$51*0.13 -> 137.8 | G52: =$C$51*0.13 -> 137.8 | H52: =$C$51*0.13 -> 137.8 | I52: =$C$51*0.13 -> 137.8 | J52: =$C$51*0.13 -> 137.8 | ... N52: =$C$51*0.13 -> 137.8 | O52: =SUM(C52:N52) -> 1653.6 | P52: =SUM(C52:N52) -> 1653.6 | Q52: =SUM(C52:N52) -> 1653.6 | AE52: =SUM(S52:AD52) -> 0 | AF52: =SUM(S52:AD52) -> 0 | AG52: =SUM(S52:AD52) -> 0
Q53: =SUM(C53:N53) -> 0 | AG53: =SUM(S53:AD53) -> 0
A54: Játszótér ellenőr | B54: 280 | Q54: =SUM(C54:N54) -> 0 | AG54: =SUM(S54:AD54) -> 0
A55: alap | C55: =$B$54 -> 280 | D55: =$B$54 -> 280 | E55: =$B$54 -> 280 | F55: =$B$54 -> 280 | G55: =$B$54 -> 280 | H55: =$B$54 -> 280 | I55: =$B$54 -> 280 | J55: =$B$54 -> 280 | ... N55: =$B$54 -> 280 | O55: =SUM(C55:N55) -> 3360 | P55: =SUM(C55:N55) -> 3360 | Q55: =SUM(C55:N55) -> 3360 | AE55: =SUM(S55:AD55) -> 0 | AF55: =SUM(S55:AD55) -> 0 | AG55: =SUM(S55:AD55) -> 0
A56: járulékok | C56: =C55*0.235 -> 65.8 | D56: =D55*0.235 -> 65.8 | E56: =E55*0.235 -> 65.8 | F56: =F55*0.235 -> 65.8 | G56: =G55*0.235 -> 65.8 | H56: =H55*0.235 -> 65.8 | I56: =I55*0.235 -> 65.8 | J56: =J55*0.235 -> 65.8 | ... N56: =N55*0.235 -> 65.8 | O56: =SUM(C56:N56) -> 789.6 | P56: =SUM(C56:N56) -> 789.6 | Q56: =SUM(C56:N56) -> 789.6 | AE56: =SUM(S56:AD56) -> 0 | AF56: =SUM(S56:AD56) -> 0 | AG56: =SUM(S56:AD56) -> 0
A58: Játszótér takarítók (3 fő) | B58: 280
A59: alap | C59: =$B$58*3 -> 840 | D59: =$B$58*3 -> 840 | E59: =$B$58*3 -> 840 | F59: =$B$58*3 -> 840 | G59: =$B$58*3 -> 840 | H59: =$B$58*3 -> 840 | I59: =$B$58*3 -> 840 | J59: =$B$58*3 -> 840 | ... N59: =$B$58*3 -> 840 | O59: =SUM(C59:N59) -> 10080 | P59: =SUM(C59:N59) -> 10080 | Q59: =SUM(C59:N59) -> 10080
A60: járulékok | C60: =$C$59*0.13 -> 109.2 | D60: =D59*0.235 -> 197.4 | E60: =E59*0.235 -> 197.4 | F60: =F59*0.235 -> 197.4 | G60: =G59*0.235 -> 197.4 | H60: =H59*0.235 -> 197.4 | I60: =I59*0.235 -> 197.4 | J60: =J59*0.235 -> 197.4 | K60: =K59*0.235 -> 197.4 | ... N60: =N59*0.235 -> 197.4 | O60: =SUM(C60:N60) -> 2280.6 | P60: =SUM(C60:N60) -> 2280.6 | Q60: =SUM(C60:N60) -> 2280.6
A62: Játszótér karbantartó | B62: 300
A63: alap | C63: =$B$62 -> 300 | D63: =$B$62 -> 300 | E63: =$B$62 -> 300 | F63: =$B$62 -> 300 | G63: =$B$62 -> 300 | H63: =$B$62 -> 300 | I63: =$B$62 -> 300 | J63: =$B$62 -> 300 | ... N63: =$B$62 -> 300 | Q63: =SUM(C63:N63) -> 3600
A64: járulékok | C64: =C63*0.13 -> 39 | D64: =D63*0.13 -> 39 | E64: =E63*0.13 -> 39 | F64: =F63*0.13 -> 39 | G64: =G63*0.13 -> 39 | H64: =H63*0.13 -> 39 | I64: =I63*0.13 -> 39 | J64: =J63*0.13 -> 39 | ... N64: =N63*0.13 -> 39 | Q64: =SUM(C64:N64) -> 468
Q65: =SUM(C65:N65) -> 0 | AE65: =SUM(S65:AD65) -> 0 | AF65: =SUM(S65:AD65) -> 0 | AG65: =SUM(S65:AD65) -> 0
A66: FEB tagok tisztelet díja (66-66-220 eFt/hó) | C66: 352 | D66: 352 | E66: 352 | F66: 352 | G66: 352 | H66: 352 | I66: 352 | J66: 352 | K66: 352 | L66: 352 | M66: 352 | N66: 352 | O66: =SUM(C66:N66) -> 4224 | P66: =SUM(C66:N66) -> 4224 | Q66: =SUM(C66:N66) -> 4224 | AE66: =SUM(S66:AD66) -> 0 | AF66: =SUM(S66:AD66) -> 0 | AG66: =SUM(S66:AD66) -> 0
A67: FEB taszteletdíj járulékai | C67: =$C$66*0.13 -> 45.76 | D67: =$C$66*0.13 -> 45.76 | E67: =$C$66*0.13 -> 45.76 | F67: =$C$66*0.13 -> 45.76 | G67: =$C$66*0.13 -> 45.76 | H67: =$C$66*0.13 -> 45.76 | I67: =$C$66*0.13 -> 45.76 | J67: =$C$66*0.13 -> 45.76 | ... N67: =$C$66*0.13 -> 45.76 | O67: =SUM(C67:N67) -> 549.12 | P67: =SUM(C67:N67) -> 549.12 | Q67: =SUM(C67:N67) -> 549.12
A69: Gondnok (Kuny Domonkos 6) | B69: 300
A70: alap | C70: =$B$69 -> 300 | D70: =$B$69 -> 300 | E70: =$B$69 -> 300 | F70: =$B$69 -> 300 | G70: =$B$69 -> 300 | H70: =$B$69 -> 300 | I70: =$B$69 -> 300 | J70: =$B$69 -> 300 | ... N70: =$B$69 -> 300 | O70: =SUM(C70:N70) -> 3600 | P70: =SUM(C70:N70) -> 3600 | Q70: =SUM(C70:N70) -> 3600
A71: járulékok | C71: =C70*0.13 -> 39 | D71: =D70*0.13 -> 39 | E71: =E70*0.13 -> 39 | F71: =F70*0.13 -> 39 | G71: =G70*0.13 -> 39 | H71: =H70*0.13 -> 39 | I71: =I70*0.13 -> 39 | J71: =J70*0.13 -> 39 | ... N71: =N70*0.13 -> 39 | O71: =SUM(C71:N71) -> 468 | P71: =SUM(C71:N71) -> 468 | Q71: =SUM(C71:N71) -> 468
Q72: =SUM(C72:N72) -> 0 | AG72: =SUM(S72:AD72) -> 0
A73: nyugdíj pénztár munkált (5%) | C73: =((C47+C51+C55+C59+C63+C66+C70)*0.05)*1.235 -> 252.0635 | D73: =$C$73 -> 252.0635 | E73: =$C$73 -> 252.0635 | F73: =$C$73 -> 252.0635 | G73: =$C$73 -> 252.0635 | H73: =$C$73 -> 252.0635 | I73: =$C$73 -> 252.0635 | J73: =$C$73 -> 252.0635 | K73: =$C$73 -> 252.0635 | ... N73: =$C$73 -> 252.0635 | O73: =SUM($C$73:$N$73) -> 3024.762 | P73: =SUM($C$73:$N$73) -> 3024.762 | Q73: =SUM($C$73:$N$73) -> 3024.762 | AE73: =SUM(S73:AD73) -> 0 | AF73: =SUM(T73:AE73) -> 0 | AG73: =SUM(U73:AF73) -> 0
A74: Széchenyi egészség kártya (20000Ft/hó) 18 fő | C74: =20*18 -> 360 | D74: =20*18 -> 360 | E74: =20*18 -> 360 | F74: =20*18 -> 360 | G74: =20*18 -> 360 | H74: =20*18 -> 360 | I74: =20*18 -> 360 | J74: =20*18 -> 360 | ... N74: =20*18 -> 360 | O74: =SUM(C74:N74) -> 4320 | P74: =SUM(C74:N74) -> 4320 | Q74: =SUM(C74:N74) -> 4320 | AE74: =SUM(S74:AD74) -> 0 | AF74: =SUM(S74:AD74) -> 0 | AG74: =SUM(S74:AD74) -> 0
A75: munkábajárás | C75: 10 | D75: 10 | E75: 10 | F75: 10 | G75: 10 | H75: 10 | I75: 10 | J75: 10 | K75: 10 | L75: 10 | M75: 10 | N75: 10 | O75: =SUM(C75:N75) -> 120 | P75: =SUM(C75:N75) -> 120 | Q75: =SUM(C75:N75) -> 120 | AE75: =SUM(S75:AD75) -> 0 | AF75: =SUM(S75:AD75) -> 0 | AG75: =SUM(S75:AD75) -> 0
A76: hivatali célú gépjármű kltsg | C76: 25 | D76: 25 | E76: 25 | F76: 25 | G76: 25 | H76: 25 | I76: 25 | J76: 25 | K76: 25 | L76: 25 | M76: 25 | N76: 25 | O76: =SUM(C76:N76) -> 300 | P76: =SUM(C76:N76) -> 300 | Q76: =SUM(C76:N76) -> 300
A77: Állandó költségek | O77: =SUM(O78:O87) -> 6000 | P77: =SUM(P78:P87) -> 6000 | Q77: =SUM(Q78:Q87) -> 6000
A78: víz,csatorna | C78: 5 | D78: 5 | E78: 5 | F78: 5 | G78: 5 | H78: 5 | I78: 5 | J78: 5 | K78: 5 | L78: 5 | M78: 5 | N78: 5 | O78: =SUM(C78:N78) -> 60 | P78: =SUM(C78:N78) -> 60 | Q78: =SUM(C78:N78) -> 60 | AE78: =SUM(S78:AD78) -> 0 | AF78: =SUM(S78:AD78) -> 0 | AG78: =SUM(S78:AD78) -> 0
A79: villany | C79: 10 | D79: 10 | E79: 10 | F79: 10 | G79: 10 | H79: 10 | I79: 10 | J79: 10 | K79: 10 | L79: 10 | M79: 10 | N79: 10 | O79: =SUM(C79:N79) -> 120 | P79: =SUM(C79:N79) -> 120 | Q79: =SUM(C79:N79) -> 120 | AE79: =SUM(S79:AD79) -> 0 | AF79: =SUM(S79:AD79) -> 0 | AG79: =SUM(S79:AD79) -> 0
A80: fűtés | C80: 30 | D80: 30 | E80: 30 | F80: 30 | G80: 30 | H80: 30 | I80: 30 | J80: 30 | K80: 30 | L80: 30 | M80: 30 | N80: 30 | O80: =SUM(C80:N80) -> 360 | P80: =SUM(C80:N80) -> 360 | Q80: =SUM(C80:N80) -> 360 | AE80: =SUM(S80:AD80) -> 0 | AF80: =SUM(S80:AD80) -> 0 | AG80: =SUM(S80:AD80) -> 0
A81: szemét | C81: 90 | D81: 90 | E81: 90 | F81: 90 | G81: 90 | H81: 90 | I81: 90 | J81: 90 | K81: 90 | L81: 90 | M81: 90 | N81: 90 | O81: =SUM(C81:N81) -> 1080 | P81: =SUM(C81:N81) -> 1080 | Q81: =SUM(C81:N81) -> 1080 | AE81: =SUM(S81:AD81) -> 0 | AF81: =SUM(S81:AD81) -> 0 | AG81: =SUM(S81:AD81) -> 0
A82: info kommunikáció adat (webcam, iroda, wifi,stb.) | C82: 50 | D82: 50 | E82: 50 | F82: 50 | G82: 50 | H82: 50 | I82: 50 | J82: 50 | K82: 50 | L82: 50 | M82: 50 | N82: 50 | O82: =SUM(C82:N82) -> 600 | P82: =SUM(C82:N82) -> 600 | Q82: =SUM(C82:N82) -> 600 | AE82: =SUM(S82:AD82) -> 0 | AF82: =SUM(S82:AD82) -> 0 | AG82: =SUM(S82:AD82) -> 0
A83: info supprot (rendszer) | C83: 50 | D83: 50 | E83: 50 | F83: 50 | G83: 50 | H83: 50 | I83: 50 | J83: 50 | K83: 50 | L83: 50 | M83: 50 | N83: 50 | O83: =SUM(C83:N83) -> 600 | P83: =SUM(C83:N83) -> 600 | Q83: =SUM(C83:N83) -> 600 | AE83: =SUM(S83:AD83) -> 0 | AF83: =SUM(S83:AD83) -> 0 | AG83: =SUM(S83:AD83) -> 0
A84: könyvelő | C84: 45 | D84: 45 | E84: 45 | F84: 45 | G84: 45 | H84: 45 | I84: 45 | J84: 45 | K84: 45 | L84: 45 | M84: 45 | N84: 45 | O84: =SUM(C84:N84) -> 540 | P84: =SUM(C84:N84) -> 540 | Q84: =SUM(C84:N84) -> 540 | AE84: =SUM(S84:AD84) -> 0 | AF84: =SUM(S84:AD84) -> 0 | AG84: =SUM(S84:AD84) -> 0
A85: iroda takarítás | C85: 20 | D85: 20 | E85: 20 | F85: 20 | G85: 20 | H85: 20 | I85: 20 | J85: 20 | K85: 20 | L85: 20 | M85: 20 | N85: 20 | O85: =SUM(C85:N85) -> 240 | P85: =SUM(C85:N85) -> 240 | Q85: =SUM(C85:N85) -> 240 | AE85: =SUM(S85:AD85) -> 0 | AF85: =SUM(S85:AD85) -> 0 | AG85: =SUM(S85:AD85) -> 0
A86: munkavégzéshez Bkv bérlet 4 fő | C86: 200 | D86: 200 | E86: 200 | F86: 200 | G86: 200 | H86: 200 | I86: 200 | J86: 200 | K86: 200 | L86: 200 | M86: 200 | N86: 200 | O86: =SUM(C86:N86) -> 2400 | P86: =SUM(C86:N86) -> 2400 | Q86: =SUM(C86:N86) -> 2400 | AE86: =SUM(S86:AD86) -> 0 | AF86: =SUM(S86:AD86) -> 0 | AG86: =SUM(S86:AD86) -> 0
A88: Rendezvények | B88: 3000 | O88: =B88 -> 3000
A90: Beruházások | O90: =SUM(O91:O100) -> 29000 | P90: =SUM(P91:P100) -> 25000 | Q90: =SUM(Q91:Q100) -> 25000
A91: Csalogány
A92: Rumini Mária tér | B92: WC | AE92: =SUM(S92:AD92) -> 0
A93: Farnklin
A94: Donáti
A95: Mátyás Király
A96: PomPom Naphegy | B96: BKV WC | O96: 10000 | P96: 10000 | Q96: 10000
A97: Vuk Bérc | B97: WC | C97: 15000 | O97: 15000 | P97: 15000 | Q97: 15000
A98: Aladár
A99: Szaffi (új) | B99: WC
A100: Web kamera rendszer kiépítése ( 10x2 db) | B100: 4000 | O100: 4000 | Q100: =C100 -> 0 | AE100: =R100 -> 0 | AF100: =R100 -> 0 | AG100: =S100 -> 0
A101: Részösszesen játszóterek: | O101: =O90+O88+O77+O45+O35+O34+O27+O3 -> 224386.68 | P101: =P90+P88+P77+P45+P35+P34+P27+P3 -> 148581.68 | Q101: =Q90+Q88+Q77+Q45+Q35+Q34+Q27+Q3 -> 120039.68
A102: Sportpályák | O102: ='2021'!E194/1000 -> 17930 | P102: ='2021'!F194/1000 -> 4430 | Q102: ='2021'!G194/1000 -> 530
A103: Zöldfelület fenntartás | O103: ='2021 zöld fenntartás'!J47/1000 -> 85448 | P103: ='2021 zöld fenntartás'!J47/1000 -> 85448 | Q103: ='2021 zöld fenntartás'!H47/1000 -> 50500
A104: WC fenntartás (3 db / 6-22h) | O104: ='2021 wc'!H11/1000 -> 79140.583 | P104: ='2021 wc'!H11/1000 -> 79140.583 | Q104: ='2021 wc'!H10/1000 -> 73052.846
A107: Összesen: | C107: =SUM(C3:C86) -> 7074.1235 | D107: =SUM(D3:D86) -> 6522.3235 | E107: =SUM(E3:E86) -> 6597.3235 | F107: =SUM(F3:F86) -> 6462.3235 | G107: =SUM(G3:G86) -> 6822.3235 | H107: =SUM(H3:H86) -> 6372.3235 | I107: =SUM(I3:I86) -> 6662.3235 | J107: =SUM(J3:J86) -> 6347.3235 | ... N107: =SUM(N3:N86) -> 6597.3235 | O107: =SUM(O3,O27,O35,O34,O45,O77,O88,O90,O102,O103,O104) -> 406905.27 | P107: =SUM(P3,P27,P35,P34,P45,P77,P88,P90,P102,P103,P104) -> 317600.27 | Q107: =SUM(Q3,Q27,Q35,Q34,Q45,Q77,Q88,Q90,Q102,Q103,Q104) -> 244122.53 | S107: =SUM(S3:S86) -> 0 | T107: =SUM(T3:T86) -> 0 | U107: =SUM(U3:U86) -> 0 | V107: =SUM(V3:V86) -> 0 | W107: =SUM(W3:W86) -> 0 | X107: =SUM(X3:X86) -> 0 | Y107: =SUM(Y3:Y86) -> 0 | Z107: =SUM(Z3:Z86) -> 0 | ... AD107: =SUM(AD3:AD86) -> 0 | AE107: =SUM(AE3:AE106) -> 0 | AF107: =SUM(AF3:AF106) -> 0 | AG107: =SUM(AG3:AG106) -> 0

Sheet 2021
A1: Eszköz sorszáma | B1: Játszóeszközök | C1: Tervezett feladatok | D1: (1,2,3) | E1: A Bruttó (anyag és munka) | F1: B Bruttó (anyag és munka) | G1: C Bruttó (anyag és munka) | H1: saját karbantartóval elvégezhető
A2: Játszótér neve: VUK | C2: Címe: 1016 Budapest, Szirtes út 22.-Bérc u. 25. | D2: Prioritás | E2: teljes (esztétiaki is) | F2: fontos (indokolt) | G2: minden képpen (elengedhetetlen) | H2: csak munka
A3: 1. | B3: Mászóvár csúszdával "Játszóváros" | C3: Általános karbantartás, esetleges állapotából adódó javítás | D3: 1 | E3: 100000 | F3: 100000 | G3: 100000
A4: 2. | B4: Rókavár "Karak barlangja" | C4: Tetején faburkolat csere | E4: 200000
A5: 3. | B5: Alagútcsúszda 1.
A6: 4. | B6: Alagútcsúszda 2.
A7: 5. | B7: Homokozó és csúszda "Manóház" | C7: Homokcsere 12 m3 | D7: 1 | E7: 550000 | F7: 200000 | G7: 50000
A8: 6. | B8: Duplarugós mérleghinta | C8: Csavarmeghúzás, esetleges rugótörés miatti rugócsere | D8: 1 | E8: 150000 | F8: 100000
A9: 7. | B9: Rugós játék - motor | C9: Csavarmeghúzás, rögzítés | D9: 1 | E9: 25000 | F9: 25000 | H9: 25000
A10: 8. | B10: Rugós lépegető | C10: Csavarmeghúzás, rögzítés | D10: 1 | E10: 25000 | F10: 25000 | H10: 25000
A11: 9. | B11: Kötélpálya | C11: Bontás új eszköz telepítése, fakivágás | D11: 1 | E11: 2500000 | F11: 1000000 | G11: 1000000
A12: 10. | B12: Függőhíd "Kötélhíd" | C12: Új eszköz telepítése | D12: 2 | E12: 1150000
A13: 11. | B13: Babaház előtérrel | C13: Általános karbantartás korhadt faelemek cseréje, tetőfedés javítása | D13: 3 | E13: 75000 | F13: 75000 | G13: 75000
A14: 12. | B14: Hintaállvány két ülőkével | C14: Csavarmeghúzás, rögzítés | D14: 1 | E14: 25000 | F14: 25000 | H14: 25000
A15: 13. | B15: Hintaállvány két speciális bölcsőülőkével | C15: Csavarmeghúzás, rögzítés | D15: 1 | E15: 25000 | F15: 25000 | H15: 25000
A16: 14. | B16: trambulin | C16: Új játszóeszköz telepítése | D16: 2 | E16: 5850000
A17: 15. | C17: Ivókút karbantartása: nyitás-zárás, tisztítás, dugulás elhárítás. Automata öntözőrendszer beállítása, beüzemelése | D17: 1 | E17: 180000 | F17: 100000 | G17: 50000 | H17: 50000
A18: 16. | C18: Mulcsfeltöltés, kétregpótlás | D18: 2 | E18: 350000 | F18: 100000 | G18: 100000
A19: 17. | C19: Játszóeszközök védőmázolása | D19: 2 | E19: 300000 | F19: 100000 | H19: 50000
A20: 18. | C20: Tematikus matricák pótlása | D20: 3 | E20: 280000
A21: Összesen: | E21: =SUM(E3:E20) -> 11785000 | F21: =SUM(F3:F20) -> 1875000 | G21: =SUM(G3:G20) -> 1375000 | H21: =SUM(H3:H20) -> 200000
A22: Játszótér neve: Pom-Pom | C22: Címe: 1016 Budapest, Naphegy tér | E22: Hrsz:7339/2
A23: 1. | B23: Piros forgóbogrács
A24: 2. | B24: Rugós játék 4 levelű lóhere | C24: Csavarmeghúzás, rögzítés | D24: 1 | E24: 25000 | F24: 25000 | H24: 25000
A25: 3. | B25: Beülős rugós játék | C25: Csavarmeghúzás, rögzítés | D25: 1 | E25: 25000 | F25: 25000 | H25: 25000
A26: 4. | B26: 2*2-es hintaállvány vegyes ülőkékkel | C26: Általános karbantartás, csavarmeghúzás, öntött gumi pótlása | D26: 1 | E26: 100000 | F26: 100000 | G26: 100000
A27: 5. | B27: Szabadon álló nagycsúszda | C27: Csavarmeghúzás, hegesztés, rögzítés | D27: 1 | E27: 25000 | F27: 25000 | H27: 25000
A28: 6. | B28: Vonat | C28: Általános karbantartás | D28: 1 | E28: 25000 | F28: 25000 | H28: 25000
A29: 7. | B29: Sivatag hajója | C29: Általános karbantartás, csavarmeghúzás, ujjbeszorulást megakadályozó elemek pótlása, korlát hegesztése, járódeszkák cseréje | D29: 1 | E29: 200000 | F29: 100000 | G29: 50000 | H29: 25000
A30: 8. | B30: Sárga forgóbogrács
A31: 9. | B31: Szabadon álló kiscsúszda | C31: Csavarmeghúzás, rögzítés | D31: 1 | E31: 25000 | F31: 25000 | H31: 25000
A32: 10. | B32: Rugós játék - kakas | C32: Csavarmeghúzás, rögzítés | D32: 1 | E32: 25000 | F32: 25000 | H32: 25000
A33: 11. | B33: Rugós játék - motor | C33: Csavarmeghúzás, rögzítés | D33: 1 | E33: 25000 | F33: 25000 | H33: 25000
A34: 12. | B34: Hálós függeszkedő kombinált mászóka | C34: Általános karbantartás, csavarmeghúzás | D34: 1 | E34: 50000 | F34: 50000 | H34: 50000
A35: 13. | B35: Homokozó | C35: Homokcsere 8 m3 | D35: 2 | E35: 360000 | F35: 100000 | G35: 50000 | H35: 25000
A36: 14. | B36: Gombóc Artúr háza | C36: Általános karbantartás, ülőpadok karbantartása | D36: 3 | E36: 80000 | F36: 40000
A37: 15. | B37: Madárvédő Golyókapkodó háza | C37: Általános karbantartás, ülőpadok faalkatrészének cseréje | D37: 3 | E37: 80000 | F37: 40000 | G37: 20000 | H37: 25000
A38: 16. | B38: Hapci Benő háza | C38: Általános karbantartás, ülőpadok faalkatrészének cseréje | D38: 3 | E38: 80000 | F38: 40000 | G38: 20000 | H38: 25000
A39: 17. | B39: Órás hirdetőoszlop
A40: 18. | B40: Fitnesz eszközök | C40: Bontott és átszállított fitnesz eszközök telepítése ütéscsillapító gumival, valamint meglévő botlásveszélyes gumitéglák cseréje öntött gumiburkolat kialakítása | D40: 2 | E40: =180000+50*60000 -> 3180000 | F40: 1800000
A41: 19. | C41: Ütéscsillapító burkolat, talajtakaró feltöltés 2-8 mm közötti idegen anyagtól mentes kavics feltöltés | E41: 150000 | F41: 150000 | G41: 150000
A42: 20. | C42: Játszóeszközök védőmázolása | D42: 1 | E42: 430000 | F42: 200000 | G42: 100000 | H42: 50000
A43: 21. | C43: Homokozó köré új árnyékoló napvitorla tartó oszlopok telepítése | E43: 400000 | F43: 200000 | G43: 100000 | H43: 50000
A44: 22. | C44: Ivókút karbantartása: nyitás-zárás, tisztítás, dugulás elhárítás | D44: 1 | E44: 180000 | F44: 180000 | G44: 50000 | H44: 50000
A45: 23. | C45: Új tematikus öntött gumiburkolat kialakítása 822 m2-en | D45: 3 | E45: 40000000
A46: Összesen: | E46: =SUM(E23:E45) -> 45465000 | F46: =SUM(F23:F45) -> 3175000 | G46: =SUM(G23:G45) -> 640000 | H46: =SUM(H23:H45) -> 475000
A47: Játszótér neve: Mátyás Király Játszópark | C47: Címe: 1014 Budapest, Tárnok u. 9. | E47: Hrsz:6527/2
A48: 1. | B48: "Mátyás király vára" játszópavilon-óriásvár | C48: Általános éves karbantartás, esztétikai szintentartás, javítás, járófelület teljes cseréje, illetve korlátok cseréje a szükséges helyeken | D48: 1 | E48: 5000000 | F48: 3000000 | G48: 2000000 | H48: 500000
A49: 2. | B49: Rugós lépegető | C49: Csavarmeghúzás, rögzítés | D49: 1 | E49: 25000 | F49: 25000 | H49: 25000
A50: 3. | B50: Hintaállvány két ülőkével I. | C50: Csavarmeghúzás, rögzítés, szükség esetén ülőke pótlás | D50: 1 | E50: 150000 | F50: 150000 | G50: 150000
A51: 4. | B51: Hintaállvány két ülőkével II. | C51: Csavarmeghúzás, rögzítés | D51: 1 | E51: 25000 | F51: 25000 | H51: 25000
A52: 5. | B52: Homokozó | C52: Homokcsere 8 m3 | D52: 1 | E52: 550000 | F52: 200000
A53: 6. | B53: Kéttornyú kombinált vár csúszdával, hintával | C53: Általános éves karbantartás, esztétikai szintentartás, javítás, helyreállítás | D53: 1 | E53: 150000 | F53: 100000 | G53: 50000 | H53: 50000
A54: 7. | C54: Ivókút karbantartása: nyitás-zárás, tisztítás, dugulás elhárítás | D54: 1 | E54: 180000 | F54: 180000 | G54: 50000 | H54: 50000
A55: 8. | C55: Párakapu karbantartása | D55: 2 | E55: 150000 | F55: 100000 | G55: 50000 | H55: 50000
A56: 9. | C56: Játszóeszközök védőmázolása | D56: 2 | E56: 550000 | F56: 200000 | G56: 100000 | H56: 50000
A57: 10. | C57: Megrongálódott tematikus matricák pótlása | D57: 3 | E57: 1400000 | F57: 500000
A58: Összesen: | E58: =SUM(E48:E57) -> 8180000 | F58: =SUM(F48:F57) -> 4480000 | G58: =SUM(G48:G57) -> 2400000 | H58: =SUM(H48:H57) -> 750000
A59: Játszótér neve: Rumini | C59: Címe: 1011 Budapest, Mária tér | E59: Hrsz:14098/1/2/3
A60: 1. | B60: "Egérváros" óriás játszóvár | C60: Általános éves karbantartás, esztétikai szintentartás, javítás, helyreállítás. Meglévő padlódeszka, hídfeljáró és csúszdás feljáró cseréje | D60: 1 | E60: 2000000 | F60: 1000000 | G60: 500000 | H60: 500000
A61: 2. | B61: Hintaállvány laphintával | C61: Csavarmeghúzás, rögzítés | D61: 1 | E61: 25000 | F61: 25000 | H61: 25000
A62: 3. | B62: Homokozó 1 | C62: Homokcsere 5 m3, Homokozó faszegélyek további cseréje | D62: 1 | E62: =410000 -> 410000 | F62: 200000 | G62: 100000 | H62: 50000
A63: 4. | B63: Beülős rugós játék | C63: Csavarmeghúzás, rögzítés | D63: 1 | E63: 25000 | F63: 25000 | H63: 25000
A64: 5. | B64: Homokozó-óriáskerék-vonat-forgatós memória játék kombináció | C64: Homokcsere 5 m3. Homokozót szegélyező gerendák cseréje | D64: 1 | E64: 410000 | F64: 200000 | G64: 100000
A65: 6. | B65: "Pókháló" Kötélmászóka | C65: Csavarmeghúzás, rögzítés | D65: 1 | E65: 25000 | F65: 25000 | H65: 25000
A66: 7. | B66: Duplarugós mérleghinta "Albatrosz" | C66: Csavarmeghúzás, rögzítés | D66: 1 | E66: 25000 | F66: 25000 | H66: 25000
A67: 8. | B67: Többfunkciós mászóka "Szíriusz" | C67: Csavarmeghúzás, rögzítés, kopott mászóalkatrészek cseréje | D67: 2 | E67: 260000 | F67: 100000 | G67: 50000 | H67: 50000
A68: 9. | B68: Hajó "Uniplay Keszthely" | C68: Általános karbantartás, esztétikai szintentartás, egyedi fafaragással készített hajóorr karbantartása | D68: 2 | E68: 250000 | F68: 100000
A69: 10. | B69: Labirintus kuckókkal "Unimini Pyralli" | C69: Csavarmeghúzás, rögzítés | D69: 1 | E69: 25000 | F69: 25000 | H69: 25000
A70: 11. | B70: Forgatható iránytű | C70: Általános karbantartás, esztétikai szintentartás. Meghibásodás esetén javíttatása gyártóval | D70: 2 | E70: 250000 | F70: 100000 | H70: 25000
A71: 12. | B71: Hintaállvány két ülőkével "Swing Goro" | C71: Csavarmeghúzás, rögzítés | D71: 1 | E71: 25000 | F71: 25000 | H71: 25000
A72: 13. | B72: Fészekhinta | C72: Csavarmeghúzás, rögzítés, általános karbantartás, olajozás | D72: 1 | E72: 25000 | F72: 25000 | H72: 25000
A73: 14. | B73: Minibárka I. | C73: Korhadás miatt új felépítmény készítése- tervezet | D73: 1 | E73: 150000 | F73: 100000 | H73: 25000
A74: 15. | B74: Minibárka II. | C74: Általános karbantartás, esztétikai szintentartás | D74: 1 | E74: 25000 | F74: 25000 | H74: 25000
A75: 16. | B75: Minibárka III. | C75: Általános karbantartás, esztétikai szintentartás | D75: 1 | E75: 25000 | F75: 25000 | H75: 25000
A76: 17. | B76: Minibárka IV. | C76: Általános karbantartás, esztétikai szintentartás | D76: 1 | E76: 25000 | F76: 25000 | H76: 25000
A77: 18. | B77: Horgony ülőke | C77: Általános karbantartás, esztétikai szintentartás | D77: 1 | E77: 25000 | F77: 25000 | H77: 25000
A78: 19. | B78: Hordó kilátó | C78: Általános karbantartás, esztétikai szintentartás | D78: 1 | E78: 25000 | F78: 25000 | H78: 25000
A79: 20. | C79: Hajó alatti terület feltöltése o,2-2 mm szemcsenagyság közötti folyami homokkal ütéscsillapítás céljából 6 m3 | D79: 1 | E79: 220000 | F79: 100000 | G79: 100000
A80: 21. | C80: Játszóeszközök védőmázolása | D80: 1 | E80: 520000 | F80: 200000 | G80: 100000 | H80: 50000
A81: 22. | C81: Labirintus játék köré, valamint óriásvár mögötti területen mulcsfeltöltés pótlása 130 l | D81: 1 | E81: 350000 | F81: 100000 | G81: 100000
A82: 23. | C82: Mosdó bekötése víz-csatorna hálózat kialakítása | D82: 1 | E82: 6000000 | F82: 6000000 | G82: 6000000
A83: 24. | C83: Járda és úttest aszfaltozása, akadálymentesítés: a bejárati lépcső átalakítása, járdaépítés mosdóhoz | D83: 1 | E83: 4000000 | F83: 3000000 | G83: 2000000
A84: 25. | C84: Tematikus matricák cseréje, pótlása, direktnyomásos technológiával felújítása | D84: 3 | E84: 420000 | F84: 200000
A85: 26. | C85: Ivókút karbantartása: nyitás-zárás, tisztítás, dugulás elhárítás, öntözőrendszer újra telepítése | D85: 2 | E85: 580000 | F85: 250000 | G85: 50000 | H85: 50000
A86: Összesen: | E86: =SUM(E60:E85) -> 16120000 | F86: =SUM(F60:F85) -> 11950000 | G86: =SUM(G60:G85) -> 9100000 | H86: =SUM(H60:H85) -> 1050000
A87: Játszótér neve: Franklin | C87: Címe: 1015 Budapest, Franklin u. 1. | E87: Hrsz:14111/7
A88: 1. | B88: Egyensúlyozó kombináció "klub sarok" Kompan | C88: Csavarmeghúzás, rögzítés. Kopott faalkatrészek cseréje | D88: 1 | E88: 150000 | F88: 100000 | G88: 50000 | H88: 50000
A89: 2. | B89: Függeszkedő emelvénnyel "trapéz" | C89: Csavarmeghúzás, rögzítés. Egyes kopott faalkatrészek cseréje | D89: 1 | E89: 85000 | F89: 85000 | G89: 25000 | H89: 25000
A90: 3. | B90: Kombinált mászóka "Mászófal" | C90: Csavarmeghúzás, rögzítés. Egyes kopott faalkatrészek cseréje | D90: 1 | E90: 105000 | F90: 105000 | G90: 25000 | H90: 25000
A91: 4. | B91: Emelvények álló hintával "Si-szving" | C91: Csavarmeghúzás, rögzítés. Egyes kopott faalkatrészek cseréje | D91: 1 | E91: 55000 | F91: 55000 | G91: 25000 | H91: 25000
A92: 5. | B92: Spica 1
A93: 6. | B93: Spica 2
A94: 7. | B94: Spica 3
A95: 8. | B95: Kuckó "Mágikus házikó" | C95: Csavarmeghúzás, rögzítés | D95: 1 | E95: 25000 | F95: 25000 | H95: 25000
A96: 9. | B96: Szabadon álló csúszda "Minifánt" | C96: Csavarmeghúzás, rögzítés | D96: 1 | E96: 25000 | F96: 25000 | H96: 25000
A97: 10. | B97: Békás duplarugós mérleghinta | C97: Csavarmeghúzás, rögzítés. | D97: 1 | E97: 25000 | F97: 25000 | H97: 25000
A98: 11. | B98: Rugós játék 4 levelű lóhere | C98: Csavarmeghúzás, rögzítés | D98: 1 | E98: 25000 | F98: 25000 | H98: 25000
A99: 12. | B99: Hintaállvány két ülőkével | C99: Csavarmeghúzás, rögzítés | D99: 1 | E99: 25000 | F99: 25000 | H99: 25000
A100: 13. | B100: Minivár "Erőd" | C100: Csavarmeghúzás, rögzítés. Egyes kopott faalkatrészek cseréje | D100: 1 | E100: 120000 | F100: 120000 | G100: 40000 | H100: 25000
...

Sheet 2021 zöld fenntartás
A1: Zöldfelület fenntartással összefüggő költségek | G1: 2021 évi árszinten
H3: I fázis | J3: II fázis
A4: Bérköltségek | H4: 5 fő | J4: 10 fő
A5: Munkatárs | B5: hó/fő | G5: =SUM(G6:G12) -> 4710000 | H5: =G5*5 -> 23550000 | J5: =G5*10 -> 47100000
A6: bruttó alapbér | B6: 300000 | G6: =B6*12 -> 3600000
A7: járulékok | B7: ='[5]bérek és terhek'!Q21 -> 51000 | G7: =B7*12 -> 612000
A8: cafeteria | B8: 16000 | G8: =B8*12 -> 192000
A9: nyugdíjpénztári hozzáj. (5%) | B9: =B6*0.05 -> 15000 | G9: =B9*12 -> 180000
A10: munkába járás | G10: =B10*12 -> 0
A11: BKV bérlet | B11: 10500 | G11: =B11*12 -> 126000
H12: 1 fő | J12: 2 fő
A13: csoportvezető | B13: hó/fő | G13: =SUM(G14:G19) -> 6174000 | H13: =G13 -> 6174000 | J13: =G13*2 -> 12348000
A14: bruttó alapbér | B14: 400000 | G14: =B14*12 -> 4800000
A15: járulékok | B15: ='[5]bérek és terhek'!P21 -> 68000 | G15: =B15*12 -> 816000
A16: cafeteria | B16: 16000 | G16: =B16*12 -> 192000
A17: nyugdíjpénztári hozzáj. (5%) | B17: =B14*0.05 -> 20000 | G17: =B17*12 -> 240000
A18: munkába járás | G18: =B18*12 -> 0
A19: BKV bérlet | B19: 10500 | G19: =B19*12 -> 126000
A20: Jogszerű működés feltételeihez
A21: éves felülvizsgálatok, javítások | B21: 100000 | H21: =B21 -> 100000 | J21: =B21 -> 100000
A22: karbantartási kötelezettségek | B22: 100000 | H22: =B22 -> 100000 | J22: =H22 -> 100000
A23: FESZ EÜ vizsgálat | B23: 12500 | H23: =B23*6 -> 75000 | J23: =B23*12 -> 150000
A24: védőruházat védőfelszerelés | B24: 50000 | H24: =B24*6 -> 300000 | J24: =B24*12 -> 600000
A26: Tevékenység járulékos költségei | H26: 10000000 | J26: 15000000
A27: szemét szállítás
A28: üzemanyag
A29: termőföld pótlás
A30: fűmag, gyeptégla
A31: műtrágya, permet
A32: kéziszerszámok
A33: lerakóhelyi díj
A34: vásárolt szolgáltatások | B34: 2020
A35: út és térfelületek fenntartása | B35: 2000000 | H35: 0 | J35: 0
A36: pázsit felületek | B36: 9000000 | H36: 0 | J36: 0
A37: cserje, rózsa fenntartás | B37: 3600000 | H37: 0 | J37: 0
A38: sövény fenntartás | B38: 1500000 | H38: 0 | J38: 0
A39: fenyő és örökzöld | B39: 100000 | H39: 0 | J39: 0
A40: dézsás növények gondozása | B40: 800000 | H40: 0 | J40: 0
A41: köztisztasági feladatok | B41: 4000000 | H41: 0 | J41: 0
A42: gyep felújítás | B42: 22000000 | H42: =B42 -> 22000000 | J42: 0
A43: virágosítás | B43: 3500000 | H43: =B43 -> 3500000 | J43: 0
A44: permetezés | B44: 4000000 | H44: =B44 -> 4000000 | J44: 0
A45: fasor fenntartás | B45: 40000000 | H45: 20000000 | J45: 10000000
A46: eseti feladatok | B46: 3000000 | H46: 1000000 | J46: 1000000
A47: Összesen | H47: =SUM(H35:H46) -> 50500000 | J47: =SUM(J46,J35,J45,J26,J13,J5) -> 85448000
A48: Egyszeri költségek
A49: gép beszerzések
A50: fűnyíró 3 db | B50: 600000
A51: fűkasza 3 db | B51: 700000
A52: rotátor 1 db | B52: 200000
A53: sövény nyíró 2 db | B53: 400000
A54: lombfúvő 2 db | B54: 200000
A55: láncfűrész 2 db | B55: 400000
A56: könnyú tgk 5 fős | B56: 8500000
A57: ráülős fűnyíró-hóeltakarító 1 db | B57: 2000000
A58: Összesen | B58: =SUM(B50:B57) -> 13000000
A59: telephely kialakítás
A60: szociális helyiségek | B60: 3000000
A61: pihenő
A62: karbantartó
A63: komposztáló udvar | B63: 3000000
A64: Vérmező | B64: 10000000 | C64: ha | J64: =B64*7.2 -> 72000000

Sheet 2021 wc
A1: 2021 | B1: heti 7 | D1: 6-22 /wc | E1: 6-24 /wc | F1: 0-24 / wc | G1: 0-24/wc | H1: 3 db 6-22 | I1: 3 db 0-24 | J1: 3 db 0-24 | K1: 6 db 6-22 | L1: 6 db 0-24
D2: 4 fő / 8ó | E2: 4 fő / 9ó | F2: 5 fő/8ó | G2: 4 fő / 12ó | J2: 3 db 6-22
A3: bér | B3: Ft/fő/hó | D3: 4 | E3: 4 | F3: 5 | G3: 4
A4: havi munkabér | B4: ='[5]bérek és terhek'!T2 -> 230000 | D4: =$B$4*$D$3 -> 920000 | E4: =(($B$4/8)*9)*$E$3 -> 1035000 | F4: =$B$4*$F$3 -> 1150000 | G4: =(($B$4/8)*12)*$G$3 -> 1380000
A5: átlagos műszakpótlékok | D5: =($B$5*$D$3)+(((D4/16)*4)*1.3)+(((D4/30)*8)*1.6)+((((D4*12)/365)*8*1.6)/12) -> 723796.35 | E5: =($B$5*$D$3)+(((E4/16)*4)*1.3)+(((E4/30)*8)*1.75)+((((E4*12)/365)*8*1.6)/12) -> 855670.89 | F5: =($B$5*$D$3)+(((F4/16)*4)*1.3)+(((F4/30)*8)*1.75)+((((F4*12)/365)*8*1.6)/12) -> 950745.43 | G5: =($B$5*$D$3)+(((G4/16)*4)*1.3)+(((G4/30)*8)*1.75)+((((G4*12)/365)*8*1.6)/12) -> 1140894.5
A6: járulékok | B6: ='[5]bérek és terhek'!T21 -> 39100 | D6: =(D4+D5)*0.17 -> 279445.38 | E6: =(E4+E5)*0.17 -> 321414.05 | F6: =(F4+F5)*0.17 -> 357126.72 | G6: =(G4+G5)*0.17 -> 428552.07
A7: SZÉP kártya | B7: 16000 | D7: =$B$7*$D$3 -> 64000 | E7: =$B$7*$D$3 -> 64000 | F7: =$B$7*$D$3 -> 64000 | G7: =$B$7*$D$3 -> 64000
A8: bérlet | B8: 10500 | D8: =$B$8*$D$3 -> 42000 | E8: =$B$8*$D$3 -> 42000 | F8: =$B$8*$D$3 -> 42000 | G8: =$B$8*$D$3 -> 42000
A10: éves | B10: 12 hó | D10: =SUM($D$3:$D$9)*12 -> 24350949 | E10: =SUM(E3:E9)*12 -> 27817067 | F10: =SUM(F3:F9)*12 -> 30766526 | G10: =SUM(G3:G9)*12 -> 36665407 | H10: =D10*3 -> 73052846 | I10: =G10*3 -> 1.0999622e+08 | J10: =(D10*3)+(F10*3) -> 1.6535242e+08 | K10: =D10*6 -> 1.4610569e+08 | L10: =F10*6 -> 1.8459916e+08
B11: 13 hó | D11: =SUM(D3:D9)*13 -> 26380194 | E11: =SUM(E3:E9)*13 -> 30135156 | F11: =SUM(F3:F9)*13 -> 33330403 | G11: =SUM(G3:G9)*13 -> 39720858 | H11: =D11*3 -> 79140583 | I11: =G11*3 -> 1.1916257e+08 | J11: =(D11*3)+(F11*3) -> 1.7913179e+08 | K11: =D11*6 -> 1.5828117e+08 | L11: =F11*6 -> 1.9998242e+08
A13: munkaruha, védőruha (fő/év) | B13: 50000 | D13: =D3*$B$13 -> 200000 | E13: =E3*$B$13 -> 200000 | F13: =F3*$B$13 -> 250000 | G13: =G3*$B$13 -> 200000
A14: rezsi (WC/hó) villany víz, tisztítószer | B14: 10000
A16: egyszeri éves felújítás, nagytakarítás (WC/év) | B16: 3000000

Sheet I. terv 2022 terv
A1: Költség elem | C1: 2022 | D1: terv | O1: A össz | P1: B össz | Q1: C össz | R1: tény | S1: tény | AE1: A össz | AF1: B össz | AG1: C össz
A2: eFt | C2: jan | D2: febr | E2: márc | F2: ápr | G2: máj | H2: jún | I2: júl | J2: aug | K2: szep | L2: okt | M2: nov | N2: dec | O2: teljes | P2: közép | Q2: min | S2: jan | T2: febr | U2: márc | V2: ápr | W2: máj | X2: jún | Y2: júl | Z2: aug | AA2: szep | AB2: okt | AC2: nov | AD2: dec | AE2: teljes | AF2: min | AG2: min
A3: Javítások | O3: =SUM(O12:O18) -> 2680 | P3: =SUM(P12:P18) -> 2680 | Q3: =SUM(Q12:Q18) -> 2880
A4: Csalogány | O4: =SUM(C4:N4) -> 0 | P4: =SUM(C4:N4) -> 0 | Q4: =SUM(C4:N4) -> 0 | AE4: =SUM(S4:AD4) -> 0 | AF4: =SUM(S4:AD4) -> 0 | AG4: =SUM(S4:AD4) -> 0
A5: Rumini Mária tér | O5: =SUM(C5:N5) -> 0 | P5: =SUM(C5:N5) -> 0 | Q5: =SUM(C5:N5) -> 0 | AE5: =SUM(S5:AD5) -> 0 | AF5: =SUM(S5:AD5) -> 0 | AG5: =SUM(S5:AD5) -> 0
A6: Farnklin | O6: =SUM(C6:N6) -> 0 | P6: =SUM(C6:N6) -> 0 | Q6: =SUM(C6:N6) -> 0 | AE6: =SUM(S6:AD6) -> 0 | AF6: =SUM(S6:AD6) -> 0 | AG6: =SUM(S6:AD6) -> 0
A7: Donáti | O7: =SUM(C7:N7) -> 0 | P7: =SUM(C7:N7) -> 0 | Q7: =SUM(C7:N7) -> 0 | AE7: =SUM(S7:AD7) -> 0 | AF7: =SUM(S7:AD7) -> 0 | AG7: =SUM(S7:AD7) -> 0
A8: Mátyás Király | O8: =SUM(C8:N8) -> 0 | P8: =SUM(C8:N8) -> 0 | Q8: =SUM(C8:N8) -> 0 | AE8: =SUM(S8:AD8) -> 0 | AF8: =SUM(S8:AD8) -> 0 | AG8: =SUM(S8:AD8) -> 0
A9: PomPom Naphegy | O9: =SUM(C9:N9) -> 0 | P9: =SUM(C9:N9) -> 0 | Q9: =SUM(C9:N9) -> 0 | AE9: =SUM(S9:AD9) -> 0 | AF9: =SUM(S9:AD9) -> 0 | AG9: =SUM(S9:AD9) -> 0
A10: Vuk Bérc | O10: =SUM(C10:N10) -> 0 | P10: =SUM(C10:N10) -> 0 | Q10: =SUM(C10:N10) -> 0 | AE10: =SUM(S10:AD10) -> 0 | AF10: =SUM(S10:AD10) -> 0 | AG10: =SUM(S10:AD10) -> 0
A11: Aladár | O11: =SUM(C11:N11) -> 0 | P11: =SUM(C11:N11) -> 0 | Q11: =SUM(C11:N11) -> 0 | AE11: =SUM(S11:AD11) -> 0 | AF11: =SUM(S11:AD11) -> 0 | AG11: =SUM(S11:AD11) -> 0
A12: Általános javítás (idegen) | C12: 200 | E12: 200 | G12: 200 | I12: 200 | K12: 200 | M12: 200 | O12: 0 | P12: 0 | AE12: =SUM(S12:AD12) -> 0 | AF12: =SUM(S12:AD12) -> 0 | AG12: =SUM(S12:AD12) -> 0
A13: Általános javítás (saját) | C13: 50 | F13: 50 | I13: 50 | L13: 50 | O13: 0 | P13: 0 | Q13: =SUM(C13:N13) -> 200 | AE13: =SUM(S13:AD13) -> 0 | AF13: =SUM(S13:AD13) -> 0 | AG13: =SUM(S13:AD13) -> 0
Q14: =SUM(C14:N14) -> 0 | AG14: =SUM(S14:AD14) -> 0
A15: Játszóterek takarítása, szemét le 12 db | Q15: =SUM(C15:N15) -> 0 | AE15: =SUM(S15:AD15) -> 0 | AF15: =SUM(S15:AD15) -> 0 | AG15: =SUM(S15:AD15) -> 0
A16: (FKF Zrt, szemetes zsákok, stb.) | C16: 70 | F16: 70 | I16: 70 | L16: 70 | O16: =SUM(C16:N16) -> 280 | P16: =SUM(C16:N16) -> 280 | Q16: =SUM(C16:N16) -> 280
A17: vásárolt szolgáltatás (lomb-, hóeltakarítéás, csúszás ment) | C17: 300 | D17: 300 | M17: 300 | N17: 300 | O17: =SUM(C17:N17) -> 1200 | P17: =SUM(C17:N17) -> 1200 | Q17: =SUM(C17:N17) -> 1200
A18: szemétszállítás FKF | C18: 100 | D18: 100 | E18: 100 | F18: 100 | G18: 100 | H18: 100 | I18: 100 | J18: 100 | K18: 100 | L18: 100 | M18: 100 | N18: 100 | O18: =SUM(C18:N18) -> 1200 | P18: =SUM(C18:N18) -> 1200 | Q18: =SUM(C18:N18) -> 1200
A19: Jogszerű működés feltételeihez | O19: =SUM(O20:O25) -> 1430 | P19: =SUM(P20:P25) -> 1430 | Q19: =SUM(Q20:Q25) -> 1430
A20: esedékes szabványossági (megfelelőségi) vizsg | O20: =B20 -> 0 | P20: =B20 -> 0 | Q20: =B20 -> 0 | AE20: =R20 -> 0 | AF20: =R20 -> 0 | AG20: =R20 -> 0
A21: éves felülvizsgálatok, javítások 10db | B21: 100 | O21: =B21 -> 100 | P21: =B21 -> 100 | Q21: =B21 -> 100 | AE21: =R21 -> 0 | AF21: =S21 -> 0 | AG21: =T21 -> 0
A22: karbantartási kötelezettségek 10 db | O22: =B22 -> 0 | P22: =C22 -> 0 | Q22: =D22 -> 0 | AE22: =R22 -> 0 | AF22: =S22 -> 0 | AG22: =T22 -> 0
A23: Parkok nyitás zárása | B23: 90 | C23: 90 | D23: 90 | E23: 90 | F23: 90 | G23: 90 | H23: 90 | I23: 90 | J23: 90 | K23: 90 | L23: 90 | M23: 90 | N23: 90 | O23: =SUM(C23:N23) -> 1080 | P23: =SUM(C23:N23) -> 1080 | Q23: =SUM(C23:N23) -> 1080 | AE23: =SUM(S23:AD23) -> 0 | AF23: =SUM(S23:AD23) -> 0 | AG23: =SUM(S23:AD23) -> 0
A24: FESZ EÜ vizsgálat | E24: 25 | J24: 25 | O24: =SUM(D24:N24) -> 50 | P24: =SUM(C24:N24) -> 50 | Q24: =SUM(C24:N24) -> 50 | AE24: =SUM(T24:AD24) -> 0 | AF24: =SUM(S24:AD24) -> 0 | AG24: =SUM(S24:AD24) -> 0
A25: védőruházat védőfelszerelés | E25: 50 | H25: 50 | K25: 50 | N25: 50 | O25: =SUM(D25:N25) -> 200 | P25: =SUM(C25:N25) -> 200 | Q25: =SUM(C25:N25) -> 200 | AE25: =SUM(T25:AD25) -> 0 | AF25: =SUM(S25:AD25) -> 0 | AG25: =SUM(S25:AD25) -> 0
A26: Alkalmi ráfordítások | O26: =SUM(O27:O36) -> 95205 | P26: =SUM(P27:P36) -> 37695 | Q26: =SUM(Q27:Q36) -> 11155
A27: Játszóterek egyszeri teljes körű szbv. Jav. 2022 | O27: ='2022 Játszóterek'!E187/1000 -> 92025 | P27: ='2022 Játszóterek'!F187/1000 -> 34965 | Q27: ='2022 Játszóterek'!G187/1000 -> 8425 | AE27: ='[4]elvégzendő munkálatok 2017'!U161/1000 -> 0 | AF27: ='[4]elvégzendő munkálatok 2017'!V161/1000 -> 0 | AG27: ='[4]elvégzendő munkálatok 2017'!W161/1000 -> 0
A28: Tájékoztató táblák, felíratok | B28: 100 | O28: =B28 -> 100 | P28: =B28 -> 100 | Q28: =B28 -> 100 | AE28: =R28 -> 0 | AF28: =R28 -> 0 | AG28: =R28 -> 0
O29: =B29 -> 0 | P29: =B29 -> 0 | Q29: =B29 -> 0 | AE29: =R29 -> 0 | AF29: =R29 -> 0 | AG29: =R29 -> 0
A30: Honlap karbantartás, megújítás | B30: 300 | O30: =B30 -> 300 | P30: =B30 -> 300 | Q30: =B30 -> 300 | AE30: =R30 -> 0 | AF30: =R30 -> 0 | AG30: =R30 -> 0
A31: Havaria | C31: 300 | G31: 300 | K31: 300 | O31: =SUM(C31:N31) -> 900 | P31: =SUM(C31:N31)/2 -> 450 | Q31: =SUM(C31:N31)/2 -> 450 | AE31: =SUM(S31:AD31) -> 0 | AF31: =SUM(S31:AD31)/2 -> 0 | AG31: =SUM(S31:AD31) -> 0
A32: infromatikai | C32: 20 | F32: 20 | I32: 20 | L32: 20 | O32: =SUM(C32:N32) -> 80 | P32: =SUM(C32:N32) -> 80 | Q32: =SUM(C32:N32) -> 80 | AE32: =SUM(S32:AD32) -> 0 | AF32: =SUM(S32:AD32) -> 0 | AG32: =SUM(S32:AD32) -> 0
A33: cég működés járulékos(iroda, védőital,fénym.stb.) | B33: 20 | C33: 20 | D33: 20 | E33: 20 | F33: 20 | G33: 20 | H33: 20 | I33: 20 | J33: 20 | K33: 20 | L33: 20 | M33: 20 | N33: 20 | O33: =SUM(C33:N33) -> 240 | P33: =SUM(C33:N33) -> 240 | Q33: =SUM(C33:N33) -> 240 | AE33: =SUM(S33:AD33) -> 0 | AF33: =SUM(S33:AD33) -> 0 | AG33: =SUM(S33:AD33) -> 0
A34: Egyéb (parkolás,illeték bélyeg,posta stb.) | C34: 5 | D34: 5 | E34: 5 | F34: 5 | G34: 5 | H34: 5 | I34: 5 | J34: 5 | K34: 5 | L34: 5 | M34: 5 | N34: 5 | O34: =SUM(C34:N34) -> 60 | P34: =SUM(C34:N34) -> 60 | Q34: =SUM(C34:N34) -> 60 | AE34: =SUM(S34:AD34) -> 0 | AF34: =SUM(S34:AD34) -> 0 | AG34: =SUM(S34:AD34) -> 0
A35: Ünnepi díszkivilágítások | B35: 1500 | O35: 1500 | P35: 1500 | Q35: 1500
A37: Személyi költségek | O37: =SUM(O38:O72) -> 68898.502 | P37: =SUM(P38:P72) -> 69260.102 | Q37: =SUM(Q38:Q72) -> 69621.702
A38: Ügyvezető | B38: 950
A39: alap | C39: 950 | D39: 950 | E39: 950 | F39: 950 | G39: 950 | H39: 950 | I39: 950 | J39: 950 | K39: 950 | L39: 950 | M39: 950 | N39: 950 | O39: =SUM(C39:N39) -> 11400 | P39: =SUM(C39:N39) -> 11400 | Q39: =SUM(C39:N39) -> 11400 | AE39: =SUM(S39:AD39) -> 0 | AF39: =SUM(S39:AD39) -> 0 | AG39: =SUM(S39:AD39) -> 0
A40: járulékok | C40: =$C$39*0.13 -> 123.5 | D40: =$C$39*0.13 -> 123.5 | E40: =$C$39*0.13 -> 123.5 | F40: =$C$39*0.13 -> 123.5 | G40: =$C$39*0.13 -> 123.5 | H40: =$C$39*0.13 -> 123.5 | I40: =$C$39*0.13 -> 123.5 | J40: =$C$39*0.13 -> 123.5 | ... N40: =$C$39*0.13 -> 123.5 | O40: =SUM(C40:N40) -> 1482 | P40: =SUM(C40:N40) -> 1482 | Q40: =SUM(C40:N40) -> 1482 | AE40: =SUM(S40:AD40) -> 0 | AF40: =SUM(S40:AD40) -> 0 | AG40: =SUM(S40:AD40) -> 0
Q41: =SUM(C41:N41) -> 0 | AG41: =SUM(S41:AD41) -> 0
A42: Munkatárs (2 fő) | B42: 530 | Q42: =SUM(C42:N42) -> 0 | AG42: =SUM(S42:AD42) -> 0
A43: alap | C43: =$B$42*2 -> 1060 | D43: =$B$42*2 -> 1060 | E43: =$B$42*2 -> 1060 | F43: =$B$42*2 -> 1060 | G43: =$B$42*2 -> 1060 | H43: =$B$42*2 -> 1060 | I43: =$B$42*2 -> 1060 | J43: =$B$42*2 -> 1060 | ... N43: =$B$42*2 -> 1060 | O43: =SUM(C43:N43) -> 12720 | P43: =SUM(C43:N43) -> 12720 | Q43: =SUM(C43:N43) -> 12720 | AE43: =SUM(S43:AD43) -> 0 | AF43: =SUM(S43:AD43) -> 0 | AG43: =SUM(S43:AD43) -> 0
A44: járulékok | C44: =$C$43*0.13 -> 137.8 | D44: =$C$43*0.13 -> 137.8 | E44: =$C$43*0.13 -> 137.8 | F44: =$C$43*0.13 -> 137.8 | G44: =$C$43*0.13 -> 137.8 | H44: =$C$43*0.13 -> 137.8 | I44: =$C$43*0.13 -> 137.8 | J44: =$C$43*0.13 -> 137.8 | ... N44: =$C$43*0.13 -> 137.8 | O44: =SUM(C44:N44) -> 1653.6 | P44: =SUM(C44:N44) -> 1653.6 | Q44: =SUM(C44:N44) -> 1653.6 | AE44: =SUM(S44:AD44) -> 0 | AF44: =SUM(S44:AD44) -> 0 | AG44: =SUM(S44:AD44) -> 0
Q45: =SUM(C45:N45) -> 0
A46: Ellenőr | B46: 280 | Q46: =SUM(C46:N46) -> 0 | AG46: =SUM(S46:AD46) -> 0
A47: alap | C47: =$B$46 -> 280 | D47: =$B$46 -> 280 | E47: =$B$46 -> 280 | F47: =$B$46 -> 280 | G47: =$B$46 -> 280 | H47: =$B$46 -> 280 | I47: =$B$46 -> 280 | J47: =$B$46 -> 280 | ... N47: =$B$46 -> 280 | O47: =SUM(C47:N47) -> 3360 | P47: =SUM(C47:N47) -> 3360 | Q47: =SUM(C47:N47) -> 3360 | AE47: =SUM(S47:AD47) -> 0 | AF47: =SUM(S47:AD47) -> 0 | AG47: =SUM(S47:AD47) -> 0
A48: járulékok | C48: =C47*0.235 -> 65.8 | D48: =D47*0.235 -> 65.8 | E48: =E47*0.235 -> 65.8 | F48: =F47*0.235 -> 65.8 | G48: =G47*0.235 -> 65.8 | H48: =H47*0.235 -> 65.8 | I48: =I47*0.235 -> 65.8 | J48: =J47*0.235 -> 65.8 | ... N48: =N47*0.235 -> 65.8 | O48: =SUM(C48:N48) -> 789.6 | P48: =SUM(C48:N48) -> 789.6 | Q48: =SUM(C48:N48) -> 789.6 | AE48: =SUM(S48:AD48) -> 0 | AF48: =SUM(S48:AD48) -> 0 | AG48: =SUM(S48:AD48) -> 0
AG49: =SUM(S49:AD49) -> 0
A50: Játszótér takarítók (3 fő) | B50: 280 | AG50: =SUM(S50:AD50) -> 0
A51: alap | C51: =$B$50*3 -> 840 | D51: =$B$50*3 -> 840 | E51: =$B$50*3 -> 840 | F51: =$B$50*3 -> 840 | G51: =$B$50*3 -> 840 | H51: =$B$50*3 -> 840 | I51: =$B$50*3 -> 840 | J51: =$B$50*3 -> 840 | ... N51: =$B$50*3 -> 840 | O51: =SUM(C51:N51) -> 10080 | P51: =SUM(C51:N51) -> 10080 | Q51: =SUM(C51:N51) -> 10080 | AE51: =SUM(S51:AD51) -> 0 | AF51: =SUM(S51:AD51) -> 0 | AG51: =SUM(S51:AD51) -> 0
A52: járulékok | C52: =$C$51*0.13 -> 109.2 | D52: =D51*0.235 -> 197.4 | E52: =E51*0.235 -> 197.4 | F52: =F51*0.235 -> 197.4 | G52: =G51*0.235 -> 197.4 | H52: =H51*0.235 -> 197.4 | I52: =I51*0.235 -> 197.4 | J52: =J51*0.235 -> 197.4 | K52: =K51*0.235 -> 197.4 | ... N52: =N51*0.235 -> 197.4 | O52: =SUM(C52:N52) -> 2280.6 | P52: =SUM(C52:N52) -> 2280.6 | Q52: =SUM(C52:N52) -> 2280.6 | AE52: =SUM(S52:AD52) -> 0 | AF52: =SUM(S52:AD52) -> 0 | AG52: =SUM(S52:AD52) -> 0
A54: Játszótér karbantartó | B54: 320
A55: alap | C55: =$B$54 -> 320 | D55: =$B$54 -> 320 | E55: =$B$54 -> 320 | F55: =$B$54 -> 320 | G55: =$B$54 -> 320 | H55: =$B$54 -> 320 | I55: =$B$54 -> 320 | J55: =$B$54 -> 320 | ... N55: =$B$54 -> 320 | O55: =SUM(A55:L55) -> 3200 | P55: =SUM(B55:M55) -> 3520 | Q55: =SUM(C55:N55) -> 3840
A56: járulékok | C56: =C55*0.13 -> 41.6 | D56: =D55*0.13 -> 41.6 | E56: =E55*0.13 -> 41.6 | F56: =F55*0.13 -> 41.6 | G56: =G55*0.13 -> 41.6 | H56: =H55*0.13 -> 41.6 | I56: =I55*0.13 -> 41.6 | J56: =J55*0.13 -> 41.6 | ... N56: =N55*0.13 -> 41.6 | O56: =SUM(A56:L56) -> 416 | P56: =SUM(B56:M56) -> 457.6 | Q56: =SUM(C56:N56) -> 499.2
O57: =SUM(A57:L57) -> 0 | P57: =SUM(B57:M57) -> 0 | Q57: =SUM(C57:N57) -> 0
A58: FEB tagok tisztelet díja (66-66-220 eFt/hó) | C58: 352 | D58: 352 | E58: 352 | F58: 352 | G58: 352 | H58: 352 | I58: 352 | J58: 352 | K58: 352 | L58: 352 | M58: 352 | N58: 352 | O58: =SUM(C58:N58) -> 4224 | P58: =SUM(C58:N58) -> 4224 | Q58: =SUM(C58:N58) -> 4224
A59: FEB taszteletdíj járulékai | C59: =$C$58*0.13 -> 45.76 | D59: =$C$58*0.13 -> 45.76 | E59: =$C$58*0.13 -> 45.76 | F59: =$C$58*0.13 -> 45.76 | G59: =$C$58*0.13 -> 45.76 | H59: =$C$58*0.13 -> 45.76 | I59: =$C$58*0.13 -> 45.76 | J59: =$C$58*0.13 -> 45.76 | ... N59: =$C$58*0.13 -> 45.76 | O59: =SUM(C59:N59) -> 549.12 | P59: =SUM(C59:N59) -> 549.12 | Q59: =SUM(C59:N59) -> 549.12
A61: Gondnok (Kuny Domonkos 6) | B61: 300
A62: alap | C62: =$B$61 -> 300 | D62: =$B$61 -> 300 | E62: =$B$61 -> 300 | F62: =$B$61 -> 300 | G62: =$B$61 -> 300 | H62: =$B$61 -> 300 | I62: =$B$61 -> 300 | J62: =$B$61 -> 300 | ... N62: =$B$61 -> 300 | O62: =SUM(C62:N62) -> 3600 | P62: =SUM(C62:N62) -> 3600 | Q62: =SUM(C62:N62) -> 3600
A63: járulékok | C63: =C62*0.13 -> 39 | D63: =D62*0.13 -> 39 | E63: =E62*0.13 -> 39 | F63: =F62*0.13 -> 39 | G63: =G62*0.13 -> 39 | H63: =H62*0.13 -> 39 | I63: =I62*0.13 -> 39 | J63: =J62*0.13 -> 39 | ... N63: =N62*0.13 -> 39 | O63: =SUM(C63:N63) -> 468 | P63: =SUM(C63:N63) -> 468 | Q63: =SUM(C63:N63) -> 468
Q64: =SUM(C64:N64) -> 0
A65: nyugdíj pénztár munkált (5%) | C65: =((C39+C43+C47+C51+C55+C58+C62)*0.05)*1.235 -> 253.2985 | D65: =$C$65 -> 253.2985 | E65: =$C$65 -> 253.2985 | F65: =$C$65 -> 253.2985 | G65: =$C$65 -> 253.2985 | H65: =$C$65 -> 253.2985 | I65: =$C$65 -> 253.2985 | J65: =$C$65 -> 253.2985 | K65: =$C$65 -> 253.2985 | ... N65: =$C$65 -> 253.2985 | O65: =SUM($C$65:$N$65) -> 3039.582 | P65: =SUM($C$65:$N$65) -> 3039.582 | Q65: =SUM($C$65:$N$65) -> 3039.582 | AE65: =SUM(S65:AD65) -> 0 | AF65: =SUM(S65:AD65) -> 0 | AG65: =SUM(S65:AD65) -> 0
A66: Széchenyi egészség kártya (20000Ft/hó) 18 fő | C66: =20*18 -> 360 | D66: =20*18 -> 360 | E66: =20*18 -> 360 | F66: =20*18 -> 360 | G66: =20*18 -> 360 | H66: =20*18 -> 360 | I66: =20*18 -> 360 | J66: =20*18 -> 360 | ... N66: =20*18 -> 360 | O66: =SUM(C66:N66) -> 4320 | P66: =SUM(C66:N66) -> 4320 | Q66: =SUM(C66:N66) -> 4320 | AE66: =SUM(S66:AD66) -> 0 | AF66: =SUM(S66:AD66) -> 0 | AG66: =SUM(S66:AD66) -> 0
A67: munkábajárás | C67: 10 | D67: 10 | E67: 10 | F67: 10 | G67: 10 | H67: 10 | I67: 10 | J67: 10 | K67: 10 | L67: 10 | M67: 10 | N67: 10 | O67: =SUM(C67:N67) -> 120 | P67: =SUM(C67:N67) -> 120 | Q67: =SUM(C67:N67) -> 120
A68: hivatali célú gépjármű kltsg | C68: 25 | D68: 25 | E68: 25 | F68: 25 | G68: 25 | H68: 25 | I68: 25 | J68: 25 | K68: 25 | L68: 25 | M68: 25 | N68: 25 | O68: =SUM(C68:N68) -> 300 | P68: =SUM(C68:N68) -> 300 | Q68: =SUM(C68:N68) -> 300 | AG68: =SUM(S68:AD68) -> 0
A69: Állandó költségek | O69: =SUM(O70:O79) -> 4356 | P69: =SUM(P70:P79) -> 4356 | Q69: =SUM(Q70:Q79) -> 4356 | AE69: =SUM(S69:AD69) -> 0 | AF69: =SUM(T69:AE69) -> 0 | AG69: =SUM(U69:AF69) -> 0
A70: víz,csatorna | C70: 5 | D70: 5 | E70: 5 | F70: 5 | G70: 5 | H70: 5 | I70: 5 | J70: 5 | K70: 5 | L70: 5 | M70: 5 | N70: 5 | O70: =SUM(C70:N70) -> 60 | P70: =SUM(C70:N70) -> 60 | Q70: =SUM(C70:N70) -> 60 | AE70: =SUM(S70:AD70) -> 0 | AF70: =SUM(S70:AD70) -> 0 | AG70: =SUM(S70:AD70) -> 0
A71: villany | C71: 10 | D71: 10 | E71: 10 | F71: 10 | G71: 10 | H71: 10 | I71: 10 | J71: 10 | K71: 10 | L71: 10 | M71: 10 | N71: 10 | O71: =SUM(C71:N71) -> 120 | P71: =SUM(C71:N71) -> 120 | Q71: =SUM(C71:N71) -> 120 | AE71: =SUM(S71:AD71) -> 0 | AF71: =SUM(S71:AD71) -> 0 | AG71: =SUM(S71:AD71) -> 0
A72: fűtés | C72: 30 | D72: 30 | E72: 30 | F72: 30 | G72: 30 | H72: 30 | I72: 30 | J72: 30 | K72: 30 | L72: 30 | M72: 30 | N72: 30 | O72: =SUM(C72:N72) -> 360 | P72: =SUM(C72:N72) -> 360 | Q72: =SUM(C72:N72) -> 360
A73: szemét | C73: 90 | D73: 90 | E73: 90 | F73: 90 | G73: 90 | H73: 90 | I73: 90 | J73: 90 | K73: 90 | L73: 90 | M73: 90 | N73: 90 | O73: =SUM(C73:N73) -> 1080 | P73: =SUM(C73:N73) -> 1080 | Q73: =SUM(C73:N73) -> 1080
A74: info kommunikáció adat (webcam, iroda, wifi,stb.) | C74: 50 | D74: 50 | E74: 50 | F74: 50 | G74: 50 | H74: 50 | I74: 50 | J74: 50 | K74: 50 | L74: 50 | M74: 50 | N74: 50 | O74: =SUM(C74:N74) -> 600 | P74: =SUM(C74:N74) -> 600 | Q74: =SUM(C74:N74) -> 600 | AE74: =SUM(S74:AD74) -> 0 | AF74: =SUM(S74:AD74) -> 0 | AG74: =SUM(S74:AD74) -> 0
A75: info supprot (rendszer) | C75: 50 | D75: 50 | E75: 50 | F75: 50 | G75: 50 | H75: 50 | I75: 50 | J75: 50 | K75: 50 | L75: 50 | M75: 50 | N75: 50 | O75: =SUM(C75:N75) -> 600 | P75: =SUM(C75:N75) -> 600 | Q75: =SUM(C75:N75) -> 600 | AE75: =SUM(S75:AD75) -> 0 | AF75: =SUM(S75:AD75) -> 0 | AG75: =SUM(S75:AD75) -> 0
A76: könyvelő | C76: 45 | D76: 45 | E76: 45 | F76: 45 | G76: 45 | H76: 45 | I76: 45 | J76: 45 | K76: 45 | L76: 45 | M76: 45 | N76: 45 | O76: =SUM(C76:N76) -> 540 | P76: =SUM(C76:N76) -> 540 | Q76: =SUM(C76:N76) -> 540 | AE76: =SUM(S76:AD76) -> 0 | AF76: =SUM(S76:AD76) -> 0 | AG76: =SUM(S76:AD76) -> 0
A77: iroda takarítás | C77: 20 | D77: 20 | E77: 20 | F77: 20 | G77: 20 | H77: 20 | I77: 20 | J77: 20 | K77: 20 | L77: 20 | M77: 20 | N77: 20 | O77: =SUM(C77:N77) -> 240 | P77: =SUM(C77:N77) -> 240 | Q77: =SUM(C77:N77) -> 240 | AE77: =SUM(S77:AD77) -> 0 | AF77: =SUM(S77:AD77) -> 0 | AG77: =SUM(S77:AD77) -> 0
A78: munkavégzéshez Bkv bérlet 6 fő | C78: 63 | D78: 63 | E78: 63 | F78: 63 | G78: 63 | H78: 63 | I78: 63 | J78: 63 | K78: 63 | L78: 63 | M78: 63 | N78: 63 | O78: =SUM(C78:N78) -> 756 | P78: =SUM(C78:N78) -> 756 | Q78: =SUM(C78:N78) -> 756 | AE78: =SUM(S78:AD78) -> 0 | AF78: =SUM(S78:AD78) -> 0 | AG78: =SUM(S78:AD78) -> 0
AE79: =SUM(S79:AD79) -> 0 | AF79: =SUM(S79:AD79) -> 0 | AG79: =SUM(S79:AD79) -> 0
A80: Rendezvények | B80: 3000 | O80: =B80 -> 3000 | P80: =B80 -> 3000
A82: Beruházások | O82: =SUM(O83:O92) -> 37000 | P82: =SUM(P83:P92) -> 33000 | Q82: =SUM(Q83:Q92) -> 18000
A83: Csalogány
A84: Rumini Mária tér | B84: WC | AE84: =SUM(S84:AD84) -> 0
A85: Farnklin
A86: Donáti
A87: Mátyás Király
A88: PomPom Naphegy | B88: BKV WC | O88: 10000 | P88: 10000 | Q88: 10000
A89: Vuk Bérc csatorna bekötése | B89: WC | C89: 8000 | O89: =C89 -> 8000 | P89: =C89 -> 8000 | Q89: =C89 -> 8000
A90: Aladár utca | B90: WC | C90: 15000 | O90: =C90 -> 15000 | P90: =C90 -> 15000
A91: Szaffi | B91: WC
A92: Web kamera rendszer kiépítése ( 10x2 db) | B92: 4000 | O92: 4000 | Q92: =C92 -> 0 | AE92: =R92 -> 0 | AF92: =R92 -> 0 | AG92: =S92 -> 0
A93: Játszóterek+Kft erőforrásai: | O93: =O3+O19+O26+O37+O69+O80+O82 -> 212569.5 | P93: =P3+P19+P26+P37+P69+P80+P82 -> 151421.1 | Q93: =Q3+Q19+Q26+Q37+Q69+Q80+Q82 -> 107442.7
A94: Sportpályák | O94: ='2021'!E194/1000 -> 17930 | P94: ='2021'!F194/1000 -> 4430 | Q94: ='2021'!G194/1000 -> 530
A95: Zöldfelület fenntartás+erőforrásai: | O95: ='2022 zöld fenntartás'!$J$58/1000 -> 95268 | P95: ='2022 zöld fenntartás'!$J$58/1000 -> 95268 | Q95: ='2022 zöld fenntartás'!$J$58/1000 -> 95268
A96: WC fenntartás (3 db 6-24h / +3 db / 0-24h)+erőforrásai: | O96: ='2022 wc'!$I$11/1000 -> 97490.552 | P96: ='2022 wc'!$I$11/1000 -> 97490.552 | Q96: ='2022 wc'!I10/1000 -> 89991.279
A99: Összesen (eFt): | C99: =SUM(C3:C79) -> 6830.9585 | D99: =SUM(D3:D79) -> 6279.1585 | E99: =SUM(E3:E79) -> 6254.1585 | F99: =SUM(F3:F79) -> 6119.1585 | G99: =SUM(G3:G79) -> 6479.1585 | H99: =SUM(H3:H79) -> 6029.1585 | I99: =SUM(I3:I79) -> 6319.1585 | J99: =SUM(J3:J79) -> 6004.1585 | ... N99: =SUM(N3:N79) -> 6329.1585 | O99: =SUM(O93:O96) -> 423258.05 | P99: =SUM(P93:P96) -> 348609.65 | Q99: =SUM(Q93:Q96) -> 293231.98 | S99: =SUM(S3:S79) -> 0 | T99: =SUM(T3:T79) -> 0 | U99: =SUM(U3:U79) -> 0 | V99: =SUM(V3:V79) -> 0 | W99: =SUM(W3:W79) -> 0 | X99: =SUM(X3:X79) -> 0 | Y99: =SUM(Y3:Y79) -> 0 | Z99: =SUM(Z3:Z79) -> 0 | ... AD99: =SUM(AD3:AD79) -> 0 | AE99: =SUM(AE3:AE98) -> 0 | AF99: =SUM(AF3:AF98) -> 0 | AG99: =SUM(AG3:AG98) -> 0

Sheet I. terv 2023 terv
A1: Költség elem | C1: 2023 | D1: terv | O1: A össz | P1: B össz | Q1: C össz | R1: tény | S1: tény | AE1: A össz | AF1: B össz | AG1: C össz
A2: eFt | C2: jan | D2: febr | E2: márc | F2: ápr | G2: máj | H2: jún | I2: júl | J2: aug | K2: szep | L2: okt | M2: nov | N2: dec | O2: teljes | P2: közép | Q2: min | S2: jan | T2: febr | U2: márc | V2: ápr | W2: máj | X2: jún | Y2: júl | Z2: aug | AA2: szep | AB2: okt | AC2: nov | AD2: dec | AE2: teljes | AF2: min | AG2: min
A3: Javítások | O3: =SUM(O12:O18) -> 4080 | P3: =SUM(P12:P18) -> 4080 | Q3: =SUM(Q12:Q18) -> 4080
A4: Csalogány | O4: =SUM(C4:N4) -> 0 | P4: =SUM(C4:N4) -> 0 | Q4: =SUM(C4:N4) -> 0 | AE4: =SUM(S4:AD4) -> 0 | AF4: =SUM(S4:AD4) -> 0 | AG4: =SUM(S4:AD4) -> 0
A5: Rumini Mária tér | O5: =SUM(C5:N5) -> 0 | P5: =SUM(C5:N5) -> 0 | Q5: =SUM(C5:N5) -> 0 | AE5: =SUM(S5:AD5) -> 0 | AF5: =SUM(S5:AD5) -> 0 | AG5: =SUM(S5:AD5) -> 0
A6: Farnklin | O6: =SUM(C6:N6) -> 0 | P6: =SUM(C6:N6) -> 0 | Q6: =SUM(C6:N6) -> 0 | AE6: =SUM(S6:AD6) -> 0 | AF6: =SUM(S6:AD6) -> 0 | AG6: =SUM(S6:AD6) -> 0
A7: Donáti | O7: =SUM(C7:N7) -> 0 | P7: =SUM(C7:N7) -> 0 | Q7: =SUM(C7:N7) -> 0 | AE7: =SUM(S7:AD7) -> 0 | AF7: =SUM(S7:AD7) -> 0 | AG7: =SUM(S7:AD7) -> 0
A8: Mátyás Király | O8: =SUM(C8:N8) -> 0 | P8: =SUM(C8:N8) -> 0 | Q8: =SUM(C8:N8) -> 0 | AE8: =SUM(S8:AD8) -> 0 | AF8: =SUM(S8:AD8) -> 0 | AG8: =SUM(S8:AD8) -> 0
A9: PomPom Naphegy | O9: =SUM(C9:N9) -> 0 | P9: =SUM(C9:N9) -> 0 | Q9: =SUM(C9:N9) -> 0 | AE9: =SUM(S9:AD9) -> 0 | AF9: =SUM(S9:AD9) -> 0 | AG9: =SUM(S9:AD9) -> 0
A10: Vuk Bérc | O10: =SUM(C10:N10) -> 0 | P10: =SUM(C10:N10) -> 0 | Q10: =SUM(C10:N10) -> 0 | AE10: =SUM(S10:AD10) -> 0 | AF10: =SUM(S10:AD10) -> 0 | AG10: =SUM(S10:AD10) -> 0
A11: Aladár | O11: =SUM(C11:N11) -> 0 | P11: =SUM(C11:N11) -> 0 | Q11: =SUM(C11:N11) -> 0 | AE11: =SUM(S11:AD11) -> 0 | AF11: =SUM(S11:AD11) -> 0 | AG11: =SUM(S11:AD11) -> 0
A12: Általános javítás (idegen) | C12: 200 | E12: 200 | G12: 200 | I12: 200 | K12: 200 | M12: 200 | O12: =SUM(C12:N12) -> 1200 | P12: =SUM(B12:M12) -> 1200 | Q12: =SUM(C12:N12) -> 1200 | AE12: =SUM(S12:AD12) -> 0 | AF12: =SUM(S12:AD12) -> 0 | AG12: =SUM(S12:AD12) -> 0
A13: Általános javítás (saját) | C13: 50 | F13: 50 | I13: 50 | L13: 50 | O13: =SUM(C13:N13) -> 200 | P13: =SUM(B13:M13) -> 200 | Q13: =SUM(C13:N13) -> 200 | AE13: =SUM(S13:AD13) -> 0 | AF13: =SUM(S13:AD13) -> 0 | AG13: =SUM(S13:AD13) -> 0
Q14: =SUM(C14:N14) -> 0 | AG14: =SUM(S14:AD14) -> 0
A15: Játszóterek takarítása, szemét le 12 db | Q15: =SUM(C15:N15) -> 0 | AE15: =SUM(S15:AD15) -> 0 | AF15: =SUM(S15:AD15) -> 0 | AG15: =SUM(S15:AD15) -> 0
A16: (FKF Zrt, szemetes zsákok, stb.) | C16: 70 | F16: 70 | I16: 70 | L16: 70 | O16: =SUM(C16:N16) -> 280 | P16: =SUM(C16:N16) -> 280 | Q16: =SUM(C16:N16) -> 280
A17: vásárolt szolgáltatás (hiba elhárítás, hó-, dugulás elh, stb.) | C17: 300 | D17: 300 | M17: 300 | N17: 300 | O17: =SUM(C17:N17) -> 1200 | P17: =SUM(C17:N17) -> 1200 | Q17: =SUM(C17:N17) -> 1200
A18: szemétszállítás FKF | C18: 100 | D18: 100 | E18: 100 | F18: 100 | G18: 100 | H18: 100 | I18: 100 | J18: 100 | K18: 100 | L18: 100 | M18: 100 | N18: 100 | O18: =SUM(C18:N18) -> 1200 | P18: =SUM(C18:N18) -> 1200 | Q18: =SUM(C18:N18) -> 1200
A19: Jogszerű működés feltételeihez | O19: =SUM(O20:O25) -> 1430 | P19: =SUM(P20:P25) -> 1430 | Q19: =SUM(Q20:Q25) -> 1430
A20: esedékes szabványossági (megfelelőségi) vizsg | O20: =B20 -> 0 | P20: =B20 -> 0 | Q20: =B20 -> 0 | AE20: =R20 -> 0 | AF20: =R20 -> 0 | AG20: =R20 -> 0
A21: éves felülvizsgálatok, javítások 10db | B21: 100 | O21: =B21 -> 100 | P21: =B21 -> 100 | Q21: =B21 -> 100 | AE21: =R21 -> 0 | AF21: =S21 -> 0 | AG21: =T21 -> 0
A22: karbantartási kötelezettségek 10 db | O22: =B22 -> 0 | P22: =B22 -> 0 | Q22: =B22 -> 0 | AE22: =R22 -> 0 | AF22: =S22 -> 0 | AG22: =T22 -> 0
A23: Parkok nyitás zárása | B23: 90 | C23: 90 | D23: 90 | E23: 90 | F23: 90 | G23: 90 | H23: 90 | I23: 90 | J23: 90 | K23: 90 | L23: 90 | M23: 90 | N23: 90 | O23: =SUM(C23:N23) -> 1080 | P23: =SUM(C23:N23) -> 1080 | Q23: =SUM(C23:N23) -> 1080 | AE23: =SUM(S23:AD23) -> 0 | AF23: =SUM(S23:AD23) -> 0 | AG23: =SUM(S23:AD23) -> 0
A24: FESZ EÜ vizsgálat | E24: 25 | J24: 25 | O24: =SUM(D24:N24) -> 50 | P24: =SUM(C24:N24) -> 50 | Q24: =SUM(C24:N24) -> 50 | AE24: =SUM(T24:AD24) -> 0 | AF24: =SUM(S24:AD24) -> 0 | AG24: =SUM(S24:AD24) -> 0
A25: védőruházat védőfelszerelés | E25: 50 | H25: 50 | K25: 50 | N25: 50 | O25: =SUM(D25:N25) -> 200 | P25: =SUM(C25:N25) -> 200 | Q25: =SUM(C25:N25) -> 200 | AE25: =SUM(T25:AD25) -> 0 | AF25: =SUM(S25:AD25) -> 0 | AG25: =SUM(S25:AD25) -> 0
A26: Alkalmi ráfordítások | O26: =SUM(O27:O36) -> 244800 | P26: =SUM(P27:P36) -> 65125 | Q26: =SUM(Q27:Q36) -> 22255
A27: Játszóterek egyszeri teljes körű szbv. Jav. 2022 | O27: ='2023 játszóterek'!E213/1000 -> 241620 | P27: ='2023 játszóterek'!F213/1000 -> 62395 | Q27: ='2023 játszóterek'!G213/1000 -> 19525 | AE27: ='[4]elvégzendő munkálatok 2017'!U161/1000 -> 0 | AF27: ='[4]elvégzendő munkálatok 2017'!V161/1000 -> 0 | AG27: ='[4]elvégzendő munkálatok 2017'!W161/1000 -> 0
A28: Tájékoztató táblák, felíratok | B28: 100 | O28: =B28 -> 100 | P28: =B28 -> 100 | Q28: =B28 -> 100 | AE28: =R28 -> 0 | AF28: =R28 -> 0 | AG28: =R28 -> 0
O29: =B29 -> 0 | P29: =B29 -> 0 | Q29: =B29 -> 0 | AE29: =R29 -> 0 | AF29: =R29 -> 0 | AG29: =R29 -> 0
A30: Honlap karbantartás, megújítás | B30: 300 | O30: =B30 -> 300 | P30: =B30 -> 300 | Q30: =B30 -> 300 | AE30: =R30 -> 0 | AF30: =R30 -> 0 | AG30: =R30 -> 0
A31: Havaria | C31: 300 | G31: 300 | K31: 300 | O31: =SUM(C31:N31) -> 900 | P31: =SUM(C31:N31)/2 -> 450 | Q31: =SUM(C31:N31)/2 -> 450 | AE31: =SUM(S31:AD31) -> 0 | AF31: =SUM(S31:AD31)/2 -> 0 | AG31: =SUM(S31:AD31) -> 0
A32: infromatikai | C32: 20 | F32: 20 | I32: 20 | L32: 20 | O32: =SUM(C32:N32) -> 80 | P32: =SUM(C32:N32) -> 80 | Q32: =SUM(C32:N32) -> 80 | AE32: =SUM(S32:AD32) -> 0 | AF32: =SUM(S32:AD32) -> 0 | AG32: =SUM(S32:AD32) -> 0
A33: cég működés járulékos(iroda, védőital,fénym.stb.) | B33: 20 | C33: 20 | D33: 20 | E33: 20 | F33: 20 | G33: 20 | H33: 20 | I33: 20 | J33: 20 | K33: 20 | L33: 20 | M33: 20 | N33: 20 | O33: =SUM(C33:N33) -> 240 | P33: =SUM(C33:N33) -> 240 | Q33: =SUM(C33:N33) -> 240 | AE33: =SUM(S33:AD33) -> 0 | AF33: =SUM(S33:AD33) -> 0 | AG33: =SUM(S33:AD33) -> 0
A34: Egyéb (parkolás,illeték bélyeg,posta stb.) | C34: 5 | D34: 5 | E34: 5 | F34: 5 | G34: 5 | H34: 5 | I34: 5 | J34: 5 | K34: 5 | L34: 5 | M34: 5 | N34: 5 | O34: =SUM(C34:N34) -> 60 | P34: =SUM(C34:N34) -> 60 | Q34: =SUM(C34:N34) -> 60 | AE34: =SUM(S34:AD34) -> 0 | AF34: =SUM(S34:AD34) -> 0 | AG34: =SUM(S34:AD34) -> 0
A35: Ünnepi díszkivilágítások | B35: 1500 | O35: 1500 | P35: 1500 | Q35: 1500
A37: Személyi költségek | C37: 2022 es bérrel | O37: =SUM(O39:O69) -> 80428.257 | P37: =SUM(P39:P69) -> 80428.257 | Q37: =SUM(Q39:Q69) -> 80428.257
E38: 2023 aktualizált ( 12%) | O38: =O37*1.12 -> 90079.648 | P38: =P37*1.12 -> 90079.648 | Q38: =Q37*1.12 -> 90079.648
A39: Ügyvezető | B39: 950
A40: alap | C40: 950 | D40: 950 | E40: 950 | F40: 950 | G40: 950 | H40: 950 | I40: 950 | J40: 950 | K40: 950 | L40: 950 | M40: 950 | N40: 950 | O40: =SUM(C40:N40) -> 11400 | P40: =SUM(C40:N40) -> 11400 | Q40: =SUM(C40:N40) -> 11400 | AE40: =SUM(S40:AD40) -> 0 | AF40: =SUM(S40:AD40) -> 0 | AG40: =SUM(S40:AD40) -> 0
A41: járulékok | C41: =$C$40*0.13 -> 123.5 | D41: =$C$40*0.13 -> 123.5 | E41: =$C$40*0.13 -> 123.5 | F41: =$C$40*0.13 -> 123.5 | G41: =$C$40*0.13 -> 123.5 | H41: =$C$40*0.13 -> 123.5 | I41: =$C$40*0.13 -> 123.5 | J41: =$C$40*0.13 -> 123.5 | ... N41: =$C$40*0.13 -> 123.5 | O41: =SUM(C41:N41) -> 1482 | P41: =SUM(C41:N41) -> 1482 | Q41: =SUM(C41:N41) -> 1482 | AE41: =SUM(S41:AD41) -> 0 | AF41: =SUM(S41:AD41) -> 0 | AG41: =SUM(S41:AD41) -> 0
Q42: =SUM(C42:N42) -> 0 | AG42: =SUM(S42:AD42) -> 0
A43: Munkatárs (2 fő) | B43: 593 | Q43: =SUM(C43:N43) -> 0 | AG43: =SUM(S43:AD43) -> 0
A44: alap | C44: =$B$43*2 -> 1186 | D44: =$B$43*2 -> 1186 | E44: =$B$43*2 -> 1186 | F44: =$B$43*2 -> 1186 | G44: =$B$43*2 -> 1186 | H44: =$B$43*2 -> 1186 | I44: =$B$43*2 -> 1186 | J44: =$B$43*2 -> 1186 | ... N44: =$B$43*2 -> 1186 | O44: =SUM(C44:N44) -> 14232 | P44: =SUM(C44:N44) -> 14232 | Q44: =SUM(C44:N44) -> 14232 | AE44: =SUM(S44:AD44) -> 0 | AF44: =SUM(S44:AD44) -> 0 | AG44: =SUM(S44:AD44) -> 0
A45: járulékok | C45: =$C$44*0.13 -> 154.18 | D45: =$C$44*0.13 -> 154.18 | E45: =$C$44*0.13 -> 154.18 | F45: =$C$44*0.13 -> 154.18 | G45: =$C$44*0.13 -> 154.18 | H45: =$C$44*0.13 -> 154.18 | I45: =$C$44*0.13 -> 154.18 | J45: =$C$44*0.13 -> 154.18 | ... N45: =$C$44*0.13 -> 154.18 | O45: =SUM(C45:N45) -> 1850.16 | P45: =SUM(C45:N45) -> 1850.16 | Q45: =SUM(C45:N45) -> 1850.16 | AE45: =SUM(S45:AD45) -> 0 | AF45: =SUM(S45:AD45) -> 0 | AG45: =SUM(S45:AD45) -> 0
Q46: =SUM(C46:N46) -> 0
A47: Ellenőr | B47: 593 | Q47: =SUM(C47:N47) -> 0 | AG47: =SUM(S47:AD47) -> 0
A48: alap | C48: =$B$47 -> 593 | D48: =$B$47 -> 593 | E48: =$B$47 -> 593 | F48: =$B$47 -> 593 | G48: =$B$47 -> 593 | H48: =$B$47 -> 593 | I48: =$B$47 -> 593 | J48: =$B$47 -> 593 | ... N48: =$B$47 -> 593 | O48: =SUM(C48:N48) -> 7116 | P48: =SUM(C48:N48) -> 7116 | Q48: =SUM(C48:N48) -> 7116 | AE48: =SUM(S48:AD48) -> 0 | AF48: =SUM(S48:AD48) -> 0 | AG48: =SUM(S48:AD48) -> 0
A49: járulékok | C49: =C48*0.235 -> 139.355 | D49: =D48*0.235 -> 139.355 | E49: =E48*0.235 -> 139.355 | F49: =F48*0.235 -> 139.355 | G49: =G48*0.235 -> 139.355 | H49: =H48*0.235 -> 139.355 | I49: =I48*0.235 -> 139.355 | J49: =J48*0.235 -> 139.355 | ... N49: =N48*0.235 -> 139.355 | O49: =SUM(C49:N49) -> 1672.26 | P49: =SUM(C49:N49) -> 1672.26 | Q49: =SUM(C49:N49) -> 1672.26 | AE49: =SUM(S49:AD49) -> 0 | AF49: =SUM(S49:AD49) -> 0 | AG49: =SUM(S49:AD49) -> 0
AG50: =SUM(S50:AD50) -> 0
A51: Játszótér takarítók (3 fő) | B51: 316 | AG51: =SUM(S51:AD51) -> 0
A52: alap | C52: =$B$51*3 -> 948 | D52: =$B$51*3 -> 948 | E52: =$B$51*3 -> 948 | F52: =$B$51*3 -> 948 | G52: =$B$51*3 -> 948 | H52: =$B$51*3 -> 948 | I52: =$B$51*3 -> 948 | J52: =$B$51*3 -> 948 | ... N52: =$B$51*3 -> 948 | O52: =SUM(C52:N52) -> 11376 | P52: =SUM(C52:N52) -> 11376 | Q52: =SUM(C52:N52) -> 11376 | AE52: =SUM(S52:AD52) -> 0 | AF52: =SUM(S52:AD52) -> 0 | AG52: =SUM(S52:AD52) -> 0
A53: járulékok | C53: =$C$52*0.13 -> 123.24 | D53: =D52*0.235 -> 222.78 | E53: =E52*0.235 -> 222.78 | F53: =F52*0.235 -> 222.78 | G53: =G52*0.235 -> 222.78 | H53: =H52*0.235 -> 222.78 | I53: =I52*0.235 -> 222.78 | J53: =J52*0.235 -> 222.78 | K53: =K52*0.235 -> 222.78 | ... N53: =N52*0.235 -> 222.78 | O53: =SUM(C53:N53) -> 2573.82 | P53: =SUM(C53:N53) -> 2573.82 | Q53: =SUM(C53:N53) -> 2573.82 | AE53: =SUM(S53:AD53) -> 0 | AF53: =SUM(S53:AD53) -> 0 | AG53: =SUM(S53:AD53) -> 0
A55: Karbantartó (2 fő) | B55: 336
A56: alap | C56: =$B$55*2 -> 672 | D56: =$B$55*2 -> 672 | E56: =$B$55*2 -> 672 | F56: =$B$55*2 -> 672 | G56: =$B$55*2 -> 672 | H56: =$B$55*2 -> 672 | I56: =$B$55*2 -> 672 | J56: =$B$55*2 -> 672 | ... N56: =$B$55*2 -> 672 | O56: =SUM(C56:N56) -> 8064 | P56: =SUM(C56:N56) -> 8064 | Q56: =SUM(C56:N56) -> 8064
A57: járulékok | C57: =C56*0.13 -> 87.36 | D57: =D56*0.13 -> 87.36 | E57: =E56*0.13 -> 87.36 | F57: =F56*0.13 -> 87.36 | G57: =G56*0.13 -> 87.36 | H57: =H56*0.13 -> 87.36 | I57: =I56*0.13 -> 87.36 | J57: =J56*0.13 -> 87.36 | ... N57: =N56*0.13 -> 87.36 | O57: =SUM(C57:N57) -> 1048.32 | P57: =SUM(C57:N57) -> 1048.32 | Q57: =SUM(C57:N57) -> 1048.32
A59: FEB tagok tisztelet díja (66-66-220 eFt/hó) | C59: 352 | D59: 352 | E59: 352 | F59: 352 | G59: 352 | H59: 352 | I59: 352 | J59: 352 | K59: 352 | L59: 352 | M59: 352 | N59: 352 | O59: =SUM(C59:N59) -> 4224 | P59: =SUM(C59:N59) -> 4224 | Q59: =SUM(C59:N59) -> 4224
A60: FEB taszteletdíj járulékai | C60: =$C$59*0.13 -> 45.76 | D60: =$C$59*0.13 -> 45.76 | E60: =$C$59*0.13 -> 45.76 | F60: =$C$59*0.13 -> 45.76 | G60: =$C$59*0.13 -> 45.76 | H60: =$C$59*0.13 -> 45.76 | I60: =$C$59*0.13 -> 45.76 | J60: =$C$59*0.13 -> 45.76 | ... N60: =$C$59*0.13 -> 45.76 | O60: =SUM(C60:N60) -> 549.12 | P60: =SUM(C60:N60) -> 549.12 | Q60: =SUM(C60:N60) -> 549.12
A62: Gondnok (Kuny Domonkos 6) | B62: 336
A63: alap | C63: =$B$62 -> 336 | D63: =$B$62 -> 336 | E63: =$B$62 -> 336 | F63: =$B$62 -> 336 | G63: =$B$62 -> 336 | H63: =$B$62 -> 336 | I63: =$B$62 -> 336 | J63: =$B$62 -> 336 | ... N63: =$B$62 -> 336 | O63: =SUM(C63:N63) -> 4032 | P63: =SUM(C63:N63) -> 4032 | Q63: =SUM(C63:N63) -> 4032
A64: járulékok | C64: =C63*0.13 -> 43.68 | D64: =D63*0.13 -> 43.68 | E64: =E63*0.13 -> 43.68 | F64: =F63*0.13 -> 43.68 | G64: =G63*0.13 -> 43.68 | H64: =H63*0.13 -> 43.68 | I64: =I63*0.13 -> 43.68 | J64: =J63*0.13 -> 43.68 | ... N64: =N63*0.13 -> 43.68 | O64: =SUM(C64:N64) -> 524.16 | P64: =SUM(C64:N64) -> 524.16 | Q64: =SUM(C64:N64) -> 524.16
Q65: =SUM(C65:N65) -> 0
A66: nyugdíj pénztár munkált (5%) | C66: =((C40+C44+C48+C52+C56+C59+C63)*0.05)*1.235 -> 311.03475 | D66: =$C$66 -> 311.03475 | E66: =$C$66 -> 311.03475 | F66: =$C$66 -> 311.03475 | G66: =$C$66 -> 311.03475 | H66: =$C$66 -> 311.03475 | I66: =$C$66 -> 311.03475 | J66: =$C$66 -> 311.03475 | K66: =$C$66 -> 311.03475 | ... N66: =$C$66 -> 311.03475 | O66: =SUM($C$66:$N$66) -> 3732.417 | P66: =SUM($C$66:$N$66) -> 3732.417 | Q66: =SUM($C$66:$N$66) -> 3732.417 | AE66: =SUM(S66:AD66) -> 0 | AF66: =SUM(S66:AD66) -> 0 | AG66: =SUM(S66:AD66) -> 0
A67: Széchenyi kártya (25000Ft/hó) 20 fő | C67: =25*20 -> 500 | D67: =25*20 -> 500 | E67: =25*20 -> 500 | F67: =25*20 -> 500 | G67: =25*20 -> 500 | H67: =25*20 -> 500 | I67: =25*20 -> 500 | J67: =25*20 -> 500 | ... N67: =25*20 -> 500 | O67: =SUM(C67:N67) -> 6000 | P67: =SUM(C67:N67) -> 6000 | Q67: =SUM(C67:N67) -> 6000 | AE67: =SUM(S67:AD67) -> 0 | AF67: =SUM(S67:AD67) -> 0 | AG67: =SUM(S67:AD67) -> 0
A68: munkábajárás | C68: 21 | D68: 21 | E68: 21 | F68: 21 | G68: 21 | H68: 21 | I68: 21 | J68: 21 | K68: 21 | L68: 21 | M68: 21 | N68: 21 | O68: =SUM(C68:N68) -> 252 | P68: =SUM(C68:N68) -> 252 | Q68: =SUM(C68:N68) -> 252
A69: hivatali célú gépjármű kltsg | C69: 25 | D69: 25 | E69: 25 | F69: 25 | G69: 25 | H69: 25 | I69: 25 | J69: 25 | K69: 25 | L69: 25 | M69: 25 | N69: 25 | O69: =SUM(C69:N69) -> 300 | P69: =SUM(C69:N69) -> 300 | Q69: =SUM(C69:N69) -> 300 | AG69: =SUM(S69:AD69) -> 0
A70: Állandó költségek | O70: =SUM(O71:O80) -> 5388 | P70: =SUM(P71:P80) -> 5388 | Q70: =SUM(Q71:Q80) -> 5388 | AE70: =SUM(S70:AD70) -> 0 | AF70: =SUM(T70:AE70) -> 0 | AG70: =SUM(U70:AF70) -> 0
A71: víz,csatorna | C71: 5 | D71: 5 | E71: 5 | F71: 5 | G71: 5 | H71: 5 | I71: 5 | J71: 5 | K71: 5 | L71: 5 | M71: 5 | N71: 5 | O71: =SUM(C71:N71) -> 60 | P71: =SUM(C71:N71) -> 60 | Q71: =SUM(C71:N71) -> 60 | AE71: =SUM(S71:AD71) -> 0 | AF71: =SUM(S71:AD71) -> 0 | AG71: =SUM(S71:AD71) -> 0
A72: villany | C72: 50 | D72: 50 | E72: 50 | F72: 50 | G72: 50 | H72: 50 | I72: 50 | J72: 50 | K72: 50 | L72: 50 | M72: 50 | N72: 50 | O72: =SUM(C72:N72) -> 600 | P72: =SUM(C72:N72) -> 600 | Q72: =SUM(C72:N72) -> 600 | AE72: =SUM(S72:AD72) -> 0 | AF72: =SUM(S72:AD72) -> 0 | AG72: =SUM(S72:AD72) -> 0
A73: fűtés | C73: 30 | D73: 30 | E73: 30 | F73: 30 | G73: 30 | H73: 30 | I73: 30 | J73: 30 | K73: 30 | L73: 30 | M73: 30 | N73: 30 | O73: =SUM(C73:N73) -> 360 | P73: =SUM(C73:N73) -> 360 | Q73: =SUM(C73:N73) -> 360
A74: szemét | C74: 10 | D74: 10 | E74: 10 | F74: 10 | G74: 10 | H74: 10 | I74: 10 | J74: 10 | K74: 10 | L74: 10 | M74: 10 | N74: 10 | O74: =SUM(C74:N74) -> 120 | P74: =SUM(C74:N74) -> 120 | Q74: =SUM(C74:N74) -> 120
A75: info kommunikáció adat (webcam, iroda, wifi,stb.) | C75: 50 | D75: 50 | E75: 50 | F75: 50 | G75: 50 | H75: 50 | I75: 50 | J75: 50 | K75: 50 | L75: 50 | M75: 50 | N75: 50 | O75: =SUM(C75:N75) -> 600 | P75: =SUM(C75:N75) -> 600 | Q75: =SUM(C75:N75) -> 600 | AE75: =SUM(S75:AD75) -> 0 | AF75: =SUM(S75:AD75) -> 0 | AG75: =SUM(S75:AD75) -> 0
A76: info supprot (rendszer) | C76: 50 | D76: 50 | E76: 50 | F76: 50 | G76: 50 | H76: 50 | I76: 50 | J76: 50 | K76: 50 | L76: 50 | M76: 50 | N76: 50 | O76: =SUM(C76:N76) -> 600 | P76: =SUM(C76:N76) -> 600 | Q76: =SUM(C76:N76) -> 600 | AE76: =SUM(S76:AD76) -> 0 | AF76: =SUM(S76:AD76) -> 0 | AG76: =SUM(S76:AD76) -> 0
A77: könyvelő | C77: 45 | D77: 45 | E77: 45 | F77: 45 | G77: 45 | H77: 45 | I77: 45 | J77: 45 | K77: 45 | L77: 45 | M77: 45 | N77: 45 | O77: =SUM(C77:N77) -> 540 | P77: =SUM(C77:N77) -> 540 | Q77: =SUM(C77:N77) -> 540 | AE77: =SUM(S77:AD77) -> 0 | AF77: =SUM(S77:AD77) -> 0 | AG77: =SUM(S77:AD77) -> 0
A78: iroda takarítás | C78: 20 | D78: 20 | E78: 20 | F78: 20 | G78: 20 | H78: 20 | I78: 20 | J78: 20 | K78: 20 | L78: 20 | M78: 20 | N78: 20 | O78: =SUM(C78:N78) -> 240 | P78: =SUM(C78:N78) -> 240 | Q78: =SUM(C78:N78) -> 240 | AE78: =SUM(S78:AD78) -> 0 | AF78: =SUM(S78:AD78) -> 0 | AG78: =SUM(S78:AD78) -> 0
A79: munkavégzéshez Bkv bérlet 18 fő | C79: 189 | D79: 189 | E79: 189 | F79: 189 | G79: 189 | H79: 189 | I79: 189 | J79: 189 | K79: 189 | L79: 189 | M79: 189 | N79: 189 | O79: =SUM(C79:N79) -> 2268 | P79: =SUM(C79:N79) -> 2268 | Q79: =SUM(C79:N79) -> 2268 | AE79: =SUM(S79:AD79) -> 0 | AF79: =SUM(S79:AD79) -> 0 | AG79: =SUM(S79:AD79) -> 0
AE80: =SUM(S80:AD80) -> 0 | AF80: =SUM(S80:AD80) -> 0 | AG80: =SUM(S80:AD80) -> 0
A81: Rendezvények | B81: 3000 | O81: =B81 -> 3000 | P81: =B81 -> 3000
A83: Beruházások | O83: =SUM(O85:O86) -> 22500 | P83: =SUM(P85:P86) -> 18500 | Q83: =SUM(Q85:Q86) -> 18500
A85: Aladár utca | B85: WC | C85: 18500 | O85: =C85 -> 18500 | P85: =C85 -> 18500 | Q85: =C85 -> 18500
A86: Web kamera rendszer kiépítése ( 10x2 db) | B86: 4000 | O86: 4000 | Q86: =C86 -> 0 | AE86: =R86 -> 0 | AF86: =R86 -> 0 | AG86: =S86 -> 0
A87: Játszóterek+Kft erőforrásai: | O87: =O3+O19+O26+O37+O70+O81+O83 -> 361626.26 | P87: =P3+P19+P26+P37+P70+P81+P83 -> 177951.26 | Q87: =Q3+Q19+Q26+Q38+Q70+Q81+Q83 -> 141732.65
A88: Sportpályák | O88: ='2023 játszóterek'!E217/1000 -> 1050 | P88: ='2023 játszóterek'!F217/1000 -> 1050 | Q88: ='2023 játszóterek'!G217/1000 -> 1050
A89: Zöldfelület fenntartás+erőforrásai: | O89: ='2023 zöld fenntartás'!$J$63/1000 -> 119593.04 | P89: ='2023 zöld fenntartás'!$J$63/1000 -> 119593.04 | Q89: ='2023 zöld fenntartás'!$J$63/1000 -> 119593.04
A90: WC fenntartás (7 db 6-22h / + 2 db / 0-24h)+erőforrásai: | O90: ='2023 wc'!$H$11/1000+'2023 játszóterek'!$G$222/1000 -> 78054.432 | P90: ='2023 wc'!$H$11/1000+'2023 játszóterek'!$G$222/1000 -> 78054.432 | Q90: ='2023 wc'!$H$11/1000+'2023 játszóterek'!$G$222/1000 -> 78054.432
A93: Összesen (eFt): | C93: =SUM(C3:C80) -> 8215.1097 | D93: =SUM(D3:D80) -> 7674.6497 | E93: =SUM(E3:E80) -> 7649.6497 | F93: =SUM(F3:F80) -> 7514.6497 | G93: =SUM(G3:G80) -> 7874.6497 | H93: =SUM(H3:H80) -> 7424.6497 | I93: =SUM(I3:I80) -> 7714.6497 | J93: =SUM(J3:J80) -> 7399.6497 | ... N93: =SUM(N3:N80) -> 7724.6497 | O93: =SUM(O87:O90) -> 560323.73 | P93: =SUM(P87:P90) -> 376648.73 | Q93: =SUM(Q87:Q90) -> 340430.12 | S93: =SUM(S3:S80) -> 0 | T93: =SUM(T3:T80) -> 0 | U93: =SUM(U3:U80) -> 0 | V93: =SUM(V3:V80) -> 0 | W93: =SUM(W3:W80) -> 0 | X93: =SUM(X3:X80) -> 0 | Y93: =SUM(Y3:Y80) -> 0 | Z93: =SUM(Z3:Z80) -> 0 | ... AD93: =SUM(AD3:AD80) -> 0 | AE93: =SUM(AE3:AE92) -> 0 | AF93: =SUM(AF3:AF92) -> 0 | AG93: =SUM(AG3:AG92) -> 0

Sheet 2022 Játszóterek
A1: Eszköz sorszáma | B1: Játszóeszközök | C1: Tervezett feladatok | D1: (1,2,3) | E1: A Bruttó (anyag és munka) | F1: B Bruttó (anyag és munka) | G1: C Bruttó (anyag és munka)
A2: Játszótér neve: VUK | C2: Címe: 1016 Budapest, Szirtes út 22.-Bérc u. 25. | D2: Prioritás | E2: teljes (esztétiaki is) | F2: fontos (indokolt) | G2: minden képpen (elengedhetetlen)
A3: 1. | B3: Mászóvár csúszdával "Játszóváros" | C3: Általános karbantartás, csavarhúzás, fa felület elemenkénti cseréje | D3: 1 | E3: 100000 | F3: 50000 | G3: 50000
A4: 2. | B4: Rókavár "Karak barlangja" | C4: Tetején faburkolat csere | D4: 2 | E4: 220000 | F4: 100000
A5: 3. | B5: Alagútcsúszda 1.
A6: 4. | B6: Alagútcsúszda 2.
A7: 5. | B7: Homokozó és csúszda "Manóház" | C7: Homokcsere 12 m3 | D7: 1 | E7: 600000 | F7: 300000 | G7: 50000
A8: 6. | B8: Duplarugós mérleghinta | C8: Csavarmeghúzás, rugótörés miatti rugócsere tervezve | D8: 2 | E8: 150000 | F8: 100000 | G8: 50000
A9: 7. | B9: Rugós játék - motor | C9: Csavarmeghúzás, rugótörés miatti rugócsere tervezve | D9: 1 | E9: 130000 | F9: 90000 | G9: 50000
A10: 8. | B10: Rugós lépegető | C10: Csavarmeghúzás, rögzítés | D10: 1 | E10: 25000
A11: 9. | B11: Kötélpálya | C11: Csavarmeghúzás, gyártói ajánlás szerinti karbantartás | D11: 1 | E11: 25000
A12: 10. | B12: Függőhíd "Kötélhíd" | C12: Csavarmeghúzás, gyártói ajánlás szerinti karbantartás | D12: 1 | E12: 25000
A13: 11. | B13: Babaház előtérrel | C13: Általános karbantartás korhadt faelemek cseréje, tetőfedés javítása | D13: 2 | E13: 130000 | F13: 100000 | G13: 50000
A14: 12. | B14: Hintaállvány két ülőkével | C14: Hintaállvány elbontása, új állvány telepítése, új hintaülőkékkel. Régi öntött gumi kiegészítése, felső kopórétegének felújítása | D14: 2 | E14: =135000+700000+815000+30000 -> 1680000 | F14: 1680000
A15: 13. | B15: Hintaállvány két speciális bölcsőülőkével | C15: Csavarmeghúzás, rögzítés | D15: 1 | E15: 25000
A16: 14. | B16: trambulin | C16: Gyártói ajánlás szerinti karbantartás | E16: 25000 | F16: 25000 | G16: 25000
A17: 15. | B17: Ivókút | C17: Ivókút karbantartása: nyitás-zárás, tisztítás, dugulás elhárítás. Automata öntözőrendszer beállítása, beüzemelése | D17: 1 | E17: 200000 | F17: 100000 | G17: 50000
A18: 16. | C18: Mulcsfeltöltés, kétregpótlás | D18: 1 | E18: 400000 | F18: 250000 | G18: 100000
A19: 17. | C19: Játszóeszközök védőmázolása | D19: 2 | E19: 380000 | F19: 200000 | G19: 100000
A20: 18. | C20: Tematikus matricák pótlása | D20: 1 | E20: 280000
A21: 19. | C21: Mosdó épület elektromos bekötése, csatorna hálózat kialakítása, rákötése utcai csatornára, vízhálózati bekötése, vízóra szereléssel, térkő járdaburkolat kialakítása, mosdó éves üzemeltetése | D21: 1
A22: Összesen: | E22: =SUM(E3:E21) -> 4395000 | F22: =SUM(F3:F21) -> 2995000 | G22: =SUM(G3:G21) -> 525000
A23: Játszótér neve: Pom-Pom | C23: Címe: 1016 Budapest, Naphegy tér | E23: Hrsz:7339/2
A24: 1. | B24: Piros forgóbogrács
A25: 2. | B25: Rugós játék 4 levelű lóhere | C25: Csavarmeghúzás, rögzítés | D25: 1 | E25: 25000
A26: 3. | B26: Beülős rugós játék | C26: Csavarmeghúzás, rögzítés | D26: 1 | E26: 25000
A27: 4. | B27: 2*2-es hintaállvány vegyes ülőkékkel | C27: Hintaállvány elbontása, új dupla állvány telepítése, új hintaülőkékkel. Öntött gumiburkolat esési tér felújítása | D27: 2 | E27: 3500000 | F27: 3500000
A28: 5. | B28: Szabadon álló nagycsúszda | C28: Csavarmeghúzás, hegesztés, rögzítés | D28: 1 | E28: 25000
A29: 6. | B29: Vonat | C29: Általános karbantartás | D29: 1 | E29: 25000
A30: 7. | B30: Sivatag hajója | C30: Járódeszkák cseréje, általános esztétikai karbantartás | D30: 2 | E30: 900000 | F30: 500000 | G30: 250000
A31: 8. | B31: Sárga forgóbogrács
A32: 9. | B32: Szabadon álló kiscsúszda | C32: Csavarmeghúzás, rögzítés, oldalpanel cseréje | D32: 2 | E32: 250000 | F32: 150000 | G32: 50000
A33: 10. | B33: Rugós játék - kakas | C33: Csavarmeghúzás, rögzítés | D33: 1 | E33: 25000
A34: 11. | B34: Rugós játék - motor | C34: Csavarmeghúzás, rögzítés | D34: 1 | E34: 25000
A35: 12. | B35: Hálós függeszkedő kombinált mászóka | C35: Általános karbantartás, csavarmeghúzás | E35: 50000
A36: 13. | B36: Homokozó | C36: Homokcsere 8 m3 | D36: 1 | E36: 400000 | F36: 200000 | G36: 100000
A37: 14. | B37: Gombóc Artúr háza | C37: Általános külső-belső karbantartás, ülőpadok karbantartása | D37: 1 | E37: 150000
A38: 15. | B38: Madárvédő Golyókapkodó háza | C38: Általános külső-belső karbantartás, ülőpadok karbantartása | D38: 2 | E38: 150000 | F38: 100000
A39: 16. | B39: Hapci Benő háza | C39: Általános karbantartás, építmény korhadt faelemeinek cseréje | D39: 2 | E39: 200000 | F39: 100000
A40: 17. | B40: Órás hirdetőoszlop | C40: Órajavítás, elemcsere, meglévő bejáratok bővítése, játszóeszköz kisebb átalakításával | D40: 3 | E40: =150000+500000 -> 650000 | F40: 300000 | G40: 50000
A41: 18. | B41: Fitnesz eszközök | C41: Botlásveszélyes gumitéglák cseréje öntött gumiburkolat kialakítása | D41: 2 | E41: 3300000 | F41: 1000000
A42: 19. | C42: Ütéscsillapító burkolat, talajtakaró feltöltés 2-8 mm közötti idegen anyagtól mentes kavics feltöltés | E42: 480000 | F42: 200000 | G42: 100000
A43: 20. | C43: Játszóeszközök védőmázolása | D43: 1 | E43: 550000 | F43: 250000 | G43: 150000
A44: 21. | C44: Homokozó köré új árnyékoló napvitorla tartó oszlopok telepítése | E44: 150000 | F44: 100000 | G44: 50000
A45: 22. | B45: Ivókút | C45: Ivókút karbantartása: nyitás-zárás, tisztítás, dugulás elhárítás | D45: 1 | E45: 200000 | F45: 100000 | G45: 50000
A46: Összesen: | E46: =SUM(E25:E45) -> 11080000 | F46: =SUM(F24:F45) -> 6500000 | G46: =SUM(G24:G45) -> 800000
A47: Játszótér neve: Mátyás Király Játszópark | C47: Címe: 1014 Budapest, Tárnok u. 9. | E47: Hrsz:6527/2
A48: 1. | B48: "Mátyás király vára" játszópavilon-óriásvár | C48: Általános éves karbantartás, esztétikai szintentartás, javítás, járófelület szükséges mértékben cseréje | D48: 2 | E48: 500000 | F48: 250000 | G48: 100000
A49: 2. | B49: Rugós lépegető | C49: Csavarmeghúzás, rögzítés | D49: 1 | E49: 25000
A50: 3. | B50: Hintaállvány két ülőkével I. | C50: Hintaállvány elbontása, új állvány telepítése, új hintaülőkékkel. Régi öntött gumi kiegészítése, felső kopórétegének felújítása | D50: 2 | E50: =135000+700000+815000+30000 -> 1680000 | F50: =135000+700000+815000+30000 -> 1680000
A51: 4. | B51: Hintaállvány két ülőkével II. | C51: Hintaállvány elbontása, új állvány telepítése, új hintaülőkékkel. Régi öntött gumi kiegészítése, felső kopórétegének felújítása | D51: 2 | E51: =135000+700000+815000+30000 -> 1680000 | F51: =135000+700000+815000+30000 -> 1680000
A52: 5. | B52: Homokozó | C52: Homokcsere 8 m3 | D52: 1 | E52: 550000 | F52: 250000 | G52: 100000
A53: 6. | B53: Kéttornyú kombinált vár csúszdával, hintával | C53: Általános éves karbantartás, esztétikai szintentartás, javítás, helyreállítás | D53: 1 | E53: 150000 | F53: 100000 | G53: 50000
A54: 7. | B54: Ivókút | C54: Ivókút karbantartása: nyitás-zárás, tisztítás, homokülepítő kiépítése, öntött gumi megbontásával, helyreállításával, vízszerelés | D54: 2 | E54: 1200000 | F54: 1200000 | G54: 250000
A55: 8. | C55: Párakapu elbontása, vízszerelés, párakapu helyreállítása | D55: 1 | E55: 650000 | F55: 350000 | G55: 350000
A56: 9. | C56: Játszóeszközök védőmázolása | D56: 1 | E56: 750000 | F56: 400000 | G56: 200000
A57: 10. | C57: Megrongálódott tematikus matricák pótlása | D57: 1 | E57: 2000000 | F57: 1000000 | G57: 500000
A58: 11. | B58: Burkolat | C58: Tematikus öntött gumiburkolat javítása, felújítása | E58: 6000000 | F58: 3000000 | G58: 3000000
A59: Összesen: | E59: =SUM(E48:E58) -> 15185000 | F59: =SUM(F48:F58) -> 9910000 | G59: =SUM(G48:G58) -> 4550000
A60: Játszótér neve: Rumini | C60: Címe: 1011 Budapest, Mária tér | E60: Hrsz:14098/1/2/3
A61: 1. | B61: "Egérváros" óriás játszóvár | C61: Általános éves karbantartás, esztétikai szintentartás, javítás, helyreállítás | D61: 1 | E61: 200000 | F61: 100000 | G61: 50000
A62: 2. | B62: Hintaállvány laphintával | C62: Csavarmeghúzás, rögzítés | D62: 1 | E62: 25000
A63: 3. | B63: Homokozó 1 | C63: Homokcsere 5 m3, Homokozó faszegélyek karbantartása | D63: 2 | E63: 360000 | F63: 200000 | G63: 100000
A64: 4. | B64: Beülős rugós játék | C64: Csavarmeghúzás, rögzítés | D64: 1 | E64: 25000
A65: 5. | B65: Homokozó-óriáskerék-vonat-forgatós memória játék kombináció | C65: Homokcsere 5 m3. Homokozót szegélyező gerendák cseréje | D65: 2 | E65: 410000 | F65: 200000 | G65: 100000
A66: 6. | B66: "Pókháló" Kötélmászóka | C66: Csavarmeghúzás, rögzítés | D66: 1 | E66: 25000
A67: 7. | B67: Duplarugós mérleghinta "Albatrosz" | C67: Csavarmeghúzás, rögzítés | D67: 1 | E67: 25000
A68: 8. | B68: Többfunkciós mászóka "Szíriusz" | C68: Csavarmeghúzás, rögzítés, kopott mászóalkatrészek cseréje | D68: 1 | E68: 160000 | F68: 160000 | G68: 100000
A69: 9. | B69: Hajó "Uniplay Keszthely" | C69: Általános karbantartás, esztétikai szintentartás, egyedi fafaragással készített hajóorr karbantartása | D69: 2 | E69: 250000 | F69: 200000 | G69: 150000
A70: 10. | B70: Labirintus kuckókkal "Unimini Pyralli" | C70: Csavarmeghúzás, rögzítés | D70: 1 | E70: 25000
A71: 11. | B71: Forgatható iránytű | C71: Általános karbantartás, esztétikai szintentartás. Meghibásodás esetén javíttatása gyártóval | D71: 1 | E71: 250000 | F71: 200000 | G71: 100000
A72: 12. | B72: Hintaállvány két ülőkével "Swing Goro" | C72: Csavarmeghúzás, rögzítés | D72: 1 | E72: 25000
A73: 13. | B73: Fészekhinta | C73: Csavarmeghúzás, rögzítés, általános karbantartás, olajozás | D73: 1 | E73: 25000
A74: 14. | B74: Minibárka I. | C74: Korhadás miatt új felépítmény készítése- tervezet | D74: 2 | E74: 150000 | F74: 150000
A75: 15. | B75: Minibárka II. | C75: Általános karbantartás, esztétikai szintentartás | D75: 2 | E75: 30000 | F75: 30000
A76: 16. | B76: Minibárka III. | C76: Általános karbantartás, esztétikai szintentartás | D76: 2 | E76: 30000 | F76: 30000
A77: 17. | B77: Minibárka IV. | C77: Általános karbantartás, esztétikai szintentartás | D77: 2 | E77: 30000 | F77: 30000
A78: 18. | B78: Horgony ülőke | C78: Általános karbantartás, esztétikai szintentartás | D78: 2 | E78: 30000 | F78: 30000
A79: 19. | B79: Hordó kilátó | C79: Általános karbantartás, esztétikai szintentartás | D79: 2 | E79: 30000 | F79: 30000
A80: 20. | C80: Hajó alatti terület feltöltése o,2-2 mm szemcsenagyság közötti folyami homokkal ütéscsillapítás céljából 6 m3 | D80: 1 | E80: 300000 | F80: 200000 | G80: 100000
A81: 21. | C81: Játszóeszközök védőmázolása | D81: 1 | E81: 550000 | F81: 250000 | G81: 100000
A82: 22. | C82: Labirintus játék köré, valamint óriásvár mögötti területen mulcsfeltöltés pótlása évente kétszer | D82: 2 | E82: 520000 | F82: 200000 | G82: 100000
A83: 23. | C83: Mosdó üzemeltetése | E83: 500000 | F83: 250000 | G83: 150000
A84: 24. | C84: Akadálymentesítés, a bejárati lépcső átalakítása | D84: 2 | E84: 2000000 | F84: 2000000
A85: 25. | C85: Tematikus matricák cseréje, pótlása, direktnyomásos technológiával felújítása | D85: 3 | E85: 1000000 | F85: 500000
A86: 26. | C86: Ivókút karbantartása: nyitás-zárás, tisztítás, dugulás elhárítás, öntözőrendszer újra telepítése | D86: 2 | E86: 600000 | F86: 600000
A87: 7. | C87: Wc éves üzemeltetése | D87: 2 | E87: 500000 | F87: 250000 | G87: 120000
A88: Összesen: | E88: =SUM(E61:E86) -> 7575000 | F88: =SUM(F61:F86) -> 5360000 | G88: =SUM(G61:G86) -> 1050000
A89: Játszótér neve: Franklin | C89: Címe: 1015 Budapest, Franklin u. 1. | E89: Hrsz:14111/7
A90: 1. | B90: Egyensúlyozó kombináció "klub sarok" Kompan | C90: Csavarmeghúzás, rögzítés. Kopott faalkatrészek cseréje | D90: 1 | E90: 150000 | F90: 100000 | G90: 50000
A91: 2. | B91: Függeszkedő emelvénnyel "trapéz" | C91: Csavarmeghúzás, rögzítés. Egyes kopott faalkatrészek cseréje | D91: 1 | E91: 85000 | F91: 40000 | G91: 40000
A92: 3. | B92: Kombinált mászóka "Mászófal" | C92: Csavarmeghúzás, rögzítés. Egyes kopott faalkatrészek cseréje | D92: 1 | E92: 120000 | F92: 60000 | G92: 30000
A93: 4. | B93: Emelvények álló hintával "Si-szving" | C93: Csavarmeghúzás, rögzítés. Egyes kopott faalkatrészek cseréje | D93: 1 | E93: 55000 | F93: 20000 | G93: 10000
A94: 5. | B94: Spica 1 | E94: 0
A95: 6. | B95: Spica 2 | E95: 0
A96: 7. | B96: Spica 3 | E96: 0
A97: 8. | B97: Kuckó "Mágikus házikó" | C97: Csavarmeghúzás, rögzítés | D97: 1 | E97: 25000
A98: 9. | B98: Szabadon álló csúszda "Minifánt" | C98: Csavarmeghúzás, rögzítés | D98: 1 | E98: 25000
A99: 10. | B99: Békás duplarugós mérleghinta | C99: Csavarmeghúzás, rögzítés. | D99: 1 | E99: 25000
A100: 11. | B100: Rugós játék 4 levelű lóhere | C100: Csavarmeghúzás, rögzítés | D100: 1 | E100: 25000
...

Sheet 2022 Zöldfelület materiális
A1: Egynyári ültetés (ősz: árvácska, tavasz: vegyes) | B1: 5000000
A2: növényvédelem (tavaszi lemosó permetezés, gesztenye injektálás) | B2: 6000000
A3: faültetés (50 db, 50e Ft átlagáron) | B3: 2500000
A4: cserjepótlás | B4: 5000000
A5: gyepfelülvetés (43000 nm) | B5: 10000000
A6: őntözőrendszer karbantartása | B6: 4000000
A7: faápolás (alpinista, speciális gépek bérlése) | B7: 4000000
A8: utcabútorok karbantartása | B8: 5000000
A9: összesen: | B9: =SUM(B1:B8) -> 41500000

Sheet 2022 zöld fenntartás
A1: Zöldfelület fenntartással összefüggő költségek | G1: 2021 évi árszinten
A4: Bérköltségek | H4: 5 fő | J4: 10 fő
A5: Munkatárs | B5: hó/fő | G5: =SUM(G6:G12) -> 4758000 | H5: =G5*5 -> 23790000 | J5: =G5*10 -> 47580000
A6: bruttó alapbér | B6: 300000 | G6: =B6*12 -> 3600000
A7: járulékok | B7: ='[5]bérek és terhek'!Q21 -> 51000 | G7: =B7*12 -> 612000
A8: cafeteria | B8: 20000 | G8: =B8*12 -> 240000
A9: nyugdíjpénztári hozzáj. (5%) | B9: =B6*0.05 -> 15000 | G9: =B9*12 -> 180000
A10: munkába járás | G10: =B10*12 -> 0
A11: BKV bérlet | B11: 10500 | G11: =B11*12 -> 126000
H12: 1 fő | J12: 2 fő
A13: csoportvezető | B13: hó/fő | G13: =SUM(G14:G19) -> 5544000 | H13: =G13 -> 5544000 | J13: =G13*2 -> 11088000
A14: bruttó alapbér | B14: 350000 | G14: =B14*12 -> 4200000
A15: járulékok | B15: ='[5]bérek és terhek'!P21 -> 68000 | G15: =B15*12 -> 816000
A16: cafeteria | B16: 16000 | G16: =B16*12 -> 192000
A17: nyugdíjpénztári hozzáj. (5%) | B17: =B14*0.05 -> 17500 | G17: =B17*12 -> 210000
A18: munkába járás | G18: =B18*12 -> 0
A19: BKV bérlet | B19: 10500 | G19: =B19*12 -> 126000
A20: összesen | J20: =SUM(J13,J5) -> 58668000
A21: Jogszerű működés feltételeihez
A22: éves felülvizsgálatok, javítások | B22: 100000 | H22: =B22 -> 100000 | J22: =B22 -> 100000
A23: karbantartási kötelezettségek | B23: 100000 | H23: =B23 -> 100000 | J23: =H23 -> 100000
A24: FESZ EÜ vizsgálat | B24: 12500 | H24: =B24*6 -> 75000 | J24: =B24*12 -> 150000
A25: védőruházat védőfelszerelés | B25: 50000 | H25: =B25*6 -> 300000 | J25: =B25*12 -> 600000
A27: összesen | J27: =SUM(J22:J26) -> 950000
A28: Tevékenység járulékos költségei | H28: =SUM(H22:H27) -> 575000
A29: szemét szállítás | J29: 200000
A30: üzemanyag | J30: 750000
A31: termőföld pótlás | J31: 500000
A32: fűmag, gyeptégla | J32: 150000
A33: kéziszerszámok | J33: 250000
A34: lerakóhelyi díj | J34: 300000
A35: Egynyári ültetés (ősz: árvácska, tavasz: vegyes) | J35: 2500000
A36: növényvédelem (tavaszi lemosó permetezés, gesztenye injektálás) | J36: 6000000
A37: faültetés (50 db, 50e Ft átlagáron) | J37: 2500000
A38: cserjepótlás | J38: 2500000
A39: gyepfelülvetés (43000 nm) | J39: 8000000
A40: őntözőrendszer karbantartása | J40: 4000000
... A42: utcabútorok karbantartása | J42: 2000000
A44: összesen | J44: =SUM(J29:J43) -> 31650000
A45: vásárolt szolgáltatások | B45: 2021
A46: út és térfelületek fenntartása | B46: 2000000 | H46: 0 | J46: 0
A47: pázsit felületek | B47: 9000000 | H47: 0 | J47: 0
A48: cserje, rózsa fenntartás | B48: 3600000 | H48: 0 | J48: 0
A49: sövény fenntartás | B49: 1500000 | H49: 0 | J49: 0
A50: fenyő és örökzöld | B50: 100000 | H50: 0 | J50: 0
A51: dézsás növények gondozása | B51: 800000 | H51: 0 | J51: 0
A52: köztisztasági feladatok | B52: 4000000 | H52: 0 | J52: 0
A53: gyep felújítás | B53: 22000000 | H53: =B53 -> 22000000 | J53: 0
A54: virágosítás | B54: 3500000 | H54: =B54 -> 3500000 | J54: 0
A55: permetezés | B55: 4000000 | H55: =B55 -> 4000000 | J55: 0
A56: fasor fenntartás | B56: 40000000 | H56: 20000000
A57: eseti feladatok | B57: 3000000 | H57: 1000000 | J57: 1000000
A58: Összesen | H58: =SUM(H46:H57) -> 50500000 | J58: =SUM(J44,J27,J20,J57,J69) -> 95268000
A59: Egyszeri költségek
A60: gép beszerzések | B60: 0 | J60: =B60 -> 0
A61: gép pótlások, javítások, karbantartások | B61: 3000000 | J61: =B61 -> 3000000
A69: Összesen | B69: =SUM(B61:B68) -> 3000000 | J69: =SUM(J60:J68) -> 3000000
A70: telephely kialakítás
A71: szociális helyiségek | B71: 3000000
A72: pihenő
A73: Közösségi kert (Toldy Ferenc u. 25) | B73: 3000000
A74: Közösségi kert (Kuny Domonkos u. 6) | B74: 3000000
A75: karbantartó
A76: komposztáló udvar | B76: 3000000
A77: Vérmező | B77: 10000000 | C77: /ha | J77: =B77*7.2 -> 72000000

Sheet 2022 wc
A1: 2022 | B1: heti 7 | D1: 6-22 /wc | E1: 6-24 /wc | F1: 0-24 / wc | G1: 0-24/wc | H1: (3)+3 db 6-22 | I1: (3)+3 db 0-24 | J1: 3 db 0-24 | K1: (3)+6 db 6-22 | L1: (3)+6 db 0-24
D2: 4 fő / 8ó | E2: 4 fő / 9ó | F2: 5 fő/8ó | G2: 4 fő / 12ó | J2: (3)+3 db 6-22
A3: bér | B3: Ft/fő/hó | D3: 4 | E3: 4 | F3: 5 | G3: 4
A4: havi munkabér | B4: 280000 | D4: =$B$4*$D$3 -> 1120000 | E4: =(($B$4/8)*9)*$E$3 -> 1260000 | F4: =$B$4*$F$3 -> 1400000 | G4: =(($B$4)*$G$3) -> 1120000
