Workbook
Name _1999._Évi_felhalmozási_és_felújítási_kiadások: "$#HIV!.$A$29:$E$29"
Name Excel_BuiltIn_Print_Area_1: "$#HIV!.$A$2:$C$155"
Name Excel_BuiltIn_Print_Area_10: "$#HIV!.$B$1:$G$95"
Name Excel_BuiltIn_Print_Area_11: "$#HIV!.$B$2:$H$40"
Name Excel_BuiltIn_Print_Area_12: "$#HIV!.$B$1:$E$25"
Name Excel_BuiltIn_Print_Area_13: "$#HIV!.$A$7:$E$53"
Name Excel_BuiltIn_Print_Area_14: "$#HIV!.$A$1:$M$59"
Name Excel_BuiltIn_Print_Area_15: "$#HIV!.$E$1:$F$98"
Name Excel_BuiltIn_Print_Area_16: "$#HIV!.$A$1:$D$139"
Name Excel_BuiltIn_Print_Area_2: "$#HIV!.$D$2:$H$55"
Name Excel_BuiltIn_Print_Area_3: "$#HIV!.$A$1:$F$131"
Name Excel_BuiltIn_Print_Area_4: "$#HIV!.$A$1:$F$115"
Name Excel_BuiltIn_Print_Area_5: "$#HIV!.$A$2:$B$22"
Name Excel_BuiltIn_Print_Area_6: "$#HIV!.$A$2:$C$143"
Name Excel_BuiltIn_Print_Area_7: "$#HIV!.$A$2:$C$143"
Name Excel_BuiltIn_Print_Area_8: "$#HIV!.$A$1:$I$144"
Name Excel_BuiltIn_Print_Area_9: "$#HIV!.$A$1:$H$98"
Name Excel_BuiltIn_Print_Titles_1: "$#HIV!.$A$2:$IQ$2"
Name Excel_BuiltIn_Print_Titles_10: "$#HIV!.$A$1:$IT$2"
Name Excel_BuiltIn_Print_Titles_14: "$#HIV!.$A$61:$IU$61"
Name Excel_BuiltIn_Print_Titles_19: "$#HIV!.$A$1:$IV$1"
Name Excel_BuiltIn_Print_Titles_2: "$Összesítő.$#HIV!$1:$#HIV!$31999"
Name Excel_BuiltIn_Print_Titles_21: "$#HIV!.$A$1:$IV$2"
Name Excel_BuiltIn_Print_Titles_4: "$#HIV!.$A$2:$IV$4"
Name Excel_BuiltIn_Print_Titles_6: "$#HIV!.$A$2:$II$3"
Name Excel_BuiltIn_Print_Titles_7: "$#HIV!.$A$2:$IR$3"
Name Excel_BuiltIn_Print_Titles_8: "$#HIV!.$A$2:$IS$3"
Name Excel_BuiltIn_Print_Titles_9: "$#HIV!.$A$1:$IT$2"
Name NEMKELL: [1]Bóbita!$A:$B,[1]Bóbita!$1:$1
Name Print_Titles_1: [2]Bóbita!$A$1:$B$65536,[2]Bóbita!$A$1:$IV$1
Name Print_Titles_1: [3]Bóbita!$A$1:$B$65536,[3]Bóbita!$A$1:$IV$1
Name Print_Titles_1: [4]Bóbita!$A:$B,[4]Bóbita!$1:$1
Name Print_Titles_1: [1]Bóbita!$A:$B,[1]Bóbita!$1:$1
Name Print_Titles_1: [1]Bóbita!$A:$B,[1]Bóbita!$1:$1
Name Print_Titles_1: [1]Bóbita!$A:$B,[1]Bóbita!$1:$1
Name Print_Titles_1: [3]Bóbita!$A:$B,[3]Bóbita!$1:$1

Sheet Támogatások részletezve
A1: Támogatások
B2: Támogatások | D2: módosítás
A3: K506 | B3: Műküdési célú támogatások ÁHT-n belül
B4: BRFK | C4: 16000
B5: Közép-Budai Tankerület fejlesztésre | C5: 20000
B6: Közép-Budai Tankerület gyógypedgógusok bére | C6: 30000
B7: SNI-s gyermekek óvodai ellátása | C7: 20000
B8: Sérült gyermekek napközi otthoni ellátása | C8: 2000
B9: Gyermekek átmeneti otthoni ellátása | C9: 4725
B10: nemzetiségi önkormányzatok | C10: 5000
B11: összesen | C11: =SUM(C4:C10) -> 97725
A13: K510 | B13: Kamattámogatások | C13: 4500
A15: K512 | B15: Műküdési célú támogatások ÁHT-n kívül
B16: 4 közalapítvány | C16: 40000
B17: Márai Sándor Kulturális Közalapítvány, 1944-1945. ostromnapló kiadásának támogatása | C17: 3770
B18: Aknázómoly elleni védekezés (lakossági támogatás) | C18: 500
B19: alapítványok, egyesületek | C19: 56000
B20: Budapest Film Zrt | C20: 3000
B21: Budavári Kulturális Nonprofit Kft | C21: 264574
B22: Budavári Lakásügynökség Nonprofit Kft | C22: 50638
B23: BUJSz Nonprofit Kft | C23: 294000
B24: Bursa Hungarica | C24: 5000
B25: Családi bölcsőde támogatása | C25: 5100
B26: Egyházak támogatása | C26: 10000
B27: Fiatalházasok lakásépítési támogatása | C27: 5000
B28: Hajléktalanok támogatása MMSzSz | C28: =10000+1500 -> 11500 | D28: 2431
B29: I. kerületi Házgondnoksági Kft | C29: =-4000+4000 -> 0
B30: Kertszépítés pályázat 2021 | C30: 1775
B31: Kertszépítés pályázat 2022 | C31: =-15000+30000 -> 15000
B32: Klimapályázat iskolásoknak | C32: 1000
B33: Lakosságnak bokrétafák injektálása, permetezése | C33: 2000
B34: Nyári tábor | C34: 20000
B35: Polgárőr, Önkéntes Tűzoltóság támogfatása | C35: =-1000+4000 -> 3000
B36: Részvételi keret | C36: 10000
B37: Társasházak hiteltámogatása | C37: 4000
B38: Oltóanyag támogatás lakosságnak | C38: 5000
B39: Zöldfal pályázat 2022 | C39: =-30000+50000 -> 20000
B40: Kerékpárvásárlási támogatás fiataloknak
B41: Katasztrofavédelmi támogatás
B42: összesen | C42: =SUM(C16:C41) -> 830857
...

Sheet 1. mérleg 2020-2022
A1: BUDAPEST I. KERÜLET BUDAVÁRI ÖNKORMÁNYZAT ÖSSZEVONT KÖLTSÉGVETÉSI MÉRLEGE KÖZGAZDASÁGI TAGOLÁSBAN
A2: BUDAPEST I. KERÜLET BUDAVÁRI ÖNKORMÁNYZAT ÉS INTÉZMÉNYEI ÖSSZEVONT BEVÉTELEI ÉS KIADÁSAI (eFt)
A3: BEVÉTELEK | D3: 2020. évi teljesítés | E3: 2021. évi eredeti előirányzat | F3: 2021. évi módosított előirányzat | G3: 2021. évi várható teljesítés | H3: 2022. évi tervezett előirányzat | I3: KIADÁSOK | L3: 2020. évi teljesítés | M3: 2021. évi eredeti előirányzat | N3: 2021. évi módosított előirányzat | O3: 2021. évi várható teljesítés | P3: 2022. évi tervezett előirányzat
A4: Költségvetési bevételek | D4: =D5+D11 -> 10479546 | E4: =E5+E11 -> 9813848 | F4: =F5+F11 -> 9836164 | G4: =G5+G11 -> 9041845.8 | H4: =H5+H11 -> 9813847.5 | I4: Költségvetési kiadások | L4: =L5+L11 -> 10744846 | M4: =M5+M11 -> 15456663 | N4: =N5+N11 -> 15478978 | O4: =O5+O11 -> 10396843 | P4: =P5+P11 -> 18783981
B5: Működési bevételek | D5: =SUM(D6:D9) -> 8558563 | E5: =SUM(E6:E9) -> 8367384 | F5: =SUM(F6:F9) -> 8389700 | G5: =SUM(G6:G9) -> 8189629.5 | H5: =SUM(H6:H9) -> 8367383.5 | J5: Működési kiadások | L5: =SUM(L6:L10) -> 8409966 | M5: =SUM(M6:M10) -> 12963788 | N5: =SUM(N6:N10) -> 12981903 | O5: =SUM(O6:O10) -> 8736747.9 | P5: =SUM(P6:P10) -> 16291105
B6: B1 | C6: Működési célú támogatások államháztartáson belülről | D6: 2042199 | E6: =+'2. bevételek'!AI47 -> 2307617 | F6: =+'2. bevételek'!AJ47 -> 2329933 | G6: =+'2. bevételek'!AK47 -> 2272473.1 | H6: =+'2. bevételek'!AL47 -> 2307616.5 | J6: K1 | K6: Személyi juttatások | L6: 2781337 | M6: =+'3. kiadások'!AI22 -> 3891562 | N6: =+'3. kiadások'!AJ22 -> 3891562 | O6: =+'3. kiadások'!AK22 -> 3113213 | P6: =+'3. kiadások'!AL22 -> 3891562.3
B7: B3 | C7: Közhatalmi bevételek | D7: 2756655 | E7: =+'2. bevételek'!AI186 -> 2991479 | F7: =+'2. bevételek'!AJ186 -> 2991479 | G7: =+'2. bevételek'!AK186 -> 2965515.8 | H7: =+'2. bevételek'!AL186 -> 2991479 | J7: K2 | K7: Munkaadókat terhelő adók, járulékok | L7: 484275 | M7: =+'3. kiadások'!AI23 -> 564245 | N7: =+'3. kiadások'!AJ23 -> 564245 | O7: =+'3. kiadások'!AK23 -> 484530.98 | P7: =+'3. kiadások'!AL22 -> 3891562.3
B8: B4 | C8: Működési bevételek | D8: 3748659 | E8: =+'2. bevételek'!AI222 -> 3068288 | F8: =+'2. bevételek'!AJ222 -> 3068288 | G8: =+'2. bevételek'!AK222 -> 2935985.3 | H8: =+'2. bevételek'!AL222 -> 3068288 | J8: K3 | K8: Dologi kiadások | L8: 4658994 | M8: =+'3. kiadások'!AI59 -> 5500567 | N8: =+'3. kiadások'!AJ59 -> 5565759 | O8: =+'3. kiadások'!AK59 -> 4047634.2 | P8: =+'3. kiadások'!AL59 -> 5500566.9
B9: B6 | C9: Működési célú átvett pénzeszközök | D9: 11050 | E9: =+'2. bevételek'!AI257 -> 0 | F9: =+'2. bevételek'!AJ257 -> 0 | G9: =+'2. bevételek'!AK257 -> 15655.294 | H9: =+'2. bevételek'!AL257 -> 0 | J9: K4 | K9: Ellátottak pénzbeli juttatásai | L9: 107568 | M9: =+'3. kiadások'!AI123 -> 186500 | N9: =+'3. kiadások'!AJ123 -> 186500 | O9: =+'3. kiadások'!AK123 -> 142717.08 | P9: =+'3. kiadások'!AL123 -> 186500
J10: K5 | K10: Egyéb működési célú kiadások | L10: 377792 | M10: =+'3. kiadások'!AI195 -> 2820914 | N10: =+'3. kiadások'!AJ195 -> 2773837 | O10: =+'3. kiadások'!AK195 -> 948652.59 | P10: =+'3. kiadások'!AL195 -> 2820913.7
B11: Felhalmozási bevételek | D11: =SUM(D12:D14) -> 1920983 | E11: =SUM(E12:E14) -> 1446464 | F11: =SUM(F12:F14) -> 1446464 | G11: =SUM(G12:G14) -> 852216.28 | H11: =SUM(H12:H14) -> 1446464 | J11: Felhalmozási kiadások | L11: =SUM(L12:L14) -> 2334880 | M11: =SUM(M12:M14) -> 2492875 | N11: =SUM(N12:N14) -> 2497075 | O11: =SUM(O12:O14) -> 1660095.5 | P11: =SUM(P12:P14) -> 2492875.3
B12: B2 | C12: Felhalmozási célú támogatások államháztartáson belülről | D12: 1067000 | E12: =+'2. bevételek'!AI83 -> 87464 | F12: =+'2. bevételek'!AJ83 -> 87464 | G12: =+'2. bevételek'!AK83 -> 0 | H12: =+'2. bevételek'!AL83 -> 87464 | J12: K6 | K12: Beruházások | L12: 1758252 | M12: =+'3. kiadások'!AI205 -> 1007058 | N12: =+'3. kiadások'!AJ205 -> 1011258 | O12: =+'3. kiadások'!AK205 -> 850042.49 | P12: =+'3. kiadások'!AL205 -> 1007058.1
B13: B5 | C13: Felhalmozási bevételek | D13: 847769 | E13: =+'2. bevételek'!AI231 -> 1350000 | F13: =+'2. bevételek'!AJ231 -> 1350000 | G13: =+'2. bevételek'!AK231 -> 753004.55 | H13: =+'2. bevételek'!AL231 -> 1350000 | J13: K7 | K13: Felújítások | L13: 519089 | M13: =+'3. kiadások'!AI210 -> 1266025 | N13: =+'3. kiadások'!AJ210 -> 1266025 | O13: =+'3. kiadások'!AK210 -> 721306.58 | P13: =+'3. kiadások'!AL210 -> 1266024.9
B14: B7 | C14: Felhalmozási célú átvett pénzeszközök | D14: 6214 | E14: =+'2. bevételek'!AI283 -> 9000 | F14: =+'2. bevételek'!AJ283 -> 9000 | G14: =+'2. bevételek'!AK283 -> 99211.733 | H14: =+'2. bevételek'!AL283 -> 9000 | J14: K8 | K14: Egyéb felhalmozási célú kiadások | L14: 57539 | M14: =+'3. kiadások'!AI272 -> 219792 | N14: =+'3. kiadások'!AJ272 -> 219792 | O14: =+'3. kiadások'!AK272 -> 88746.438 | P14: =+'3. kiadások'!AL272 -> 219792.26
A15: Finanszírozási bevételek (B8) | D15: =SUM(D22:D23,D16) -> 17838398 | E15: =SUM(E22:E23,E16) -> 15636850 | F15: =SUM(F22:F23,F16) -> 16926193 | G15: =SUM(G22:G23,G16) -> 16763665 | H15: =SUM(H22:H23,H16) -> 11395820 | I15: Finanszírozási kiadások (K9) | L15: =SUM(L22:L23,L16) -> 11098445 | M15: =SUM(M22:M23,M16) -> 4601631 | N15: =SUM(N22:N23,N16) -> 4601631 | O15: =SUM(O22:O23,O16) -> 5321830 | P15: =SUM(P22:P23,P16) -> 4601631
B16: B81 | C16: Belföldi finanszírozás bevételei | D16: =SUM(D17:D20) -> 17838398 | E16: 15636850 | F16: 16926193 | G16: =SUM(G17:G20) -> 16763665 | H16: =SUM(H18:H21) -> 11395820 | J16: K91 | K16: Belföldi finanszírozás kiadásai | L16: =SUM(L17:L20) -> 11098445 | M16: =SUM(M17:M19) -> 4601631 | N16: =SUM(N17:N19) -> 4601631 | O16: =SUM(O17:O19) -> 5321830 | P16: =SUM(P17:P19) -> 4601631
C17: ebből: belföldi értékpapírok bevételei | D17: 8114016 | E17: 4757910 | F17: 4757910 | G17: 4757910 | K17: ebből: belföldi értékpapírok kiadásai | L17: 5557910 | M17: =+'3. kiadások'!C292 -> 0 | N17: 0 | O17: 0
C18: ebből: maradvány igénybevétele | D18: 4176278 | E18: =+'2. bevételek'!AI296 -> 4254190 | F18: =+'2. bevételek'!AJ296 -> 4254190 | G18: =+'2. bevételek'!AK296 -> 6458425 | H18: =+'2. bevételek'!AL298 -> 4254190
C19: ebből: központi, irányító szervi támogatások folyósítása | D19: 5495500 | E19: =+'2. bevételek'!AI301 -> 4601630.5 | F19: =+'2. bevételek'!AJ301 -> 4601630.5 | G19: =+'2. bevételek'!AK301 -> 5224616 | H19: =+'2. bevételek'!AL301 -> 4601630.5 | K19: ebből: központi, irányító szervi támogatások folyósítása | L19: 5495500 | M19: =+'3. kiadások'!AI295 -> 4601631 | N19: =+'3. kiadások'!AJ295 -> 4601631 | O19: =+'3. kiadások'!AK295 -> 5321830 | P19: =+'3. kiadások'!AL295 -> 4601631
C20: Államháztartáson belüli megelőlegezések | D20: 52604 | E20: 0 | G20: 322714 | K20: Államháztartáson belüli megelőlegezések visszafizetése | L20: 45035 | M20: 22000 | N20: 372000 | O20: 375319
C21: betét velhasználása | H21: =+'2. bevételek'!AL302 -> 2540000 | K21: betét lekötése | N21: =+'3. kiadások'!D296 -> 1100000 | O21: 2500000
B22: B82 | C22: Külföldi finanszírozás bevételei | H22: ='[5]2. melléklet'!K313 -> 0 | J22: K92 | K22: Külföldi finanszírozás kiadásai | P22: 0
B23: B84 | C23: Váltóbevételek | H23: ='[5]2. melléklet'!K315 -> 0 | J23: K94 | K23: Váltókiadások | P23: 0
C24: Irányító szerv tám nélküli finansz bevétel (Belf.fin-Kpi tám) | E24: =E16-E17 -> 10878940 | F24: =+F16-F19 -> 12324562 | G24: =G16-G17 -> 12005755 | H24: =H16-H19 -> 6794190 | K24: Irányító szerv tám nélküli finansz kiadás (Belf.fin-Kpi tám) | P24: =P16-P18 -> 4601631
A25: BEVÉTELEK MINDÖSSZESEN | D25: =D4+D15 -> 28317944 | E25: =E4+E15 -> 25450698 | F25: =F4+F15 -> 26762357 | G25: =G4+G15 -> 25805511 | H25: =H4+H15+1 -> 21209669 | I25: KIADÁSOK MINDÖSSZESEN | L25: =L4+L15 -> 21843291 | M25: =M4+M15 -> 20058294 | N25: =N4+N15 -> 20080609 | O25: =O4+O15 -> 15718673 | P25: =P4+P15 -> 23385612
A26: Belső intézményi finanszírozás korrekciója (intézményfinanszírozás) | D26: =D19*-1 -> -5495500 | E26: =E19*-1 -> -4601630.5 | F26: =F19*-1 -> -4601630.5 | G26: =G19*-1 -> -5224616 | H26: =H19*-1 -> -4601630.5 | I26: Belső intézményi finanszírozás korrekciója | L26: =L19*-1 -> -5495500 | M26: =M19*-1 -> -4601631 | N26: =N19*-1 -> -4601631 | O26: =O19*-1 -> -5321830 | P26: =P19*-1 -> -4601631
A27: KONSZOLIDÁLT BEVÉTELEK | D27: =D25+D26 -> 22822444 | E27: =E25+E26 -> 20849068 | F27: =F25+F26 -> 22160726 | G27: =G25+G26 -> 20580895 | H27: =H25+H26-1 -> 16608038 | I27: KONSZOLIDÁLT KIADÁSOK | L27: =L25+L26 -> 16347791 | M27: =M25+M26 -> 15456663 | N27: =N25+N26 -> 15478978 | O27: =O25+O26 -> 10396843 | P27: =P25+P26 -> 18783981
A28: BEVÉTELEK ÉS KIADÁSOK EGYENLEGE
A29: Költségvetési egyenleg | D29: =SUM(D30:D31) -> -265300 | E29: =SUM(E30:E31) -> -5642815 | F29: =SUM(F30:F31) -> -5642814 | G29: =SUM(G30:G31) -> -1354997.7 | H29: =SUM(H30:H31) -> -8970133
B30: Működési egyenleg | D30: =+D5-L5 -> 148597 | E30: =+E5-M5 -> -4596404 | F30: =+F5-N5 -> -4592203 | G30: =+G5-O5 -> -547118.43 | H30: =+H5-P5 -> -7923721.7
B31: Felhalmozási egyenleg | D31: =+D11-L11 -> -413897 | E31: =+E11-M11 -> -1046411 | F31: =+F11-N11 -> -1050611 | G31: =+G11-O11 -> -807879.23 | H31: =+H11-P11 -> -1046411.3
A32: Finanszírozási egyenleg | D32: =D15-L15 -> 6739953 | E32: =E15-M15 -> 11035219 | F32: =F15-N15 -> 12324562 | G32: =G15-O15 -> 11441835 | H32: =H15-P15 -> 6794189.5
A33: EGYENLEG MINDÖSSZESEN | D33: =D32+D29 -> 6474653 | E33: =E32+E29+1 -> 5392405 | F33: =F32+F29 -> 6681748 | G33: =G32+G29 -> 10086837 | H33: =H32+H29 -> -2175943.5

Sheet 1. mell.-mérleg
A1: BUDAPEST I. KERÜLET BUDAVÁRI ÖNKORMÁNYZAT 2022. ÉVI ÖSSZEVONT KÖLTSÉGVETÉSI MÉRLEGE KÖZGAZDASÁGI TAGOLÁSBAN
A2: BUDAPEST I. KERÜLET BUDAVÁRI ÖNKORMÁNYZAT ÉS INTÉZMÉNYEI ÖSSZEVONT BEVÉTELEI ÉS KIADÁSAI (eFt)
A3: BEVÉTELEK | D3: 2022. évi eredeti előirányzat | E3: 2022. évi módosított előirányzat | F3: KIADÁSOK | I3: 2022. évi eredeti előirányzat | J3: 2022. évi módosított előirányzat
A4: Költségvetési bevételek | D4: =D5+D13 -> 9813848 | E4: =E5+E13 -> 9836164 | F4: Költségvetési kiadások | I4: =I5+I13 -> 15456662 | J4: =J5+J13 -> 15478978
B5: Működési bevételek | D5: =SUM(D6:D9) -> 8367384 | E5: =SUM(E6:E9) -> 8389700 | G5: Működési kiadások | I5: =SUM(I6:I10)-1 -> 12963787 | J5: =SUM(J6:J10) -> 12981903 | K5: =+J5-I5 -> 18116
B6: B1 | C6: Működési célú támogatások államháztartáson belülről | D6: =+'2. bevételek'!AI47 -> 2307617 | E6: =+'2. bevételek'!AJ47 -> 2329933 | G6: K1 | H6: Személyi juttatások | I6: =+'3. kiadások'!AI22 -> 3891562 | J6: =+'3. kiadások'!AJ22 -> 3891562
B7: B3 | C7: Közhatalmi bevételek | D7: =+'2. bevételek'!AI186 -> 2991479 | E7: =+'2. bevételek'!AJ186 -> 2991479 | G7: K2 | H7: Munkaadót terhelő járulékok | I7: =+'3. kiadások'!AI23 -> 564245 | J7: =+'3. kiadások'!AJ23 -> 564245
B8: B4 | C8: Működési bevételek | D8: =+'2. bevételek'!AI222 -> 3068288 | E8: =+'2. bevételek'!AJ222 -> 3068288 | G8: K3 | H8: Dologi kiadások | I8: =+'3. kiadások'!AI59 -> 5500567 | J8: =+'3. kiadások'!AJ59 -> 5565759
B9: B6 | C9: Működési célú átvett pénzeszközök | D9: =+'2. bevételek'!AI257 -> 0 | E9: =+'2. bevételek'!AJ257 -> 0 | G9: K4 | H9: Ellátottak pénzbeli juttatásai | I9: =+'3. kiadások'!AI123 -> 186500 | J9: =+'3. kiadások'!AJ123 -> 186500
G10: K5 | H10: Egyéb működési célú kiadások | I10: =+'3. kiadások'!AI195 -> 2820914 | J10: =+'3. kiadások'!AJ195 -> 2773837
H11: ebből: általános tartalék | I11: =+'5 melléklet'!C3 -> 140000 | J11: =+'5 melléklet'!E3 -> 94792
H12: ebből: céltartalék | I12: =+'5 melléklet'!C4 -> 1325753.7 | J12: =+'5 melléklet'!E4 -> 1261454
B13: Felhalmozási bevételek | D13: =SUM(D14:D16) -> 1446464 | E13: =SUM(E14:E16) -> 1446464 | G13: Felhalmozási kiadások | I13: =SUM(I14:I16) -> 2492875 | J13: =SUM(J14:J16) -> 2497075 | K13: =+J13-I13 -> 4200
B14: B2 | C14: Felhalmozási célú támogatások államháztartáson belülről | D14: =+'2. bevételek'!AI79 -> 87464 | E14: =+'2. bevételek'!AJ79 -> 87464 | G14: K6 | H14: Beruházások | I14: =+'3. kiadások'!AI205 -> 1007058 | J14: =+'3. kiadások'!AJ205 -> 1011258
B15: B5 | C15: Felhalmozási bevételek | D15: =+'2. bevételek'!AI231 -> 1350000 | E15: =+'2. bevételek'!AJ231 -> 1350000 | G15: K7 | H15: Felújítások | I15: =+'3. kiadások'!AI210 -> 1266025 | J15: =+'3. kiadások'!AJ210 -> 1266025
B16: B7 | C16: Felhalmozási célú átvett pénzeszközök | D16: =+'2. bevételek'!AI283 -> 9000 | E16: =+'2. bevételek'!AJ283 -> 9000 | G16: K8 | H16: Egyéb felhalmozási célú kiadások | I16: =+'3. kiadások'!AI272 -> 219792 | J16: =+'3. kiadások'!AJ272 -> 219792
A17: Finanszírozási bevételek (B8) | D17: =SUM(D23:D24,D18) -> 11395820 | E17: =SUM(E23:E24,E18) -> 11512674 | F17: Finanszírozási kiadások (K9) | I17: =SUM(I23:I24,I18) -> 5753007 | J17: =SUM(J23:J24,J18) -> 5869861 | K17: =+J17-I17 -> 116854
B18: B81 | C18: Belföldi finanszírozás bevételei | D18: =+'2. bevételek'!AI308 -> 11395820 | E18: =+'2. bevételek'!AJ308 -> 11512674 | G18: K91 | H18: Belföldi finanszírozás kiadásai | I18: =+'3. kiadások'!AI303 -> 5753007 | J18: =+'3. kiadások'!AJ303 -> 5869861
C19: ebből: központi, irányító szervi támogatások folyósítása | D19: =+'2. bevételek'!AI301 -> 4601630.5 | E19: =+'2. bevételek'!AJ301 -> 4601630.5 | H19: ebből: központi, irányító szervi támogatások folyósítása | I19: =+'3. kiadások'!AI295 -> 4601631 | J19: =+'3. kiadások'!AJ295 -> 4601631
C20: ebből: belföldi értékpapírok bevételei | D20: 0 | E20: 0 | H20: ebből: belföldi értékpapírok kiadásai
C21: ebből: maradvány igénybevétele | D21: =+'2. bevételek'!AI296 -> 4254190 | E21: =+'2. bevételek'!AJ296 -> 4254190 | H21: ebből: betét lekötés | I21: =+'3. kiadások'!AI296 -> 1100000 | J21: =+'3. kiadások'!AJ296 -> 1100000
C22: ebből: betét megszüntetése | D22: =+'2. bevételek'!AI302 -> 2540000 | E22: =+'2. bevételek'!AJ302 -> 2540000 | H22: Államháztartáson belüli megelőlegezések visszafizetése | I22: =+'3. kiadások'!AI294 -> 51376 | J22: =+'3. kiadások'!AJ294 -> 168230
B23: B82 | C23: Külföldi finanszírozás bevételei | D23: 0 | G23: K92 | H23: Külföldi finanszírozás kiadásai | I23: 0 | J23: 0
B24: B83 | C24: Adóssághoz nem kapcsolódó származékos ügyletek bevételei előirányzata | D24: 0 | G24: K93 | H24: Adóssághoz nem kapcsolódó származékos ügyletek kiadásai | I24: 0 | J24: 0
C25: Irányító szerv tám nélküli finansz bevétel (Belf.fin-Kpi tám) | D25: =D18-D19 -> 6794190 | E25: =E18-E19 -> 6911044 | H25: Irányító szerv tám nélküli finansz kiadás (Belf.fin-Kpi tám) | I25: =I18-I19 -> 1151376 | J25: =J18-J19 -> 1268230
A26: BEVÉTELEK MINDÖSSZESEN | D26: =D4+D17 -> 21209668 | E26: =E4+E17 -> 21348838 | F26: KIADÁSOK MINDÖSSZESEN | I26: =I4+I17 -> 21209669 | J26: =J4+J17 -> 21348839
A27: Belső intézményi finanszírozás korrekciója (intézményfinanszírozás) | D27: =D19*-1 -> -4601630.5 | E27: =E19*-1 -> -4601630.5 | F27: Belső intézményi finanszírozás korrekciója | I27: =I19*-1 -> -4601631 | J27: =J19*-1 -> -4601631
A28: KONSZOLIDÁLT BEVÉTELEK | D28: =D26+D27 -> 16608038 | E28: =E26+E27 -> 16747208 | F28: KONSZOLIDÁLT KIADÁSOK | I28: =I26+I27 -> 16608038 | J28: =J26+J27 -> 16747208 | K28: =+J28-I28 -> 139170
A29: BEVÉTELEK ÉS KIADÁSOK EGYENLEGE
A30: Költségvetési egyenleg | D30: =+D4-I4 -> -5642814 | E30: =+E4-J4 -> -5642814
B31: Működési egyenleg | D31: =+D5-I5 -> -4596403 | E31: =+E5-J5 -> -4592203
B32: Felhalmozási egyenleg | D32: =+D13-I13 -> -1046411 | E32: =+E13-J13 -> -1050611
A33: Finanszírozási egyenleg | D33: =+D17-I17 -> 5642813.5 | E33: =+E17-J17 -> 5642813.5
A34: EGYENLEG MINDÖSSZESEN | D34: 0 | E34: 0
A35: BUDAPEST I. KERÜLET BUDAVÁRI ÖNKORMÁNYZAT ÖNKORMÁNYZAT BEVÉTELEI ÉS KIADÁSAI
A36: BEVÉTELEK | D36: 2022. évi eredeti előirányzat | E36: 2022. évi módosított előirányzat | F36: KIADÁSOK | I36: 2022. évi eredeti előirányzat | J36: 2022. évi módosított előirányzat
A37: Költségvetési bevételek | D37: =D38+D46 -> 7609067 | E37: =E38+E46 -> 7631383 | F37: Költségvetési kiadások | I37: =I38+I46 -> 6934860 | J37: =J38+J46 -> 6957176
B38: Működési bevételek | D38: =SUM(D39:D42) -> 6162603 | E38: =SUM(E39:E42) -> 6184919 | G38: Működési kiadások | I38: =SUM(I39:I43) -> 5423632 | J38: =SUM(J39:J43) -> 5441748
B39: B1 | C39: Működési célú támogatások államháztartáson belülről | D39: =+'2. bevételek'!C11 -> 1442617 | E39: =+'2. bevételek'!D11 -> 1464933 | G39: K1 | H39: Személyi juttatások | I39: =+'3. kiadások'!C22 -> 205379 | J39: =+'3. kiadások'!D22 -> 205379
B40: B3 | C40: Közhatalmi bevételek | D40: =+'2. bevételek'!C186 -> 2991479 | E40: =+'2. bevételek'!D186 -> 2991479 | G40: K2 | H40: Munkaadót terhelő járulékok | I40: =+'3. kiadások'!C23 -> 30710 | J40: =+'3. kiadások'!D23 -> 30710
...

Sheet 2. bevételek
B1: Kiemelt előirányzat | C1: BUDAPEST I. KERÜLET BUDAVÁRI ÖNKORMÁNYZAT | G1: BUDAPEST FŐVÁROS I. KERÜLET BUDAVÁRI POLGÁRMESTERI HIVATAL | K1: BUDAPEST I. KERÜLET BUDAVÁRI ÖNKORMÁNYZAT EGÉSZSÉGÜGYI SZOLGÁLATA | O1: BUDAPEST I. KERÜLET BUDAVÁRI ÖNKORMÁNYZAT GAZDASÁGI MŰSZAKI ELLÁTÓ ÉS SZOLGÁLTATÓ SZERVEZET | S1: BRUNKSZVIK TERÉZ BUDAVÁRI ÓVODÁK | W1: BUDAPEST I. KERÜLET BUDAVÁRI ÖNKORMÁNYZAT EGYESÍTETT BÖLCSŐDE | AA1: BUDAPEST I. KERÜLET BUDAVÁRI ÖNKORMÁNYZAT SZOCIÁLIS ÉS GYERMEKJÓLÉTI SZOLGÁLTATÁSI KÖZPONT | AE1: CZAKÓ UTCAI SPORT- ÉS SZABADIDŐKÖZPONT | AL1: ÖNKORMÁNYZAT ÖSSZESEN | AM1: HIVATAL és INTÉZMÉNYEK ÖSSZESEN
A2: Rovat megnevezése | C2: 2022. évi eredeti előirányzat | D2: 2022. évi módosított előirányzat | E2: 2021. várható teljesítés | F2: 2022. évi eredeti előirányzat | G2: 2022. évi eredeti előirányzat | H2: 2022. évi módosított előirányzat | I2: 2021. évi várható teljesítés | J2: 2022. évi eredeti előirányzat | K2: 2022. évi eredeti előirányzat | L2: 2022. évi módosított előirányzat | M2: 2021. évi várható teljesítés | N2: 2022. évi eredeti előirányzat | O2: 2022. évi eredeti előirányzat | P2: 2022. évi módosított előirányzat | Q2: 2021. évi várható teljesítés | R2: 2022. évi eredeti előirányzat | S2: 2022. évi eredeti előirányzat | T2: 2022. évi módosított előirányzat | U2: 2021. évi várható teljesítés | V2: 2022. évi eredeti előirányzat | W2: 2022. évi eredeti előirányzat | X2: 2022. évi módosított előirányzat | Y2: 2021. évi várható teljesítés | Z2: 2022. évi eredeti előirányzat | AA2: 2022. évi eredeti előirányzat | AB2: 2022. évi módosított előirányzat | AC2: 2021. évi várható teljesítés | AD2: 2022. évi eredeti előirányzat | AE2: 2022. évi eredeti előirányzat | AF2: 2022. évi módosított előirányzat | AG2: 2021. évi várható teljesítés | AH2: 2022. évi eredeti előirányzat | AI2: 2022. évi eredeti előirányzat | AJ2: 2022. évi módosított előirányzat | AL2: 2022. évi eredeti előirányzat | AM2: 2022. évi eredeti előirányzat
A3: Helyi önkormányzatok működésének általános támogatása (B111) | C3: 489913 | D3: 489913 | E3: 484301.02 | F3: 489912.92 | AI3: =C3+G3+K3+O3+S3+W3+AA3+AE3 -> 489913 | AJ3: =D3+H3+L3+P3+T3+X3+AB3+AF3 -> 489913 | AK3: =E3+I3+M3+Q3+U3+Y3+AC3+AG3 -> 484301.02 | AL3: =F3+J3+N3+R3+V3+Z3+AD3+AH3 -> 489912.92 | AM3: =J3+N3+R3+V3+Z3+AD3+AH3 -> 0
A4: Települési önkormányzatok egyes köznevelési feladatainak támogatása (B112) | C4: 417667 | D4: 417667 | E4: 383874.18 | F4: 417666.53 | AI4: =C4+G4+K4+O4+S4+W4+AA4+AE4 -> 417667 | AJ4: =D4+H4+L4+P4+T4+X4+AB4+AF4 -> 417667 | AK4: =E4+I4+M4+Q4+U4+Y4+AC4+AG4 -> 383874.18 | AL4: =F4+J4+N4+R4+V4+Z4+AD4+AH4 -> 417666.53 | AM4: =J4+N4+R4+V4+Z4+AD4+AH4 -> 0
A5: Települési önkormányzatok szociális, gyermekjóléti és gyermekétkeztetési feladatainak támogatása (B113) | C5: =+C6+C7 -> 520289 | D5: =+D6+D7 -> 542605 | E5: 500250.61 | F5: 520289.39 | J5: 0 | N5: 0 | R5: 0 | V5: 0 | Z5: 0 | AD5: 0 | AH5: 0 | AI5: =C5+G5+K5+O5+S5+W5+AA5+AE5 -> 520289 | AJ5: =D5+H5+L5+P5+T5+X5+AB5+AF5 -> 542605 | AK5: =E5+I5+M5+Q5+U5+Y5+AC5+AG5 -> 500250.61 | AL5: =F5+J5+N5+R5+V5+Z5+AD5+AH5 -> 520289.39 | AM5: =J5+N5+R5+V5+Z5+AD5+AH5 -> 0
A6: ebből: települési önkormányzatok egyes szociális és gyermekjóléti feladatainak támogatása (B1131) | C6: 379646 | D6: =379646+22316 -> 401962 | E6: 386217.78 | F6: 379646.31 | AI6: =C6+G6+K6+O6+S6+W6+AA6+AE6 -> 379646 | AJ6: =D6+H6+L6+P6+T6+X6+AB6+AF6 -> 401962 | AK6: =E6+I6+M6+Q6+U6+Y6+AC6+AG6 -> 386217.78 | AL6: =F6+J6+N6+R6+V6+Z6+AD6+AH6 -> 379646.31 | AM6: =J6+N6+R6+V6+Z6+AD6+AH6 -> 0
A7: ebből: települési önkormányzatok gyermekétkeztetési feladatainak támogatása (B1132) | C7: 140643 | D7: 140643 | E7: 114032.83 | F7: 140643.08 | AI7: =C7+G7+K7+O7+S7+W7+AA7+AE7 -> 140643 | AJ7: =D7+H7+L7+P7+T7+X7+AB7+AF7 -> 140643 | AK7: =E7+I7+M7+Q7+U7+Y7+AC7+AG7 -> 114032.83 | AL7: =F7+J7+N7+R7+V7+Z7+AD7+AH7 -> 140643.08 | AM7: =J7+N7+R7+V7+Z7+AD7+AH7 -> 0
A8: Települési önkormányzatok kulturális feladatainak támogatása (B114) | C8: 14748 | D8: 14748 | E8: 14748.237 | F8: 14747.688 | AI8: =C8+G8+K8+O8+S8+W8+AA8+AE8 -> 14748 | AJ8: =D8+H8+L8+P8+T8+X8+AB8+AF8 -> 14748 | AK8: =E8+I8+M8+Q8+U8+Y8+AC8+AG8 -> 14748.237 | AL8: =F8+J8+N8+R8+V8+Z8+AD8+AH8 -> 14747.688 | AM8: =J8+N8+R8+V8+Z8+AD8+AH8 -> 0
A9: Működési célú költségvetési támogatások és kiegészítő támogatások (B115) | AI9: =C9+G9+K9+O9+S9+W9+AA9+AE9 -> 0 | AJ9: =D9+H9+L9+P9+T9+X9+AB9+AF9 -> 0 | AK9: =E9+I9+M9+Q9+U9+Y9+AC9+AG9 -> 0 | AL9: =F9+J9+N9+R9+V9+Z9+AD9+AH9 -> 0 | AM9: =J9+N9+R9+V9+Z9+AD9+AH9 -> 0
A10: Elszámolásból származó bevételek (B116) | E10: 11770.716 | AI10: =C10+G10+K10+O10+S10+W10+AA10+AE10 -> 0 | AJ10: =D10+H10+L10+P10+T10+X10+AB10+AF10 -> 0 | AK10: =E10+I10+M10+Q10+U10+Y10+AC10+AG10 -> 11770.716 | AL10: =F10+J10+N10+R10+V10+Z10+AD10+AH10 -> 0 | AM10: =J10+N10+R10+V10+Z10+AD10+AH10 -> 0
A11: Önkormányzatok működési támogatásai (B11) | C11: =+C3+C4+C5+C8+C9+C10 -> 1442617 | D11: =+D3+D4+D5+D8+D9+D10 -> 1464933 | E11: 1394944.8 | F11: 1442616.5 | AI11: =C11+G11+K11+O11+S11+W11+AA11+AE11 -> 1442617 | AJ11: =D11+H11+L11+P11+T11+X11+AB11+AF11 -> 1464933 | AK11: =E11+I11+M11+Q11+U11+Y11+AC11+AG11 -> 1394944.8 | AL11: =F11+J11+N11+R11+V11+Z11+AD11+AH11 -> 1442616.5 | AM11: =J11+N11+R11+V11+Z11+AD11+AH11 -> 0
A12: Elvonások és befizetések bevételei (B12) | F12: 0 | AI12: =C12+G12+K12+O12+S12+W12+AA12+AE12 -> 0 | AJ12: =D12+H12+L12+P12+T12+X12+AB12+AF12 -> 0 | AK12: =E12+I12+M12+Q12+U12+Y12+AC12+AG12 -> 0 | AL12: =F12+J12+N12+R12+V12+Z12+AD12+AH12 -> 0 | AM12: =J12+N12+R12+V12+Z12+AD12+AH12 -> 0
A13: Működési célú garancia- és kezességvállalásból származó megtérülések államháztartáson belülről (B13) | F13: 0 | AI13: =C13+G13+K13+O13+S13+W13+AA13+AE13 -> 0 | AJ13: =D13+H13+L13+P13+T13+X13+AB13+AF13 -> 0 | AK13: =E13+I13+M13+Q13+U13+Y13+AC13+AG13 -> 0 | AL13: =F13+J13+N13+R13+V13+Z13+AD13+AH13 -> 0 | AM13: =J13+N13+R13+V13+Z13+AD13+AH13 -> 0
A14: Működési célú visszatérítendő támogatások, kölcsönök visszatérülése államháztartáson belülről (=13+…+22) (B14) | F14: 0 | J14: 0 | N14: 0 | R14: 0 | V14: 0 | Z14: 0 | AD14: 0 | AH14: 0 | AI14: =C14+G14+K14+O14+S14+W14+AA14+AE14 -> 0 | AJ14: =D14+H14+L14+P14+T14+X14+AB14+AF14 -> 0 | AK14: =E14+I14+M14+Q14+U14+Y14+AC14+AG14 -> 0 | AL14: =F14+J14+N14+R14+V14+Z14+AD14+AH14 -> 0 | AM14: =J14+N14+R14+V14+Z14+AD14+AH14 -> 0
A15: ebből: központi költségvetési szervek (B14) | AI15: =C15+G15+K15+O15+S15+W15+AA15+AE15 -> 0 | AJ15: =D15+H15+L15+P15+T15+X15+AB15+AF15 -> 0 | AK15: =E15+I15+M15+Q15+U15+Y15+AC15+AG15 -> 0 | AL15: =F15+J15+N15+R15+V15+Z15+AD15+AH15 -> 0 | AM15: =J15+N15+R15+V15+Z15+AD15+AH15 -> 0
A16: ebből: központi kezelésű előirányzatok (B14) | AI16: =C16+G16+K16+O16+S16+W16+AA16+AE16 -> 0 | AJ16: =D16+H16+L16+P16+T16+X16+AB16+AF16 -> 0 | AK16: =E16+I16+M16+Q16+U16+Y16+AC16+AG16 -> 0 | AL16: =F16+J16+N16+R16+V16+Z16+AD16+AH16 -> 0 | AM16: =J16+N16+R16+V16+Z16+AD16+AH16 -> 0
A17: ebből: fejezeti kezelésű előirányzatok EU-s programokra és azok hazai társfinanszírozása (B14) | AI17: =C17+G17+K17+O17+S17+W17+AA17+AE17 -> 0 | AJ17: =D17+H17+L17+P17+T17+X17+AB17+AF17 -> 0 | AK17: =E17+I17+M17+Q17+U17+Y17+AC17+AG17 -> 0 | AL17: =F17+J17+N17+R17+V17+Z17+AD17+AH17 -> 0 | AM17: =J17+N17+R17+V17+Z17+AD17+AH17 -> 0
A18: ebből: egyéb fejezeti kezelésű előirányzatok (B14) | AI18: =C18+G18+K18+O18+S18+W18+AA18+AE18 -> 0 | AJ18: =D18+H18+L18+P18+T18+X18+AB18+AF18 -> 0 | AK18: =E18+I18+M18+Q18+U18+Y18+AC18+AG18 -> 0 | AL18: =F18+J18+N18+R18+V18+Z18+AD18+AH18 -> 0 | AM18: =J18+N18+R18+V18+Z18+AD18+AH18 -> 0
A19: ebből: társadalombiztosítás pénzügyi alapjai (B14) | AI19: =C19+G19+K19+O19+S19+W19+AA19+AE19 -> 0 | AJ19: =D19+H19+L19+P19+T19+X19+AB19+AF19 -> 0 | AK19: =E19+I19+M19+Q19+U19+Y19+AC19+AG19 -> 0 | AL19: =F19+J19+N19+R19+V19+Z19+AD19+AH19 -> 0 | AM19: =J19+N19+R19+V19+Z19+AD19+AH19 -> 0
A20: ebből: elkülönített állami pénzalapok (B14) | AI20: =C20+G20+K20+O20+S20+W20+AA20+AE20 -> 0 | AJ20: =D20+H20+L20+P20+T20+X20+AB20+AF20 -> 0 | AK20: =E20+I20+M20+Q20+U20+Y20+AC20+AG20 -> 0 | AL20: =F20+J20+N20+R20+V20+Z20+AD20+AH20 -> 0 | AM20: =J20+N20+R20+V20+Z20+AD20+AH20 -> 0
A21: ebből: helyi önkormányzatok és költségvetési szerveik (B14) | AI21: =C21+G21+K21+O21+S21+W21+AA21+AE21 -> 0 | AJ21: =D21+H21+L21+P21+T21+X21+AB21+AF21 -> 0 | AK21: =E21+I21+M21+Q21+U21+Y21+AC21+AG21 -> 0 | AL21: =F21+J21+N21+R21+V21+Z21+AD21+AH21 -> 0 | AM21: =J21+N21+R21+V21+Z21+AD21+AH21 -> 0
A22: ebből: társulások és költségvetési szerveik (B14) | AI22: =C22+G22+K22+O22+S22+W22+AA22+AE22 -> 0 | AJ22: =D22+H22+L22+P22+T22+X22+AB22+AF22 -> 0 | AK22: =E22+I22+M22+Q22+U22+Y22+AC22+AG22 -> 0 | AL22: =F22+J22+N22+R22+V22+Z22+AD22+AH22 -> 0 | AM22: =J22+N22+R22+V22+Z22+AD22+AH22 -> 0
A23: ebből: nemzetiségi önkormányzatok és költségvetési szerveik (B14) | AI23: =C23+G23+K23+O23+S23+W23+AA23+AE23 -> 0 | AJ23: =D23+H23+L23+P23+T23+X23+AB23+AF23 -> 0 | AK23: =E23+I23+M23+Q23+U23+Y23+AC23+AG23 -> 0 | AL23: =F23+J23+N23+R23+V23+Z23+AD23+AH23 -> 0 | AM23: =J23+N23+R23+V23+Z23+AD23+AH23 -> 0
A24: ebből: térségi fejlesztési tanácsok és költségvetési szerveik (B14) | AI24: =C24+G24+K24+O24+S24+W24+AA24+AE24 -> 0 | AJ24: =D24+H24+L24+P24+T24+X24+AB24+AF24 -> 0 | AK24: =E24+I24+M24+Q24+U24+Y24+AC24+AG24 -> 0 | AL24: =F24+J24+N24+R24+V24+Z24+AD24+AH24 -> 0 | AM24: =J24+N24+R24+V24+Z24+AD24+AH24 -> 0
A25: Működési célú visszatérítendő támogatások, kölcsönök igénybevétele államháztartáson belülről (=24+…+33) (B15) | F25: 0 | J25: 0 | N25: 0 | R25: 0 | V25: 0 | Z25: 0 | AD25: 0 | AH25: 0 | AI25: =C25+G25+K25+O25+S25+W25+AA25+AE25 -> 0 | AJ25: =D25+H25+L25+P25+T25+X25+AB25+AF25 -> 0 | AK25: =E25+I25+M25+Q25+U25+Y25+AC25+AG25 -> 0 | AL25: =F25+J25+N25+R25+V25+Z25+AD25+AH25 -> 0 | AM25: =J25+N25+R25+V25+Z25+AD25+AH25 -> 0
A26: ebből: központi költségvetési szervek (B15) | AI26: =C26+G26+K26+O26+S26+W26+AA26+AE26 -> 0 | AJ26: =D26+H26+L26+P26+T26+X26+AB26+AF26 -> 0 | AK26: =E26+I26+M26+Q26+U26+Y26+AC26+AG26 -> 0 | AL26: =F26+J26+N26+R26+V26+Z26+AD26+AH26 -> 0 | AM26: =J26+N26+R26+V26+Z26+AD26+AH26 -> 0
A27: ebből: központi kezelésű előirányzatok (B15) | AI27: =C27+G27+K27+O27+S27+W27+AA27+AE27 -> 0 | AJ27: =D27+H27+L27+P27+T27+X27+AB27+AF27 -> 0 | AK27: =E27+I27+M27+Q27+U27+Y27+AC27+AG27 -> 0 | AL27: =F27+J27+N27+R27+V27+Z27+AD27+AH27 -> 0 | AM27: =J27+N27+R27+V27+Z27+AD27+AH27 -> 0
A28: ebből: fejezeti kezelésű előirányzatok EU-s programokra és azok hazai társfinanszírozása (B15) | AI28: =C28+G28+K28+O28+S28+W28+AA28+AE28 -> 0 | AJ28: =D28+H28+L28+P28+T28+X28+AB28+AF28 -> 0 | AK28: =E28+I28+M28+Q28+U28+Y28+AC28+AG28 -> 0 | AL28: =F28+J28+N28+R28+V28+Z28+AD28+AH28 -> 0 | AM28: =J28+N28+R28+V28+Z28+AD28+AH28 -> 0
A29: ebből: egyéb fejezeti kezelésű előirányzatok (B15) | AI29: =C29+G29+K29+O29+S29+W29+AA29+AE29 -> 0 | AJ29: =D29+H29+L29+P29+T29+X29+AB29+AF29 -> 0 | AK29: =E29+I29+M29+Q29+U29+Y29+AC29+AG29 -> 0 | AL29: =F29+J29+N29+R29+V29+Z29+AD29+AH29 -> 0 | AM29: =J29+N29+R29+V29+Z29+AD29+AH29 -> 0
A30: ebből: társadalombiztosítás pénzügyi alapjai (B15) | AI30: =C30+G30+K30+O30+S30+W30+AA30+AE30 -> 0 | AJ30: =D30+H30+L30+P30+T30+X30+AB30+AF30 -> 0 | AK30: =E30+I30+M30+Q30+U30+Y30+AC30+AG30 -> 0 | AL30: =F30+J30+N30+R30+V30+Z30+AD30+AH30 -> 0 | AM30: =J30+N30+R30+V30+Z30+AD30+AH30 -> 0
A31: ebből: elkülönített állami pénzalapok (B15) | AI31: =C31+G31+K31+O31+S31+W31+AA31+AE31 -> 0 | AJ31: =D31+H31+L31+P31+T31+X31+AB31+AF31 -> 0 | AK31: =E31+I31+M31+Q31+U31+Y31+AC31+AG31 -> 0 | AL31: =F31+J31+N31+R31+V31+Z31+AD31+AH31 -> 0 | AM31: =J31+N31+R31+V31+Z31+AD31+AH31 -> 0
A32: ebből: helyi önkormányzatok és költségvetési szerveik (B15) | AI32: =C32+G32+K32+O32+S32+W32+AA32+AE32 -> 0 | AJ32: =D32+H32+L32+P32+T32+X32+AB32+AF32 -> 0 | AK32: =E32+I32+M32+Q32+U32+Y32+AC32+AG32 -> 0 | AL32: =F32+J32+N32+R32+V32+Z32+AD32+AH32 -> 0 | AM32: =J32+N32+R32+V32+Z32+AD32+AH32 -> 0
A33: ebből: társulások és költségvetési szerveik (B15) | AI33: =C33+G33+K33+O33+S33+W33+AA33+AE33 -> 0 | AJ33: =D33+H33+L33+P33+T33+X33+AB33+AF33 -> 0 | AK33: =E33+I33+M33+Q33+U33+Y33+AC33+AG33 -> 0 | AL33: =F33+J33+N33+R33+V33+Z33+AD33+AH33 -> 0 | AM33: =J33+N33+R33+V33+Z33+AD33+AH33 -> 0
A34: ebből: nemzetiségi önkormányzatok és költségvetési szerveik (B15) | AI34: =C34+G34+K34+O34+S34+W34+AA34+AE34 -> 0 | AJ34: =D34+H34+L34+P34+T34+X34+AB34+AF34 -> 0 | AK34: =E34+I34+M34+Q34+U34+Y34+AC34+AG34 -> 0 | AL34: =F34+J34+N34+R34+V34+Z34+AD34+AH34 -> 0 | AM34: =J34+N34+R34+V34+Z34+AD34+AH34 -> 0
A35: ebből: térségi fejlesztési tanácsok és költségvetési szerveik (B15) | AI35: =C35+G35+K35+O35+S35+W35+AA35+AE35 -> 0 | AJ35: =D35+H35+L35+P35+T35+X35+AB35+AF35 -> 0 | AK35: =E35+I35+M35+Q35+U35+Y35+AC35+AG35 -> 0 | AL35: =F35+J35+N35+R35+V35+Z35+AD35+AH35 -> 0 | AM35: =J35+N35+R35+V35+Z35+AD35+AH35 -> 0
A36: Egyéb működési célú támogatások bevételei államháztartáson belülről (B16) | C36: =+C41 -> 0 | D36: =+D41 -> 0 | E36: 13343.167 | F36: 0 | G36: 2000 | H36: 2000 | I36: 2145 | J36: 2000 | K36: =+K41 -> 863000 | L36: =+L41 -> 863000 | M36: 862040.2 | N36: 863000 | R36: 0 | V36: 0 | Z36: 0 | AD36: 0 | AH36: 0 | AI36: =C36+G36+K36+O36+S36+W36+AA36+AE36 -> 865000 | AJ36: =D36+H36+L36+P36+T36+X36+AB36+AF36 -> 865000 | AK36: =E36+I36+M36+Q36+U36+Y36+AC36+AG36 -> 877528.37 | AL36: =F36+J36+N36+R36+V36+Z36+AD36+AH36 -> 865000 | AM36: =J36+N36+R36+V36+Z36+AD36+AH36 -> 865000
A37: ebből: központi költségvetési szervek (B16) | E37: 5145.99 | AI37: =C37+G37+K37+O37+S37+W37+AA37+AE37 -> 0 | AJ37: =D37+H37+L37+P37+T37+X37+AB37+AF37 -> 0 | AK37: =E37+I37+M37+Q37+U37+Y37+AC37+AG37 -> 5145.99 | AL37: =F37+J37+N37+R37+V37+Z37+AD37+AH37 -> 0 | AM37: =J37+N37+R37+V37+Z37+AD37+AH37 -> 0
A38: ebből: központi kezelésű előirányzatok (B16) | AD38: 0 | AI38: =C38+G38+K38+O38+S38+W38+AA38+AE38 -> 0 | AJ38: =D38+H38+L38+P38+T38+X38+AB38+AF38 -> 0 | AK38: =E38+I38+M38+Q38+U38+Y38+AC38+AG38 -> 0 | AL38: =F38+J38+N38+R38+V38+Z38+AD38+AH38 -> 0 | AM38: =J38+N38+R38+V38+Z38+AD38+AH38 -> 0
A39: ebből: fejezeti kezelésű előirányzatok EU-s programokra és azok hazai társfinanszírozása (B16) | AI39: =C39+G39+K39+O39+S39+W39+AA39+AE39 -> 0 | AJ39: =D39+H39+L39+P39+T39+X39+AB39+AF39 -> 0 | AK39: =E39+I39+M39+Q39+U39+Y39+AC39+AG39 -> 0 | AL39: =F39+J39+N39+R39+V39+Z39+AD39+AH39 -> 0 | AM39: =J39+N39+R39+V39+Z39+AD39+AH39 -> 0
A40: ebből: egyéb fejezeti kezelésű előirányzatok (B16) | D40: 8396.284 | E40: 5595 | AI40: =C40+G40+K40+O40+S40+W40+AA40+AE40 -> 0 | AJ40: =D40+H40+L40+P40+T40+X40+AB40+AF40 -> 8396.284 | AK40: =E40+I40+M40+Q40+U40+Y40+AC40+AG40 -> 5595 | AL40: =F40+J40+N40+R40+V40+Z40+AD40+AH40 -> 0 | AM40: =J40+N40+R40+V40+Z40+AD40+AH40 -> 0
...

Sheet 3. kiadások
B1: Kiemelt előirányzat | C1: BUDAPEST I. KERÜLET BUDAVÁRI ÖNKORMÁNYZAT | G1: BUDAPEST FŐVÁROS I. KERÜLET BUDAVÁRI POLGÁRMESTERI HIVATAL | K1: BUDAPEST I. KERÜLET BUDAVÁRI ÖNKORMÁNYZAT EGÉSZSÉGÜGYI SZOLGÁLATA FT | O1: BUDAPEST I. KERÜLET BUDAVÁRI ÖNKORMÁNYZAT GAZDASÁGI MŰSZAKI ELLÁTÓ ÉS SZOLGÁLTATÓ SZERVEZET | S1: BRUNKSZVIK TERÉZ BUDAVÁRI ÓVODÁK | W1: BUDAPEST I. KERÜLET BUDAVÁRI ÖNKORMÁNYZAT EGYESÍTETT BÖLCSŐDE | AA1: BUDAPEST I. KERÜLET BUDAVÁRI ÖNKORMÁNYZAT SZOCIÁLIS ÉS GYERMEKJÓLÉTI SZOLGÁLTATÁSI KÖZPONT | AE1: CZAKÓ UTCAI SPORT- ÉS SZABADIDŐKÖZPONT | AI1: ÖNKORMÁNYZAT ÖSSZESEN | AM1: HIVATAL és INTÉZMÉNYEK ÖSSZESEN
A2: Rovat megnevezése | C2: 2022. évi eredeti előirányzat | D2: 2022. évi módosított előirányzat | E2: 2021. várható teljesítés | F2: 2022. évi eredeti előirányzat | G2: 2022. évi eredeti előirányzat | H2: 2022. évi módosított előirányzat | I2: 2021. évi várható teljesítés | J2: 2022. évi tervezett előirányzat | K2: 2022. évi eredeti előirányzat | L2: 2022. évi módosított előirányzat | M2: 2021. évi várható teljesítés | N2: 2022. évi tervezett előirányzat | O2: 2022. évi eredeti előirányzat | P2: 2022. évi módosított előirányzat | Q2: 2021. évi várható teljesítés | R2: 2022. évi tervezett előirányzat | S2: 2022. évi eredeti előirányzat | T2: 2022. évi módosított előirányzat | U2: 2021. évi várható teljesítés | V2: 2022. évi tervezett előirányzat | W2: 2022. évi eredeti előirányzat | X2: 2022. évi módosított előirányzat | Y2: 2021. évi várható teljesítés | Z2: 2022. évi tervezett előirányzat | AA2: 2022. évi eredeti előirányzat | AB2: 2022. évi módosított előirányzat | AC2: 2021. évi várható teljesítés | AD2: 2022. évi tervezett előirányzat | AE2: 2022. évi eredeti előirányzat | AF2: 2022. évi módosított előirányzat | AG2: 2021. évi várható teljesítés | AH2: 2022. évi tervezett előirányzat | AI2: 2022. évi eredeti előirányzat | AJ2: 2022. évi módosított előirányzat | AL2: 2022. évi eredeti előirányzat | AM2: 2022. évi eredeti előirányzat
A3: Törvény szerinti illetmények, munkabérek (K1101) | G3: 828518 | H3: =828518-1400 -> 827118 | I3: 546459.63 | J3: 828518 | K3: 750700 | L3: =750700-24963 -> 725737 | M3: 540105.33 | N3: 750700 | O3: 430024 | P3: =430024 -> 430024 | Q3: 301361.21 | R3: 430024 | S3: 529857 | T3: =529857-10000 -> 519857 | U3: 417237.07 | V3: 529857 | W3: 277569 | X3: =277569-2500 -> 275069 | Y3: 205019.64 | Z3: 277569 | AA3: 270273 | AB3: 270273 | AC3: 221018.98 | AD3: 270273 | AE3: 32886 | AF3: =32886-200 -> 32686 | AG3: 19436.863 | AH3: 32886 | AI3: =C3+G3+K3+O3+S3+W3+AA3+AE3 -> 3119827 | AJ3: =D3+H3+L3+P3+T3+X3+AB3+AF3 -> 3080764 | AK3: =E3+I3+M3+Q3+U3+Y3+AC3+AG3 -> 2250638.7 | AL3: =F3+J3+N3+R3+V3+Z3+AD3+AH3 -> 3119827 | AM3: =J3+N3+R3+V3+Z3+AD3+AH3 -> 3119827
A4: Normatív jutalmak (K1102) | G4: 31000 | H4: =31000-216 -> 30784 | I4: 73343.126 | J4: 31000 | K4: 0 | L4: 2100 | M4: 27938.02 | N4: 0 | O4: 35933 | P4: =35933 -> 35933 | Q4: 50735.898 | R4: 35933 | S4: 44251 | T4: 44251 | U4: 77156.167 | V4: 44251 | W4: 22725 | X4: 22725 | Y4: 34650.407 | Z4: 22724.5 | AA4: 23977 | AB4: 23977 | AC4: 38528.266 | AD4: 23977 | AE4: 2648 | AF4: 2648 | AG4: 3238.318 | AH4: 2648 | AI4: =C4+G4+K4+O4+S4+W4+AA4+AE4 -> 160534 | AJ4: =D4+H4+L4+P4+T4+X4+AB4+AF4 -> 162418 | AK4: =E4+I4+M4+Q4+U4+Y4+AC4+AG4 -> 305590.2 | AL4: =F4+J4+N4+R4+V4+Z4+AD4+AH4 -> 160533.5 | AM4: =J4+N4+R4+V4+Z4+AD4+AH4 -> 160533.5
A5: Céljuttatás, projektprémium (K1103) | G5: 20000 | H5: 20000 | I5: 17956.137 | J5: 20000 | K5: 0 | L5: 0 | N5: 0 | O5: 3931 | P5: 3931 | Q5: 5377.117 | R5: 3931 | S5: 2000 | T5: =2000-1700 -> 300 | U5: 2776.236 | V5: 2000 | W5: 2000 | X5: 2000 | Y5: 1020 | Z5: 2000 | AA5: 8497 | AB5: 8497 | AC5: 5013.41 | AD5: 8497 | AE5: 1000 | AF5: 1000 | AG5: 960 | AH5: 1000 | AI5: =C5+G5+K5+O5+S5+W5+AA5+AE5 -> 37428 | AJ5: =D5+H5+L5+P5+T5+X5+AB5+AF5 -> 35728 | AK5: =E5+I5+M5+Q5+U5+Y5+AC5+AG5 -> 33102.9 | AL5: =F5+J5+N5+R5+V5+Z5+AD5+AH5 -> 37428 | AM5: =J5+N5+R5+V5+Z5+AD5+AH5 -> 37428
A6: Készenléti, ügyeleti, helyettesítési díj, túlóra, túlszolgálat (K1104) | G6: 1000 | H6: =1000+1400 -> 2400 | I6: 1639.6 | J6: 1000 | K6: 0 | L6: 500 | M6: 9056.393 | N6: 0 | O6: 14458 | P6: =14458 -> 14458 | Q6: 11576.08 | R6: 14458 | S6: 0 | T6: 1700 | U6: 1217.829 | V6: 0 | W6: 3300 | X6: 3300 | Y6: 2786.511 | Z6: 3300 | AA6: 0 | AB6: 0 | AD6: 0 | AE6: 2360 | AF6: 2360 | AG6: 699.248 | AH6: 2360 | AI6: =C6+G6+K6+O6+S6+W6+AA6+AE6 -> 21118 | AJ6: =D6+H6+L6+P6+T6+X6+AB6+AF6 -> 24718 | AK6: =E6+I6+M6+Q6+U6+Y6+AC6+AG6 -> 26975.661 | AL6: =F6+J6+N6+R6+V6+Z6+AD6+AH6 -> 21118 | AM6: =J6+N6+R6+V6+Z6+AD6+AH6 -> 21118
A7: Végkielégítés (K1105) | G7: 0 | H7: 0 | I7: 2891.6 | J7: 0 | K7: 0 | L7: 0 | N7: 0 | O7: 0 | P7: 0 | R7: 0 | S7: 0 | T7: 0 | V7: 0 | W7: 0 | X7: 0 | Z7: 0 | AA7: 0 | AB7: 0 | AD7: 0 | AE7: 0 | AF7: 0 | AH7: 0 | AI7: =C7+G7+K7+O7+S7+W7+AA7+AE7 -> 0 | AJ7: =D7+H7+L7+P7+T7+X7+AB7+AF7 -> 0 | AK7: =E7+I7+M7+Q7+U7+Y7+AC7+AG7 -> 2891.6 | AL7: =F7+J7+N7+R7+V7+Z7+AD7+AH7 -> 0 | AM7: =J7+N7+R7+V7+Z7+AD7+AH7 -> 0
A8: Jubileumi jutalom (K1106) | G8: 1541 | H8: =1541+216 -> 1757 | I8: 7118.383 | J8: 1540.8 | K8: 4600 | L8: =4600+22300 -> 26900 | M8: 15157.67 | N8: 4600 | O8: 933 | P8: =933 -> 933 | R8: 933 | S8: 6672 | T8: 6672 | U8: 9223.259 | V8: 6672 | W8: 5874 | X8: 5874 | Y8: 2220.483 | Z8: 5874 | AA8: 2680 | AB8: 2680 | AC8: 1902.615 | AD8: 2680 | AE8: 0 | AF8: 0 | AH8: 0 | AI8: =C8+G8+K8+O8+S8+W8+AA8+AE8 -> 22300 | AJ8: =D8+H8+L8+P8+T8+X8+AB8+AF8 -> 44816 | AK8: =E8+I8+M8+Q8+U8+Y8+AC8+AG8 -> 35622.41 | AL8: =F8+J8+N8+R8+V8+Z8+AD8+AH8 -> 22299.8 | AM8: =J8+N8+R8+V8+Z8+AD8+AH8 -> 22299.8
A9: Béren kívüli juttatások (K1107) | G9: 27864 | H9: 27864 | I9: 26716.237 | J9: 27864 | K9: 14000 | L9: 14000 | M9: 12116.282 | N9: 14000 | O9: 24261 | P9: 24261 | Q9: 20869.635 | R9: 24261 | S9: 29283 | T9: 29283 | U9: 27748.059 | V9: 29283 | W9: 13826 | X9: 13826 | Y9: 13430.572 | Z9: 13826 | AA9: 14869 | AB9: 14869 | AC9: 13967.574 | AD9: 14869 | AE9: 2087 | AF9: 2087 | AG9: 1396.542 | AH9: 2087 | AI9: =C9+G9+K9+O9+S9+W9+AA9+AE9 -> 126190 | AJ9: =D9+H9+L9+P9+T9+X9+AB9+AF9 -> 126190 | AK9: =E9+I9+M9+Q9+U9+Y9+AC9+AG9 -> 116244.9 | AL9: =F9+J9+N9+R9+V9+Z9+AD9+AH9 -> 126190 | AM9: =J9+N9+R9+V9+Z9+AD9+AH9 -> 126190
A10: Ruházati költségtérítés (K1108) | G10: 500 | H10: 500 | I10: 334.8 | J10: 500 | K10: 0 | L10: 0 | N10: 0 | O10: 0 | P10: 0 | R10: 0 | S10: 0 | T10: 0 | V10: 0 | W10: 5562 | X10: 5562 | Y10: 5612.771 | Z10: 5562 | AA10: 0 | AB10: 0 | AD10: 0 | AE10: 0 | AF10: 0 | AH10: 0 | AI10: =C10+G10+K10+O10+S10+W10+AA10+AE10 -> 6062 | AJ10: =D10+H10+L10+P10+T10+X10+AB10+AF10 -> 6062 | AK10: =E10+I10+M10+Q10+U10+Y10+AC10+AG10 -> 5947.571 | AL10: =F10+J10+N10+R10+V10+Z10+AD10+AH10 -> 6062 | AM10: =J10+N10+R10+V10+Z10+AD10+AH10 -> 6062
A11: Közlekedési költségtérítés (K1109) | G11: 18000 | H11: 18000 | I11: 15971.199 | J11: 18000 | K11: 2500 | L11: 2500 | M11: 88.322 | N11: 2500 | O11: 4000 | P11: 4000 | Q11: 3387.409 | R11: 4000 | S11: 3746 | T11: 3746 | U11: 2344.085 | V11: 3746 | W11: 2249 | X11: 2249 | Y11: 101.704 | Z11: 2249 | AA11: 2346 | AB11: 2346 | AC11: 28.69 | AD11: 2346 | AE11: 262 | AF11: 262 | AG11: 163.022 | AH11: 262 | AI11: =C11+G11+K11+O11+S11+W11+AA11+AE11 -> 33103 | AJ11: =D11+H11+L11+P11+T11+X11+AB11+AF11 -> 33103 | AK11: =E11+I11+M11+Q11+U11+Y11+AC11+AG11 -> 22084.431 | AL11: =F11+J11+N11+R11+V11+Z11+AD11+AH11 -> 33103 | AM11: =J11+N11+R11+V11+Z11+AD11+AH11 -> 33103
A12: Egyéb költségtérítések (K1110) | G12: 5000 | H12: 5000 | I12: 1355.31 | J12: 5000 | K12: 960 | L12: =960+63 -> 1023 | M12: 790 | N12: 960 | O12: 1116 | P12: =1116 -> 1116 | Q12: 925 | R12: 1116 | S12: 1956 | T12: 1956 | U12: 1273 | V12: 1956 | W12: 786 | X12: 786 | Y12: 630 | Z12: 786 | AA12: 932 | AB12: 932 | AC12: 663 | AD12: 932 | AE12: 196 | AF12: 196 | AG12: 63 | AH12: 196 | AI12: =C12+G12+K12+O12+S12+W12+AA12+AE12 -> 10946 | AJ12: =D12+H12+L12+P12+T12+X12+AB12+AF12 -> 11009 | AK12: =E12+I12+M12+Q12+U12+Y12+AC12+AG12 -> 5699.31 | AL12: =F12+J12+N12+R12+V12+Z12+AD12+AH12 -> 10946 | AM12: =J12+N12+R12+V12+Z12+AD12+AH12 -> 10946
A13: Lakhatási támogatások (K1111) | G13: 0 | H13: 0 | J13: 0 | K13: 0 | L13: 0 | N13: 0 | O13: 0 | P13: 0 | R13: 0 | S13: 0 | T13: 0 | V13: 0 | W13: 0 | X13: 0 | Z13: 0 | AA13: 0 | AB13: 0 | AD13: 0 | AE13: 0 | AF13: 0 | AH13: 0 | AI13: =C13+G13+K13+O13+S13+W13+AA13+AE13 -> 0 | AJ13: =D13+H13+L13+P13+T13+X13+AB13+AF13 -> 0 | AK13: =E13+I13+M13+Q13+U13+Y13+AC13+AG13 -> 0 | AL13: =F13+J13+N13+R13+V13+Z13+AD13+AH13 -> 0 | AM13: =J13+N13+R13+V13+Z13+AD13+AH13 -> 0
A14: Szociális támogatások (K1112) | G14: 1500 | H14: 1500 | I14: 255 | J14: 1500 | K14: 500 | L14: 500 | M14: 300.755 | N14: 500 | O14: 558 | P14: 558 | Q14: 0 | R14: 558 | S14: 500 | T14: 500 | U14: 500 | V14: 500 | W14: 300 | X14: 300 | Y14: 300 | Z14: 300 | AA14: 290 | AB14: 290 | AC14: 290 | AD14: 290 | AE14: 0 | AF14: 0 | AH14: 0 | AI14: =C14+G14+K14+O14+S14+W14+AA14+AE14 -> 3648 | AJ14: =D14+H14+L14+P14+T14+X14+AB14+AF14 -> 3648 | AK14: =E14+I14+M14+Q14+U14+Y14+AC14+AG14 -> 1645.755 | AL14: =F14+J14+N14+R14+V14+Z14+AD14+AH14 -> 3648 | AM14: =J14+N14+R14+V14+Z14+AD14+AH14 -> 3648
A15: Foglalkoztatottak egyéb személyi juttatásai (K1113) | G15: 27000 | H15: 27000 | I15: 25519.023 | J15: 27000 | K15: 39240 | L15: 39240 | M15: 34489.089 | N15: 39240 | O15: 6500 | P15: 6500 | Q15: 4215.126 | R15: 6500 | S15: 0 | T15: 10000 | U15: 8977.394 | V15: 0 | W15: 0 | X15: 2500 | Y15: 2484.886 | Z15: 0 | AA15: 0 | AB15: 0 | AC15: 2882.738 | AD15: 0 | AE15: 0 | AF15: 200 | AG15: 482.073 | AH15: 0 | AI15: =C15+G15+K15+O15+S15+W15+AA15+AE15 -> 72740 | AJ15: =D15+H15+L15+P15+T15+X15+AB15+AF15 -> 85440 | AK15: =E15+I15+M15+Q15+U15+Y15+AC15+AG15 -> 79050.329 | AL15: =F15+J15+N15+R15+V15+Z15+AD15+AH15 -> 72740 | AM15: =J15+N15+R15+V15+Z15+AD15+AH15 -> 72740
A16: ebből:biztosítási díjak (K1113) | AI16: =C16+G16+K16+O16+S16+W16+AA16+AE16 -> 0 | AJ16: =D16+H16+L16+P16+T16+X16+AB16+AF16 -> 0 | AK16: =E16+I16+M16+Q16+U16+Y16+AC16+AG16 -> 0 | AL16: =F16+J16+N16+R16+V16+Z16+AD16+AH16 -> 0 | AM16: =J16+N16+R16+V16+Z16+AD16+AH16 -> 0
A17: Foglalkoztatottak személyi juttatásai (K11) | C17: =SUM(C3:C15) -> 0 | D17: =SUM(D3:D15) -> 0 | F17: 0 | G17: 961922.8 | H17: =SUM(H3:H15) -> 961923 | I17: 719560.04 | J17: 961922.8 | K17: =SUM(K3:K15) -> 812500 | L17: =SUM(L3:L15) -> 812500 | M17: 640041.86 | N17: 812500 | O17: =SUM(O3:O15) -> 521714 | P17: =SUM(P3:P15) -> 521714 | Q17: 398447.48 | R17: 521714 | S17: =SUM(S3:S15) -> 618265 | T17: =SUM(T3:T15) -> 618265 | U17: 548453.1 | V17: 618265 | W17: 334190.5 | X17: =SUM(X3:X15) -> 334191 | Y17: 268256.98 | Z17: 334190.5 | AA17: =SUM(AA3:AA15) -> 323864 | AB17: =SUM(AB3:AB15) -> 323864 | AC17: 284295.27 | AD17: 323864 | AE17: =SUM(AE3:AE15) -> 41439 | AF17: =SUM(AF3:AF15) -> 41439 | AG17: 26439.066 | AH17: 41439 | AI17: 3613895 | AJ17: =D17+H17+L17+P17+T17+X17+AB17+AF17 -> 3613896 | AK17: =E17+I17+M17+Q17+U17+Y17+AC17+AG17 -> 2885493.8 | AL17: =F17+J17+N17+R17+V17+Z17+AD17+AH17 -> 3613895.3 | AM17: =J17+N17+R17+V17+Z17+AD17+AH17 -> 3613895.3
A18: Választott tisztségviselők juttatásai (K121) | C18: 147263 | D18: 147263 | E18: 97678.775 | F18: 147263 | J18: 0 | N18: 0 | AI18: =C18+G18+K18+O18+S18+W18+AA18+AE18 -> 147263 | AJ18: =D18+H18+L18+P18+T18+X18+AB18+AF18 -> 147263 | AK18: =E18+I18+M18+Q18+U18+Y18+AC18+AG18 -> 97678.775 | AL18: =F18+J18+N18+R18+V18+Z18+AD18+AH18 -> 147263 | AM18: =J18+N18+R18+V18+Z18+AD18+AH18 -> 0
A19: Munkavégzésre irányuló egyéb jogviszonyban nem saját foglalkoztatottnak fizetett juttatások (K122) | C19: 26550 | D19: 26550 | E19: 29615.085 | F19: 26550 | G19: 19100 | H19: 19100 | I19: 21276.199 | J19: 19100 | M19: 3618 | N19: 0 | O19: 23950 | P19: 23950 | Q19: 19881.156 | R19: 23950 | S19: 3600 | T19: 3600 | U19: 3456.127 | V19: 3600 | W19: 3384 | X19: 3384 | Y19: 1440.5 | Z19: 3384 | AA19: 4675 | AB19: 4675 | AC19: 2929.92 | AD19: 4675 | AE19: 3200 | AF19: 3200 | AG19: 972.912 | AH19: 3200 | AI19: =C19+G19+K19+O19+S19+W19+AA19+AE19 -> 84459 | AJ19: =D19+H19+L19+P19+T19+X19+AB19+AF19 -> 84459 | AK19: =E19+I19+M19+Q19+U19+Y19+AC19+AG19 -> 83189.899 | AL19: =F19+J19+N19+R19+V19+Z19+AD19+AH19 -> 84459 | AM19: =J19+N19+R19+V19+Z19+AD19+AH19 -> 57909
A20: Egyéb külső személyi juttatások (K123) | C20: 31566 | D20: 31566 | E20: 38779.351 | F20: 31566 | G20: 5100 | H20: 5100 | I20: 2318.864 | J20: 5100 | K20: 500 | L20: 500 | M20: 66.855 | N20: 500 | O20: 2140 | P20: 2140 | Q20: 3307.918 | R20: 2140 | S20: 3000 | T20: 3000 | U20: 1478.8 | V20: 3000 | W20: 1000 | X20: 1000 | Y20: 344.528 | Z20: 1000 | AA20: 2038 | AB20: 2038 | AC20: 440.787 | AD20: 2038 | AE20: 600 | AF20: 600 | AG20: 113.445 | AH20: 600 | AI20: =C20+G20+K20+O20+S20+W20+AA20+AE20 -> 45944 | AJ20: =D20+H20+L20+P20+T20+X20+AB20+AF20 -> 45944 | AK20: =E20+I20+M20+Q20+U20+Y20+AC20+AG20 -> 46850.548 | AL20: =F20+J20+N20+R20+V20+Z20+AD20+AH20 -> 45944 | AM20: =J20+N20+R20+V20+Z20+AD20+AH20 -> 14378
A21: Külső személyi juttatások (K12) | C21: =+C18+C19+C20 -> 205379 | D21: =+D18+D19+D20 -> 205379 | E21: 166073.21 | F21: 205379 | G21: =+G18+G19+G20 -> 24200 | H21: =+H18+H19+H20 -> 24200 | I21: 23595.063 | J21: 24200 | K21: =+K18+K19+K20 -> 500 | L21: =+L18+L19+L20 -> 500 | M21: 3684.855 | N21: 500 | O21: =+O18+O19+O20 -> 26090 | P21: =+P18+P19+P20 -> 26090 | Q21: 23189.074 | R21: 26090 | S21: =+S18+S19+S20 -> 6600 | T21: =+T18+T19+T20 -> 6600 | U21: 4934.927 | V21: 6600 | W21: =+W18+W19+W20 -> 4384 | X21: =+X18+X19+X20 -> 4384 | Y21: 1785.028 | Z21: 4384 | AA21: =+AA18+AA19+AA20 -> 6713 | AB21: =+AB18+AB19+AB20 -> 6713 | AC21: 3370.707 | AD21: 6713 | AE21: =+AE18+AE19+AE20 -> 3800 | AF21: =+AF18+AF19+AF20 -> 3800 | AG21: 1086.357 | AH21: 3800 | AI21: =+AI18+AI19+AI20 -> 277666 | AJ21: =+AJ18+AJ19+AJ20 -> 277666 | AK21: =E21+I21+M21+Q21+U21+Y21+AC21+AG21 -> 227719.22 | AL21: =F21+J21+N21+R21+V21+Z21+AD21+AH21 -> 277666 | AM21: =J21+N21+R21+V21+Z21+AD21+AH21 -> 72287
A22: Személyi juttatások (K1) | B22: K1 | C22: =+C17+C21 -> 205379 | D22: =+D17+D21 -> 205379 | E22: 166073.21 | F22: 205379 | G22: =+G17+G21 -> 986122.8 | H22: =+H17+H21 -> 986123 | I22: 743155.11 | J22: 986122.8 | K22: =+K17+K21 -> 813000 | L22: =+L17+L21 -> 813000 | M22: 643726.72 | N22: 813000 | O22: =+O17+O21 -> 547804 | P22: =+P17+P21 -> 547804 | Q22: 421636.55 | R22: 547804 | S22: =+S17+S21 -> 624865 | T22: =+T17+T21 -> 624865 | U22: 553388.03 | V22: 624865 | W22: =+W17+W21 -> 338574.5 | X22: =+X17+X21 -> 338575 | Y22: 270042 | Z22: 338574.5 | AA22: =+AA17+AA21 -> 330577 | AB22: =+AB17+AB21 -> 330577 | AC22: 287665.98 | AD22: 330577 | AE22: =+AE17+AE21 -> 45239 | AF22: =+AF17+AF21 -> 45239 | AG22: 27525.423 | AH22: 45239 | AI22: 3891562 | AJ22: =D22+H22+L22+P22+T22+X22+AB22+AF22 -> 3891562 | AK22: =E22+I22+M22+Q22+U22+Y22+AC22+AG22 -> 3113213 | AL22: =F22+J22+N22+R22+V22+Z22+AD22+AH22+1 -> 3891562.3 | AM22: =J22+N22+R22+V22+Z22+AD22+AH22 -> 3686182.3
A23: Munkaadókat terhelő járulékok és szociális hozzájárulási adó (K2) | B23: K2 | C23: =SUM(C24:C29) -> 30710 | D23: =SUM(D24:D29) -> 30710 | E23: 18136.228 | F23: 30709.92 | G23: =SUM(G24:G29) -> 142632 | H23: =SUM(H24:H29) -> 142632 | I23: 113182.01 | J23: 142631.6 | K23: =SUM(K24:K29) -> 113000 | L23: =SUM(L24:L29) -> 113000 | M23: 88505.363 | N23: 113000 | O23: =SUM(O24:O29) -> 78804 | P23: =SUM(P24:P29) -> 78804 | Q23: 70593.392 | R23: 78804 | S23: =SUM(S24:S29) -> 92927 | T23: =SUM(T24:T29) -> 92927 | U23: 94522.974 | V23: 92927 | W23: =SUM(W24:W29) -> 49500 | X23: =SUM(X24:X29) -> 49500 | Y23: 45854.999 | Z23: 49500 | AA23: =SUM(AA24:AA29) -> 50466 | AB23: =SUM(AB24:AB29) -> 50466 | AC23: 49362.601 | AD23: 50466 | AE23: =SUM(AE24:AE29) -> 6206 | AF23: =SUM(AF24:AF29) -> 6206 | AG23: 4373.419 | AH23: 6206 | AI23: =C23+G23+K23+O23+S23+W23+AA23+AE23 -> 564245 | AJ23: =D23+H23+L23+P23+T23+X23+AB23+AF23 -> 564245 | AK23: =E23+I23+M23+Q23+U23+Y23+AC23+AG23 -> 484530.98 | AL23: =F23+J23+N23+R23+V23+Z23+AD23+AH23 -> 564244.52 | AM23: =J23+N23+R23+V23+Z23+AD23+AH23 -> 533534.6
A24: ebből: szociális hozzájárulási adó (K2) | C24: 30264 | D24: 30264 | E24: 17828.228 | F24: 30263.92 | G24: 128606 | H24: 128606 | I24: 111511.69 | J24: 128606 | K24: 104800 | L24: 104800 | M24: 81775.823 | N24: 104800 | O24: 67604 | P24: 67604 | Q24: 59812.772 | R24: 67604 | S24: 80843 | T24: 80843 | U24: 80911.926 | V24: 80843 | W24: 43889 | X24: 43889 | Y24: 39675.828 | Z24: 43889 | AA24: 42800 | AB24: 42800 | AC24: 42240.58 | AD24: 42800 | AE24: 5803 | AF24: 5803 | AG24: 3872.184 | AH24: 5803 | AI24: 338575 | AJ24: =D24+H24+L24+P24+T24+X24+AB24+AF24 -> 504609 | AK24: 338575 | AL24: 338575 | AM24: =J24+N24+R24+V24+Z24+AD24+AH24 -> 474345
A25: ebből: rehabilitációs hozzájárulás (K2) | C25: 446 | D25: 446 | E25: 226 | F25: 446 | G25: 9346 | H25: 9346 | I25: 1087 | J25: 9346 | K25: 5000 | L25: 5000 | M25: 4347 | N25: 5000 | O25: 7200 | P25: 7200 | Q25: 6452 | R25: 7200 | S25: 10170 | T25: 10170 | U25: 7908 | V25: 10170 | W25: 4770 | X25: 4770 | Y25: 3851 | Z25: 4770 | AA25: 5130 | AB25: 5130 | AC25: 4272 | AD25: 5130 | AG25: 271.674 | AI25: =C25+G25+K25+O25+S25+W25+AA25+AE25 -> 42062 | AJ25: =D25+H25+L25+P25+T25+X25+AB25+AF25 -> 42062 | AK25: =E25+I25+M25+Q25+U25+Y25+AC25+AG25 -> 28414.674 | AL25: =F25+J25+N25+R25+V25+Z25+AD25+AH25 -> 42062 | AM25: =J25+N25+R25+V25+Z25+AD25+AH25 -> 41616
A26: ebből: egészségügyi hozzájárulás (K2) | AI26: =C26+G26+K26+O26+S26+W26+AA26+AE26 -> 0 | AJ26: =D26+H26+L26+P26+T26+X26+AB26+AF26 -> 0 | AK26: =E26+I26+M26+Q26+U26+Y26+AC26+AG26 -> 0 | AL26: =F26+J26+N26+R26+V26+Z26+AD26+AH26 -> 0 | AM26: =J26+N26+R26+V26+Z26+AD26+AH26 -> 0
A27: ebből: táppénz hozzájárulás (K2) | G27: 500 | H27: 500 | I27: 311.296 | J27: 500 | K27: 1000 | L27: 1000 | M27: 506.572 | N27: 1000 | Q27: 612.697 | U27: 1279.112 | Y27: 252.624 | AC27: 678.874 | AG27: 229.561 | AI27: =C27+G27+K27+O27+S27+W27+AA27+AE27 -> 1500 | AJ27: =D27+H27+L27+P27+T27+X27+AB27+AF27 -> 1500 | AK27: =E27+I27+M27+Q27+U27+Y27+AC27+AG27 -> 3870.736 | AL27: =F27+J27+N27+R27+V27+Z27+AD27+AH27 -> 1500 | AM27: =J27+N27+R27+V27+Z27+AD27+AH27 -> 1500
A28: ebből: munkaadót a foglalkoztatottak részére történő kifizetésekkel kapcsolatban terhelő más járulék jellegű kötelezettségek (K2) | G28: 4180 | H28: 4180 | J28: 4179.6 | AI28: =C28+G28+K28+O28+S28+W28+AA28+AE28 -> 4180 | AJ28: =D28+H28+L28+P28+T28+X28+AB28+AF28 -> 4180 | AK28: =E28+I28+M28+Q28+U28+Y28+AC28+AG28 -> 0 | AL28: =F28+J28+N28+R28+V28+Z28+AD28+AH28 -> 4179.6 | AM28: =J28+N28+R28+V28+Z28+AD28+AH28 -> 4179.6
A29: ebből: munkáltatót terhelő személyi jövedelemadó (K2) | E29: 82 | I29: 272.023 | K29: 2200 | L29: 2200 | M29: 1875.968 | N29: 2200 | O29: 4000 | P29: 4000 | Q29: 3715.923 | R29: 4000 | S29: 1914 | T29: 1914 | U29: 4423.936 | V29: 1914 | W29: 841 | X29: 841 | Y29: 2075.547 | Z29: 841 | AA29: 2536 | AB29: 2536 | AC29: 2171.147 | AD29: 2536 | AE29: 403 | AF29: 403 | AH29: 403 | AI29: =C29+G29+K29+O29+S29+W29+AA29+AE29 -> 11894 | AJ29: =D29+H29+L29+P29+T29+X29+AB29+AF29 -> 11894 | AK29: =E29+I29+M29+Q29+U29+Y29+AC29+AG29 -> 14616.544 | AL29: =F29+J29+N29+R29+V29+Z29+AD29+AH29 -> 11894 | AM29: =J29+N29+R29+V29+Z29+AD29+AH29 -> 11894
A30: Szakmai anyagok beszerzése (K311) | C30: 16000 | D30: 16000 | E30: 5260.635 | F30: 16000 | G30: 2500 | H30: 2500 | I30: 1987.487 | J30: 2500 | K30: 13710 | L30: 13710 | M30: 8333.252 | N30: 13710 | O30: 500 | P30: 500 | Q30: 354 | R30: 500 | S30: 5000 | T30: 5000 | U30: 5130.335 | V30: 5000 | W30: 1800 | X30: 1800 | Y30: 3645.379 | Z30: 1800 | AA30: 1994 | AB30: 1994 | AC30: 417.868 | AD30: 1994 | AE30: 750 | AF30: 750 | AG30: 457.399 | AH30: 750 | AI30: =C30+G30+K30+O30+S30+W30+AA30+AE30 -> 42254 | AJ30: =D30+H30+L30+P30+T30+X30+AB30+AF30 -> 42254 | AK30: =E30+I30+M30+Q30+U30+Y30+AC30+AG30 -> 25586.355 | AL30: =F30+J30+N30+R30+V30+Z30+AD30+AH30 -> 42254 | AM30: =J30+N30+R30+V30+Z30+AD30+AH30 -> 26254
A31: Üzemeltetési anyagok beszerzése (K312) | C31: 16535 | D31: =16535+2000 -> 18535 | E31: 3949.017 | F31: 16535 | G31: 16118 | H31: 16118 | I31: 9207.936 | J31: 16118.393 | K31: 5690 | L31: 5690 | M31: 5580.898 | N31: 5690 | O31: 39320 | P31: 39320 | Q31: 32313.938 | R31: 39320 | S31: 11808 | T31: 11808 | U31: 18581.311 | V31: 11808 | W31: 22481 | X31: 22481 | Y31: 21489.676 | Z31: 22481 | AA31: 9363 | AB31: 9363 | AC31: 8054.45 | AD31: 9363 | AE31: 2660 | AF31: 2660 | AG31: 1656.976 | AH31: 2660 | AI31: =C31+G31+K31+O31+S31+W31+AA31+AE31 -> 123975 | AJ31: =D31+H31+L31+P31+T31+X31+AB31+AF31 -> 125975 | AK31: =E31+I31+M31+Q31+U31+Y31+AC31+AG31 -> 100834.2 | AL31: =F31+J31+N31+R31+V31+Z31+AD31+AH31 -> 123975.39 | AM31: =J31+N31+R31+V31+Z31+AD31+AH31 -> 107440.39
A32: Árubeszerzés (K313) | F32: 0 | AI32: =C32+G32+K32+O32+S32+W32+AA32+AE32 -> 0 | AJ32: =D32+H32+L32+P32+T32+X32+AB32+AF32 -> 0 | AK32: =E32+I32+M32+Q32+U32+Y32+AC32+AG32 -> 0 | AL32: =F32+J32+N32+R32+V32+Z32+AD32+AH32 -> 0 | AM32: =J32+N32+R32+V32+Z32+AD32+AH32 -> 0
A33: Készletbeszerzés (K31) | C33: =+C30+C31+C32 -> 32535 | D33: =+D30+D31+D32 -> 34535 | E33: 9209.652 | F33: =+F30+F31 -> 32535 | G33: =+G30+G31+G32 -> 18618 | H33: =+H30+H31+H32 -> 18618 | I33: 11195.423 | J33: 18618.393 | K33: =+K30+K31+K32 -> 19400 | L33: =+L30+L31+L32 -> 19400 | M33: 13914.15 | N33: 19400 | O33: =+O30+O31+O32 -> 39820 | P33: =+P30+P31+P32 -> 39820 | Q33: 32667.938 | R33: 39820 | S33: =+S30+S31+S32 -> 16808 | T33: =+T30+T31+T32 -> 16808 | U33: 23711.646 | V33: 16808 | W33: =+W30+W31+W32 -> 24281 | X33: =+X30+X31+X32 -> 24281 | Y33: 25135.055 | Z33: 24281 | AA33: =+AA30+AA31+AA32 -> 11357 | AB33: =+AB30+AB31+AB32 -> 11357 | AC33: 8472.318 | AD33: 11357 | AE33: =+AE30+AE31+AE32 -> 3410 | AF33: =+AF30+AF31+AF32 -> 3410 | AG33: 2114.375 | AH33: 3410 | AI33: =C33+G33+K33+O33+S33+W33+AA33+AE33 -> 166229 | AJ33: =D33+H33+L33+P33+T33+X33+AB33+AF33 -> 168229 | AK33: =E33+I33+M33+Q33+U33+Y33+AC33+AG33 -> 126420.56 | AL33: =F33+J33+N33+R33+V33+Z33+AD33+AH33 -> 166229.39 | AM33: =J33+N33+R33+V33+Z33+AD33+AH33 -> 133694.39
A34: Informatikai szolgáltatások igénybevétele (K321) | C34: 9118 | D34: =9118 -> 9118 | E34: 12554.092 | F34: 9118 | G34: 52014 | H34: 52014 | I34: 95035.88 | J34: 52013.749 | K34: 11489 | L34: =11489+700 -> 12189 | M34: 13781.393 | N34: 11489 | O34: 25190 | P34: =25190 -> 25190 | Q34: 9056.688 | R34: 25190 | S34: 1700 | T34: 1700 | U34: 1107.06 | V34: 1700 | W34: 1200 | X34: 1200 | Y34: 808.821 | Z34: 1200 | AA34: 3549 | AB34: 3549 | AC34: 2586.716 | AD34: 3549 | AE34: 240 | AF34: 240 | AG34: 122.66 | AH34: 240 | AI34: =C34+G34+K34+O34+S34+W34+AA34+AE34 -> 104500 | AJ34: =D34+H34+L34+P34+T34+X34+AB34+AF34 -> 105200 | AK34: =E34+I34+M34+Q34+U34+Y34+AC34+AG34 -> 135053.31 | AL34: =F34+J34+N34+R34+V34+Z34+AD34+AH34 -> 104499.75 | AM34: =J34+N34+R34+V34+Z34+AD34+AH34 -> 95381.749
A35: Egyéb kommunikációs szolgáltatások (K322) | C35: 3937 | D35: 3937 | E35: 877.329 | F35: 3937 | G35: 8437 | H35: 8437 | I35: 3199.172 | J35: 8437.008 | K35: 3424 | L35: =3424+300 -> 3724 | M35: 2699.136 | N35: 3424 | O35: 2400 | P35: =2400 -> 2400 | Q35: 2353.541 | R35: 2400 | S35: 1300 | T35: 1300 | U35: 936.109 | V35: 1300 | W35: 600 | X35: 600 | Y35: 509.753 | Z35: 600 | AA35: 3295 | AB35: 3295 | AC35: 1315.198 | AD35: 3295 | AE35: 300 | AF35: 300 | AG35: 182.677 | AH35: 300 | AI35: =C35+G35+K35+O35+S35+W35+AA35+AE35 -> 23693 | AJ35: =D35+H35+L35+P35+T35+X35+AB35+AF35 -> 23993 | AK35: =E35+I35+M35+Q35+U35+Y35+AC35+AG35 -> 12072.915 | AL35: =F35+J35+N35+R35+V35+Z35+AD35+AH35 -> 23693.008 | AM35: =J35+N35+R35+V35+Z35+AD35+AH35 -> 19756.008
A36: Kommunikációs szolgáltatások (K32) | C36: =+C34+C35 -> 13055 | D36: =+D34+D35 -> 13055 | E36: 13431.421 | F36: =+F35+F34 -> 13055 | G36: =+G34+G35 -> 60451 | H36: =+H34+H35 -> 60451 | I36: 98235.052 | J36: 60450.757 | K36: =+K34+K35 -> 14913 | L36: =+L34+L35 -> 15913 | M36: 16480.529 | N36: 14913 | O36: =+O34+O35 -> 27590 | P36: =+P34+P35 -> 27590 | Q36: 11410.229 | R36: 27590 | S36: =+S34+S35 -> 3000 | T36: =+T34+T35 -> 3000 | U36: 2043.169 | V36: 3000 | W36: =+W34+W35 -> 1800 | X36: =+X34+X35 -> 1800 | Y36: 1318.574 | Z36: 1800 | AA36: =+AA34+AA35 -> 6844 | AB36: =+AB34+AB35 -> 6844 | AC36: 3901.914 | AD36: 6844 | AE36: =+AE34+AE35 -> 540 | AF36: =+AF34+AF35 -> 540 | AG36: 305.337 | AH36: 540 | AI36: =C36+G36+K36+O36+S36+W36+AA36+AE36 -> 128193 | AJ36: =D36+H36+L36+P36+T36+X36+AB36+AF36 -> 129193 | AK36: =E36+I36+M36+Q36+U36+Y36+AC36+AG36 -> 147126.22 | AL36: =F36+J36+N36+R36+V36+Z36+AD36+AH36 -> 128192.76 | AM36: =J36+N36+R36+V36+Z36+AD36+AH36 -> 115137.76
