Workbook
Name _1999._Évi_felhalmozási_és_felújítási_kiadások: "$#HIV!.$A$29:$E$29"
Name Excel_BuiltIn_Print_Area_1: "$#HIV!.$A$2:$C$155"
Name Excel_BuiltIn_Print_Area_10: "$#HIV!.$B$1:$G$95"
Name Excel_BuiltIn_Print_Area_11: "$#HIV!.$B$2:$H$40"
Name Excel_BuiltIn_Print_Area_12: "$#HIV!.$B$1:$E$25"
Name Excel_BuiltIn_Print_Area_13: "$#HIV!.$A$7:$E$53"
Name Excel_BuiltIn_Print_Area_14: "$#HIV!.$A$1:$M$59"
Name Excel_BuiltIn_Print_Area_15: "$#HIV!.$E$1:$F$98"
Name Excel_BuiltIn_Print_Area_16: "$#HIV!.$A$1:$D$139"
Name Excel_BuiltIn_Print_Area_2: "$#HIV!.$D$2:$H$55"
Name Excel_BuiltIn_Print_Area_3: "$#HIV!.$A$1:$F$131"
Name Excel_BuiltIn_Print_Area_4: "$#HIV!.$A$1:$F$115"
Name Excel_BuiltIn_Print_Area_5: "$#HIV!.$A$2:$B$22"
Name Excel_BuiltIn_Print_Area_6: "$#HIV!.$A$2:$C$143"
Name Excel_BuiltIn_Print_Area_7: "$#HIV!.$A$2:$C$143"
Name Excel_BuiltIn_Print_Area_8: "$#HIV!.$A$1:$I$144"
Name Excel_BuiltIn_Print_Area_9: "$#HIV!.$A$1:$H$98"
Name Excel_BuiltIn_Print_Titles_1: "$#HIV!.$A$2:$IQ$2"
Name Excel_BuiltIn_Print_Titles_10: "$#HIV!.$A$1:$IT$2"
Name Excel_BuiltIn_Print_Titles_14: "$#HIV!.$A$61:$IU$61"
Name Excel_BuiltIn_Print_Titles_19: "$#HIV!.$A$1:$IV$1"
Name Excel_BuiltIn_Print_Titles_2: "$Összesítő.$#HIV!$1:$#HIV!$31999"
Name Excel_BuiltIn_Print_Titles_21: "$#HIV!.$A$1:$IV$2"
Name Excel_BuiltIn_Print_Titles_4: "$#HIV!.$A$2:$IV$4"
Name Excel_BuiltIn_Print_Titles_6: "$#HIV!.$A$2:$II$3"
Name Excel_BuiltIn_Print_Titles_7: "$#HIV!.$A$2:$IR$3"
Name Excel_BuiltIn_Print_Titles_8: "$#HIV!.$A$2:$IS$3"
Name Excel_BuiltIn_Print_Titles_9: "$#HIV!.$A$1:$IT$2"
Name NEMKELL: [1]Bóbita!$A:$B,[1]Bóbita!$1:$1
Name Print_Titles_1: [2]Bóbita!$A$1:$B$65536,[2]Bóbita!$A$1:$IV$1
Name Print_Titles_1: [3]Bóbita!$A$1:$B$65536,[3]Bóbita!$A$1:$IV$1
Name Print_Titles_1: [4]Bóbita!$A:$B,[4]Bóbita!$1:$1
Name Print_Titles_1: [1]Bóbita!$A:$B,[1]Bóbita!$1:$1
Name Print_Titles_1: [1]Bóbita!$A:$B,[1]Bóbita!$1:$1
Name Print_Titles_1: [1]Bóbita!$A:$B,[1]Bóbita!$1:$1
Name Print_Titles_1: [3]Bóbita!$A:$B,[3]Bóbita!$1:$1

Sheet Támogatások részletezve
A1: Támogatások
B2: Támogatások | D2: módosítás
A3: K506 | B3: Műküdési célú támogatások ÁHT-n belül
B4: BRFK | C4: 16000
B5: Közép-Budai Tankerület fejlesztésre | C5: 20000
B6: Közép-Budai Tankerület gyógypedgógusok bére | C6: 30000
B7: SNI-s gyermekek óvodai ellátása | C7: 20000
B8: Sérült gyermekek napközi otthoni ellátása | C8: 2000
B9: Gyermekek átmeneti otthoni ellátása | C9: 4725
B10: nemzetiségi önkormányzatok | C10: 5000
B11: összesen | C11: =SUM(C4:C10) -> 97725
A13: K510 | B13: Kamattámogatások | C13: 4500
A15: K512 | B15: Műküdési célú támogatások ÁHT-n kívül
B16: 4 közalapítvány | C16: 40000
B17: Márai Sándor Kulturális Közalapítvány, 1944-1945. ostromnapló kiadásának támogatása | C17: 3770
B18: Aknázómoly elleni védekezés (lakossági támogatás) | C18: 500
B19: alapítványok, egyesületek | C19: 56000
B20: Budapest Film Zrt | C20: 3000
B21: Budavári Kulturális Nonprofit Kft | C21: 264574
B22: Budavári Lakásügynökség Nonprofit Kft | C22: 50638
B23: BUJSz Nonprofit Kft | C23: 294000
B24: Bursa Hungarica | C24: 5000
B25: Családi bölcsőde támogatása | C25: 5100
B26: Egyházak támogatása | C26: 10000
B27: Fiatalházasok lakásépítési támogatása | C27: 5000
B28: Hajléktalanok támogatása MMSzSz | C28: =10000+1500 -> 11500 | D28: 2431
B29: I. kerületi Házgondnoksági Kft | C29: =-4000+4000 -> 0
B30: Kertszépítés pályázat 2021 | C30: 1775
B31: Kertszépítés pályázat 2022 | C31: =-15000+30000 -> 15000
B32: Klimapályázat iskolásoknak | C32: 1000
B33: Lakosságnak bokrétafák injektálása, permetezése | C33: 2000
B34: Nyári tábor | C34: 20000
B35: Polgárőr, Önkéntes Tűzoltóság támogfatása | C35: =-1000+4000 -> 3000
B36: Részvételi keret | C36: 10000
B37: Társasházak hiteltámogatása | C37: 4000
B38: Oltóanyag támogatás lakosságnak | C38: 5000
B39: Zöldfal pályázat 2022 | C39: =-30000+50000 -> 20000
B40: Kerékpárvásárlási támogatás fiataloknak
B41: Katasztrofavédelmi támogatás
B42: összesen | C42: =SUM(C16:C41) -> 830857
A43: K89
B44: Energiahatékonysági pályázat 2021 | C44: 4791
B45: Energiahatékonysági pályázat 2022 | C45: =-15000+30000 -> 15000
B46: összesen | C46: =SUM(C44:C45) -> 19791
C49: =+C42+C11+C13+C46 -> 952873

Sheet 1. mérleg 2020-2022
A1: BUDAPEST I. KERÜLET BUDAVÁRI ÖNKORMÁNYZAT ÖSSZEVONT KÖLTSÉGVETÉSI MÉRLEGE KÖZGAZDASÁGI TAGOLÁSBAN
A2: BUDAPEST I. KERÜLET BUDAVÁRI ÖNKORMÁNYZAT ÉS INTÉZMÉNYEI ÖSSZEVONT BEVÉTELEI ÉS KIADÁSAI (eFt)
A3: BEVÉTELEK | D3: 2020. évi teljesítés | E3: 2021. évi eredeti előirányzat | F3: 2021. évi módosított előirányzat | G3: 2021. évi várható teljesítés | H3: 2022. évi tervezett előirányzat | I3: KIADÁSOK | L3: 2020. évi teljesítés | M3: 2021. évi eredeti előirányzat | N3: 2021. évi módosított előirányzat | O3: 2021. évi várható teljesítés | P3: 2022. évi tervezett előirányzat
A4: Költségvetési bevételek | D4: =D5+D11 -> 10479546 | E4: =E5+E11 -> 9813848 | F4: =F5+F11 -> 9836164 | G4: =G5+G11 -> 9041845.8 | H4: =H5+H11 -> 9813847.5 | I4: Költségvetési kiadások | L4: =L5+L11 -> 10744846 | M4: =M5+M11 -> 15456663 | N4: =N5+N11 -> 15478978 | O4: =O5+O11 -> 10396843 | P4: =P5+P11 -> 18783981
B5: Működési bevételek | D5: =SUM(D6:D9) -> 8558563 | E5: =SUM(E6:E9) -> 8367384 | F5: =SUM(F6:F9) -> 8389700 | G5: =SUM(G6:G9) -> 8189629.5 | H5: =SUM(H6:H9) -> 8367383.5 | J5: Működési kiadások | L5: =SUM(L6:L10) -> 8409966 | M5: =SUM(M6:M10) -> 12963788 | N5: =SUM(N6:N10) -> 12981903 | O5: =SUM(O6:O10) -> 8736747.9 | P5: =SUM(P6:P10) -> 16291105
B6: B1 | C6: Működési célú támogatások államháztartáson belülről | D6: 2042199 | E6: =+'2. bevételek'!AI47 -> 2307617 | F6: =+'2. bevételek'!AJ47 -> 2329933 | G6: =+'2. bevételek'!AK47 -> 2272473.1 | H6: =+'2. bevételek'!AL47 -> 2307616.5 | J6: K1 | K6: Személyi juttatások | L6: 2781337 | M6: =+'3. kiadások'!AI22 -> 3891562 | N6: =+'3. kiadások'!AJ22 -> 3891562 | O6: =+'3. kiadások'!AK22 -> 3113213 | P6: =+'3. kiadások'!AL22 -> 3891562.3
B7: B3 | C7: Közhatalmi bevételek | D7: 2756655 | E7: =+'2. bevételek'!AI186 -> 2991479 | F7: =+'2. bevételek'!AJ186 -> 2991479 | G7: =+'2. bevételek'!AK186 -> 2965515.8 | H7: =+'2. bevételek'!AL186 -> 2991479 | J7: K2 | K7: Munkaadókat terhelő adók, járulékok | L7: 484275 | M7: =+'3. kiadások'!AI23 -> 564245 | N7: =+'3. kiadások'!AJ23 -> 564245 | O7: =+'3. kiadások'!AK23 -> 484530.98 | P7: =+'3. kiadások'!AL22 -> 3891562.3
B8: B4 | C8: Működési bevételek | D8: 3748659 | E8: =+'2. bevételek'!AI222 -> 3068288 | F8: =+'2. bevételek'!AJ222 -> 3068288 | G8: =+'2. bevételek'!AK222 -> 2935985.3 | H8: =+'2. bevételek'!AL222 -> 3068288 | J8: K3 | K8: Dologi kiadások | L8: 4658994 | M8: =+'3. kiadások'!AI59 -> 5500567 | N8: =+'3. kiadások'!AJ59 -> 5565759 | O8: =+'3. kiadások'!AK59 -> 4047634.2 | P8: =+'3. kiadások'!AL59 -> 5500566.9
B9: B6 | C9: Működési célú átvett pénzeszközök | D9: 11050 | E9: =+'2. bevételek'!AI257 -> 0 | F9: =+'2. bevételek'!AJ257 -> 0 | G9: =+'2. bevételek'!AK257 -> 15655.294 | H9: =+'2. bevételek'!AL257 -> 0 | J9: K4 | K9: Ellátottak pénzbeli juttatásai | L9: 107568 | M9: =+'3. kiadások'!AI123 -> 186500 | N9: =+'3. kiadások'!AJ123 -> 186500 | O9: =+'3. kiadások'!AK123 -> 142717.08 | P9: =+'3. kiadások'!AL123 -> 186500
J10: K5 | K10: Egyéb működési célú kiadások | L10: 377792 | M10: =+'3. kiadások'!AI195 -> 2820914 | N10: =+'3. kiadások'!AJ195 -> 2773837 | O10: =+'3. kiadások'!AK195 -> 948652.59 | P10: =+'3. kiadások'!AL195 -> 2820913.7
B11: Felhalmozási bevételek | D11: =SUM(D12:D14) -> 1920983 | E11: =SUM(E12:E14) -> 1446464 | F11: =SUM(F12:F14) -> 1446464 | G11: =SUM(G12:G14) -> 852216.28 | H11: =SUM(H12:H14) -> 1446464 | J11: Felhalmozási kiadások | L11: =SUM(L12:L14) -> 2334880 | M11: =SUM(M12:M14) -> 2492875 | N11: =SUM(N12:N14) -> 2497075 | O11: =SUM(O12:O14) -> 1660095.5 | P11: =SUM(P12:P14) -> 2492875.3
B12: B2 | C12: Felhalmozási célú támogatások államháztartáson belülről | D12: 1067000 | E12: =+'2. bevételek'!AI83 -> 87464 | F12: =+'2. bevételek'!AJ83 -> 87464 | G12: =+'2. bevételek'!AK83 -> 0 | H12: =+'2. bevételek'!AL83 -> 87464 | J12: K6 | K12: Beruházások | L12: 1758252 | M12: =+'3. kiadások'!AI205 -> 1007058 | N12: =+'3. kiadások'!AJ205 -> 1011258 | O12: =+'3. kiadások'!AK205 -> 850042.49 | P12: =+'3. kiadások'!AL205 -> 1007058.1
B13: B5 | C13: Felhalmozási bevételek | D13: 847769 | E13: =+'2. bevételek'!AI231 -> 1350000 | F13: =+'2. bevételek'!AJ231 -> 1350000 | G13: =+'2. bevételek'!AK231 -> 753004.55 | H13: =+'2. bevételek'!AL231 -> 1350000 | J13: K7 | K13: Felújítások | L13: 519089 | M13: =+'3. kiadások'!AI210 -> 1266025 | N13: =+'3. kiadások'!AJ210 -> 1266025 | O13: =+'3. kiadások'!AK210 -> 721306.58 | P13: =+'3. kiadások'!AL210 -> 1266024.9
B14: B7 | C14: Felhalmozási célú átvett pénzeszközök | D14: 6214 | E14: =+'2. bevételek'!AI283 -> 9000 | F14: =+'2. bevételek'!AJ283 -> 9000 | G14: =+'2. bevételek'!AK283 -> 99211.733 | H14: =+'2. bevételek'!AL283 -> 9000 | J14: K8 | K14: Egyéb felhalmozási célú kiadások | L14: 57539 | M14: =+'3. kiadások'!AI272 -> 219792 | N14: =+'3. kiadások'!AJ272 -> 219792 | O14: =+'3. kiadások'!AK272 -> 88746.438 | P14: =+'3. kiadások'!AL272 -> 219792.26
A15: Finanszírozási bevételek (B8) | D15: =SUM(D22:D23,D16) -> 17838398 | E15: =SUM(E22:E23,E16) -> 15636850 | F15: =SUM(F22:F23,F16) -> 16926193 | G15: =SUM(G22:G23,G16) -> 16763665 | H15: =SUM(H22:H23,H16) -> 11395820 | I15: Finanszírozási kiadások (K9) | L15: =SUM(L22:L23,L16) -> 11098445 | M15: =SUM(M22:M23,M16) -> 4601631 | N15: =SUM(N22:N23,N16) -> 4601631 | O15: =SUM(O22:O23,O16) -> 5321830 | P15: =SUM(P22:P23,P16) -> 4601631
B16: B81 | C16: Belföldi finanszírozás bevételei | D16: =SUM(D17:D20) -> 17838398 | E16: 15636850 | F16: 16926193 | G16: =SUM(G17:G20) -> 16763665 | H16: =SUM(H18:H21) -> 11395820 | J16: K91 | K16: Belföldi finanszírozás kiadásai | L16: =SUM(L17:L20) -> 11098445 | M16: =SUM(M17:M19) -> 4601631 | N16: =SUM(N17:N19) -> 4601631 | O16: =SUM(O17:O19) -> 5321830 | P16: =SUM(P17:P19) -> 4601631
C17: ebből: belföldi értékpapírok bevételei | D17: 8114016 | E17: 4757910 | F17: 4757910 | G17: 4757910 | K17: ebből: belföldi értékpapírok kiadásai | L17: 5557910 | M17: =+'3. kiadások'!C292 -> 0 | N17: 0 | O17: 0
C18: ebből: maradvány igénybevétele | D18: 4176278 | E18: =+'2. bevételek'!AI296 -> 4254190 | F18: =+'2. bevételek'!AJ296 -> 4254190 | G18: =+'2. bevételek'!AK296 -> 6458425 | H18: =+'2. bevételek'!AL298 -> 4254190
C19: ebből: központi, irányító szervi támogatások folyósítása | D19: 5495500 | E19: =+'2. bevételek'!AI301 -> 4601630.5 | F19: =+'2. bevételek'!AJ301 -> 4601630.5 | G19: =+'2. bevételek'!AK301 -> 5224616 | H19: =+'2. bevételek'!AL301 -> 4601630.5 | K19: ebből: központi, irányító szervi támogatások folyósítása | L19: 5495500 | M19: =+'3. kiadások'!AI295 -> 4601631 | N19: =+'3. kiadások'!AJ295 -> 4601631 | O19: =+'3. kiadások'!AK295 -> 5321830 | P19: =+'3. kiadások'!AL295 -> 4601631
C20: Államháztartáson belüli megelőlegezések | D20: 52604 | E20: 0 | G20: 322714 | K20: Államháztartáson belüli megelőlegezések visszafizetése | L20: 45035 | M20: 22000 | N20: 372000 | O20: 375319
C21: betét velhasználása | H21: =+'2. bevételek'!AL302 -> 2540000 | K21: betét lekötése | N21: =+'3. kiadások'!D296 -> 1100000 | O21: 2500000
B22: B82 | C22: Külföldi finanszírozás bevételei | H22: ='[5]2. melléklet'!K313 -> 0 | J22: K92 | K22: Külföldi finanszírozás kiadásai | P22: 0
B23: B84 | C23: Váltóbevételek | H23: ='[5]2. melléklet'!K315 -> 0 | J23: K94 | K23: Váltókiadások | P23: 0
C24: Irányító szerv tám nélküli finansz bevétel (Belf.fin-Kpi tám) | E24: =E16-E17 -> 10878940 | F24: =+F16-F19 -> 12324562 | G24: =G16-G17 -> 12005755 | H24: =H16-H19 -> 6794190 | K24: Irányító szerv tám nélküli finansz kiadás (Belf.fin-Kpi tám) | P24: =P16-P18 -> 4601631
A25: BEVÉTELEK MINDÖSSZESEN | D25: =D4+D15 -> 28317944 | E25: =E4+E15 -> 25450698 | F25: =F4+F15 -> 26762357 | G25: =G4+G15 -> 25805511 | H25: =H4+H15+1 -> 21209669 | I25: KIADÁSOK MINDÖSSZESEN | L25: =L4+L15 -> 21843291 | M25: =M4+M15 -> 20058294 | N25: =N4+N15 -> 20080609 | O25: =O4+O15 -> 15718673 | P25: =P4+P15 -> 23385612
A26: Belső intézményi finanszírozás korrekciója (intézményfinanszírozás) | D26: =D19*-1 -> -5495500 | E26: =E19*-1 -> -4601630.5 | F26: =F19*-1 -> -4601630.5 | G26: =G19*-1 -> -5224616 | H26: =H19*-1 -> -4601630.5 | I26: Belső intézményi finanszírozás korrekciója | L26: =L19*-1 -> -5495500 | M26: =M19*-1 -> -4601631 | N26: =N19*-1 -> -4601631 | O26: =O19*-1 -> -5321830 | P26: =P19*-1 -> -4601631
A27: KONSZOLIDÁLT BEVÉTELEK | D27: =D25+D26 -> 22822444 | E27: =E25+E26 -> 20849068 | F27: =F25+F26 -> 22160726 | G27: =G25+G26 -> 20580895 | H27: =H25+H26-1 -> 16608038 | I27: KONSZOLIDÁLT KIADÁSOK | L27: =L25+L26 -> 16347791 | M27: =M25+M26 -> 15456663 | N27: =N25+N26 -> 15478978 | O27: =O25+O26 -> 10396843 | P27: =P25+P26 -> 18783981
A28: BEVÉTELEK ÉS KIADÁSOK EGYENLEGE
A29: Költségvetési egyenleg | D29: =SUM(D30:D31) -> -265300 | E29: =SUM(E30:E31) -> -5642815 | F29: =SUM(F30:F31) -> -5642814 | G29: =SUM(G30:G31) -> -1354997.7 | H29: =SUM(H30:H31) -> -8970133
B30: Működési egyenleg | D30: =+D5-L5 -> 148597 | E30: =+E5-M5 -> -4596404 | F30: =+F5-N5 -> -4592203 | G30: =+G5-O5 -> -547118.43 | H30: =+H5-P5 -> -7923721.7
B31: Felhalmozási egyenleg | D31: =+D11-L11 -> -413897 | E31: =+E11-M11 -> -1046411 | F31: =+F11-N11 -> -1050611 | G31: =+G11-O11 -> -807879.23 | H31: =+H11-P11 -> -1046411.3
A32: Finanszírozási egyenleg | D32: =D15-L15 -> 6739953 | E32: =E15-M15 -> 11035219 | F32: =F15-N15 -> 12324562 | G32: =G15-O15 -> 11441835 | H32: =H15-P15 -> 6794189.5
A33: EGYENLEG MINDÖSSZESEN | D33: =D32+D29 -> 6474653 | E33: =E32+E29+1 -> 5392405 | F33: =F32+F29 -> 6681748 | G33: =G32+G29 -> 10086837 | H33: =H32+H29 -> -2175943.5

Sheet 1. mell.-mérleg
A1: BUDAPEST I. KERÜLET BUDAVÁRI ÖNKORMÁNYZAT 2022. ÉVI ÖSSZEVONT KÖLTSÉGVETÉSI MÉRLEGE KÖZGAZDASÁGI TAGOLÁSBAN
A2: BUDAPEST I. KERÜLET BUDAVÁRI ÖNKORMÁNYZAT ÉS INTÉZMÉNYEI ÖSSZEVONT BEVÉTELEI ÉS KIADÁSAI (eFt)
A3: BEVÉTELEK | D3: 2022. évi eredeti előirányzat | E3: 2022. évi módosított előirányzat | F3: KIADÁSOK | I3: 2022. évi eredeti előirányzat | J3: 2022. évi módosított előirányzat
A4: Költségvetési bevételek | D4: =D5+D13 -> 9813848 | E4: =E5+E13 -> 9836164 | F4: Költségvetési kiadások | I4: =I5+I13 -> 15456662 | J4: =J5+J13 -> 15478978
B5: Működési bevételek | D5: =SUM(D6:D9) -> 8367384 | E5: =SUM(E6:E9) -> 8389700 | G5: Működési kiadások | I5: =SUM(I6:I10)-1 -> 12963787 | J5: =SUM(J6:J10) -> 12981903 | K5: =+J5-I5 -> 18116
B6: B1 | C6: Működési célú támogatások államháztartáson belülről | D6: =+'2. bevételek'!AI47 -> 2307617 | E6: =+'2. bevételek'!AJ47 -> 2329933 | G6: K1 | H6: Személyi juttatások | I6: =+'3. kiadások'!AI22 -> 3891562 | J6: =+'3. kiadások'!AJ22 -> 3891562
B7: B3 | C7: Közhatalmi bevételek | D7: =+'2. bevételek'!AI186 -> 2991479 | E7: =+'2. bevételek'!AJ186 -> 2991479 | G7: K2 | H7: Munkaadót terhelő járulékok | I7: =+'3. kiadások'!AI23 -> 564245 | J7: =+'3. kiadások'!AJ23 -> 564245
B8: B4 | C8: Működési bevételek | D8: =+'2. bevételek'!AI222 -> 3068288 | E8: =+'2. bevételek'!AJ222 -> 3068288 | G8: K3 | H8: Dologi kiadások | I8: =+'3. kiadások'!AI59 -> 5500567 | J8: =+'3. kiadások'!AJ59 -> 5565759
B9: B6 | C9: Működési célú átvett pénzeszközök | D9: =+'2. bevételek'!AI257 -> 0 | E9: =+'2. bevételek'!AJ257 -> 0 | G9: K4 | H9: Ellátottak pénzbeli juttatásai | I9: =+'3. kiadások'!AI123 -> 186500 | J9: =+'3. kiadások'!AJ123 -> 186500
G10: K5 | H10: Egyéb működési célú kiadások | I10: =+'3. kiadások'!AI195 -> 2820914 | J10: =+'3. kiadások'!AJ195 -> 2773837
H11: ebből: általános tartalék | I11: =+'5 melléklet'!C3 -> 140000 | J11: =+'5 melléklet'!E3 -> 94792
H12: ebből: céltartalék | I12: =+'5 melléklet'!C4 -> 1325753.7 | J12: =+'5 melléklet'!E4 -> 1261454
B13: Felhalmozási bevételek | D13: =SUM(D14:D16) -> 1446464 | E13: =SUM(E14:E16) -> 1446464 | G13: Felhalmozási kiadások | I13: =SUM(I14:I16) -> 2492875 | J13: =SUM(J14:J16) -> 2497075 | K13: =+J13-I13 -> 4200
B14: B2 | C14: Felhalmozási célú támogatások államháztartáson belülről | D14: =+'2. bevételek'!AI79 -> 87464 | E14: =+'2. bevételek'!AJ79 -> 87464 | G14: K6 | H14: Beruházások | I14: =+'3. kiadások'!AI205 -> 1007058 | J14: =+'3. kiadások'!AJ205 -> 1011258
B15: B5 | C15: Felhalmozási bevételek | D15: =+'2. bevételek'!AI231 -> 1350000 | E15: =+'2. bevételek'!AJ231 -> 1350000 | G15: K7 | H15: Felújítások | I15: =+'3. kiadások'!AI210 -> 1266025 | J15: =+'3. kiadások'!AJ210 -> 1266025
B16: B7 | C16: Felhalmozási célú átvett pénzeszközök | D16: =+'2. bevételek'!AI283 -> 9000 | E16: =+'2. bevételek'!AJ283 -> 9000 | G16: K8 | H16: Egyéb felhalmozási célú kiadások | I16: =+'3. kiadások'!AI272 -> 219792 | J16: =+'3. kiadások'!AJ272 -> 219792
A17: Finanszírozási bevételek (B8) | D17: =SUM(D23:D24,D18) -> 11395820 | E17: =SUM(E23:E24,E18) -> 11512674 | F17: Finanszírozási kiadások (K9) | I17: =SUM(I23:I24,I18) -> 5753007 | J17: =SUM(J23:J24,J18) -> 5869861 | K17: =+J17-I17 -> 116854
B18: B81 | C18: Belföldi finanszírozás bevételei | D18: =+'2. bevételek'!AI308 -> 11395820 | E18: =+'2. bevételek'!AJ308 -> 11512674 | G18: K91 | H18: Belföldi finanszírozás kiadásai | I18: =+'3. kiadások'!AI303 -> 5753007 | J18: =+'3. kiadások'!AJ303 -> 5869861
C19: ebből: központi, irányító szervi támogatások folyósítása | D19: =+'2. bevételek'!AI301 -> 4601630.5 | E19: =+'2. bevételek'!AJ301 -> 4601630.5 | H19: ebből: központi, irányító szervi támogatások folyósítása | I19: =+'3. kiadások'!AI295 -> 4601631 | J19: =+'3. kiadások'!AJ295 -> 4601631
C20: ebből: belföldi értékpapírok bevételei | D20: 0 | E20: 0 | H20: ebből: belföldi értékpapírok kiadásai
C21: ebből: maradvány igénybevétele | D21: =+'2. bevételek'!AI296 -> 4254190 | E21: =+'2. bevételek'!AJ296 -> 4254190 | H21: ebből: betét lekötés | I21: =+'3. kiadások'!AI296 -> 1100000 | J21: =+'3. kiadások'!AJ296 -> 1100000
C22: ebből: betét megszüntetése | D22: =+'2. bevételek'!AI302 -> 2540000 | E22: =+'2. bevételek'!AJ302 -> 2540000 | H22: Államháztartáson belüli megelőlegezések visszafizetése | I22: =+'3. kiadások'!AI294 -> 51376 | J22: =+'3. kiadások'!AJ294 -> 168230
B23: B82 | C23: Külföldi finanszírozás bevételei | D23: 0 | G23: K92 | H23: Külföldi finanszírozás kiadásai | I23: 0 | J23: 0
B24: B83 | C24: Adóssághoz nem kapcsolódó származékos ügyletek bevételei előirányzata | D24: 0 | G24: K93 | H24: Adóssághoz nem kapcsolódó származékos ügyletek kiadásai | I24: 0 | J24: 0
C25: Irányító szerv tám nélküli finansz bevétel (Belf.fin-Kpi tám) | D25: =D18-D19 -> 6794190 | E25: =E18-E19 -> 6911044 | H25: Irányító szerv tám nélküli finansz kiadás (Belf.fin-Kpi tám) | I25: =I18-I19 -> 1151376 | J25: =J18-J19 -> 1268230
A26: BEVÉTELEK MINDÖSSZESEN | D26: =D4+D17 -> 21209668 | E26: =E4+E17 -> 21348838 | F26: KIADÁSOK MINDÖSSZESEN | I26: =I4+I17 -> 21209669 | J26: =J4+J17 -> 21348839
A27: Belső intézményi finanszírozás korrekciója (intézményfinanszírozás) | D27: =D19*-1 -> -4601630.5 | E27: =E19*-1 -> -4601630.5 | F27: Belső intézményi finanszírozás korrekciója | I27: =I19*-1 -> -4601631 | J27: =J19*-1 -> -4601631
A28: KONSZOLIDÁLT BEVÉTELEK | D28: =D26+D27 -> 16608038 | E28: =E26+E27 -> 16747208 | F28: KONSZOLIDÁLT KIADÁSOK | I28: =I26+I27 -> 16608038 | J28: =J26+J27 -> 16747208 | K28: =+J28-I28 -> 139170
A29: BEVÉTELEK ÉS KIADÁSOK EGYENLEGE
A30: Költségvetési egyenleg | D30: =+D4-I4 -> -5642814 | E30: =+E4-J4 -> -5642814
B31: Működési egyenleg | D31: =+D5-I5 -> -4596403 | E31: =+E5-J5 -> -4592203
B32: Felhalmozási egyenleg | D32: =+D13-I13 -> -1046411 | E32: =+E13-J13 -> -1050611
A33: Finanszírozási egyenleg | D33: =+D17-I17 -> 5642813.5 | E33: =+E17-J17 -> 5642813.5
A34: EGYENLEG MINDÖSSZESEN | D34: 0 | E34: 0
A35: BUDAPEST I. KERÜLET BUDAVÁRI ÖNKORMÁNYZAT ÖNKORMÁNYZAT BEVÉTELEI ÉS KIADÁSAI
A36: BEVÉTELEK | D36: 2022. évi eredeti előirányzat | E36: 2022. évi módosított előirányzat | F36: KIADÁSOK | I36: 2022. évi eredeti előirányzat | J36: 2022. évi módosított előirányzat
A37: Költségvetési bevételek | D37: =D38+D46 -> 7609067 | E37: =E38+E46 -> 7631383 | F37: Költségvetési kiadások | I37: =I38+I46 -> 6934860 | J37: =J38+J46 -> 6957176
B38: Működési bevételek | D38: =SUM(D39:D42) -> 6162603 | E38: =SUM(E39:E42) -> 6184919 | G38: Működési kiadások | I38: =SUM(I39:I43) -> 5423632 | J38: =SUM(J39:J43) -> 5441748
B39: B1 | C39: Működési célú támogatások államháztartáson belülről | D39: =+'2. bevételek'!C11 -> 1442617 | E39: =+'2. bevételek'!D11 -> 1464933 | G39: K1 | H39: Személyi juttatások | I39: =+'3. kiadások'!C22 -> 205379 | J39: =+'3. kiadások'!D22 -> 205379
B40: B3 | C40: Közhatalmi bevételek | D40: =+'2. bevételek'!C186 -> 2991479 | E40: =+'2. bevételek'!D186 -> 2991479 | G40: K2 | H40: Munkaadót terhelő járulékok | I40: =+'3. kiadások'!C23 -> 30710 | J40: =+'3. kiadások'!D23 -> 30710
B41: B4 | C41: Működési bevételek | D41: =+'2. bevételek'!C222 -> 1728507 | E41: =+'2. bevételek'!D222 -> 1728507 | G41: K3 | H41: Dologi kiadások | I41: =+'3. kiadások'!C59 -> 2180129 | J41: =+'3. kiadások'!D59 -> 2245322
B42: B6 | C42: Működési célú átvett pénzeszközök | D42: =+'2. bevételek'!C257 -> 0 | E42: =+'2. bevételek'!D257 -> 0 | G42: K4 | H42: Ellátottak pénzbeli juttatásai | I42: =+'3. kiadások'!C123 -> 186500 | J42: =+'3. kiadások'!D123 -> 186500
G43: K5 | H43: Egyéb működési célú kiadások | I43: =+'3. kiadások'!C195 -> 2820914 | J43: =+'3. kiadások'!D195 -> 2773837
H44: ebből: általános tartalék | I44: =+'3. kiadások'!C193 -> 140000 | J44: =+'3. kiadások'!D193 -> 94792
H45: ebből: céltartalék | I45: =+'3. kiadások'!C194 -> 1325754 | J45: =+'3. kiadások'!D194 -> 1261454
B46: Felhalmozási bevételek | D46: =SUM(D47:D49) -> 1446464 | E46: =SUM(E47:E49) -> 1446464 | G46: Felhalmozási kiadások | I46: =SUM(I47:I49) -> 1511228 | J46: =SUM(J47:J49) -> 1515428
B47: B2 | C47: Felhalmozási célú támogatások államháztartáson belülről | D47: =+'2. bevételek'!C83 -> 87464 | E47: =+'2. bevételek'!D83 -> 87464 | G47: K6 | H47: Beruházások | I47: =+'3. kiadások'!C205 -> 701034 | J47: =+'3. kiadások'!D205 -> 705234
B48: B5 | C48: Felhalmozási bevételek | D48: =+'2. bevételek'!C231 -> 1350000 | E48: =+'2. bevételek'!D231 -> 1350000 | G48: K7 | H48: Felújítások | I48: =+'3. kiadások'!C210 -> 590402 | J48: =+'3. kiadások'!D210 -> 590402
B49: B7 | C49: Felhalmozási célú átvett pénzeszközök | D49: =+'2. bevételek'!C283 -> 9000 | E49: =+'2. bevételek'!D283 -> 9000 | G49: K8 | H49: Egyéb felhalmozási célú kiadások | I49: =+'3. kiadások'!C272 -> 219792 | J49: =+'3. kiadások'!D272 -> 219792
A50: Finanszírozási bevételek (B8) | D50: =SUM(D54:D56,D51) -> 5078800 | E50: =SUM(E54:E56,E51) -> 5078800 | F50: Finanszírozási kiadások (K9) | I50: =SUM(I54:I56,I51) -> 5753007 | J50: =SUM(J54:J56,J51) -> 5869861
B51: B81 | C51: Belföldi finanszírozás bevételei | D51: =+D53+D52 -> 5078800 | E51: =+E53+E52 -> 5078800 | G51: K91 | H51: Belföldi finanszírozás kiadásai | I51: =+'3. kiadások'!C314 -> 5753007 | J51: =+'3. kiadások'!D314 -> 5869861
C52: ebből: betét megszüntetése | D52: =+'2. bevételek'!C302 -> 2540000 | E52: =+'2. bevételek'!D302 -> 2540000 | H52: ebből: betét lekötés | I52: =+'3. kiadások'!C296 -> 1100000 | J52: =+'3. kiadások'!D296 -> 1100000
C53: ebből: maradvány igénybevétele | D53: =+'2. bevételek'!C296 -> 2538800 | E53: =+'2. bevételek'!D296 -> 2538800 | H53: ebből: központi, irányító szervi támogatások folyósítása | I53: =+'3. kiadások'!C295 -> 4601631 | J53: =+'3. kiadások'!D295 -> 4601631
B54: B82 | C54: Külföldi finanszírozás bevételei | D54: 0 | E54: 0 | G54: K92 | H54: Külföldi finanszírozás kiadásai | I54: 0 | J54: 0
B55: B83 | C55: Adóssághoz nem kapcsolódó származékos ügyletek bevételei előirányzata | G55: K93 | H55: Adóssághoz nem kapcsolódó származékos ügyletek kiadásai
B56: B84 | C56: Váltóbevételek | G56: K94 | H56: Váltókiadások
A57: BEVÉTELEK MINDÖSSZESEN | D57: =D37+D50 -> 12687867 | E57: =E37+E50 -> 12710183 | F57: KIADÁSOK MINDÖSSZESEN | I57: =I37+I50 -> 12687867 | J57: =J37+J50 -> 12827037 | K57: =+J57-I57 -> 139170
A58: BUDAPEST I. KERÜLET BUDAVÁRI ÖNKORMÁNYZAT INTÉZMÉNYEK BEVÉTELEI ÉS KIADÁSAI
A59: BEVÉTELEK | D59: 2022. évi eredeti előirányzat | E59: 2022. évi módosított előirányzat | F59: KIADÁSOK | I59: 2022. évi eredeti előirányzat | J59: 2022. évi módosított előirányzat
A60: Költségvetési bevételek | D60: =D61+D69 -> 2204781 | E60: =E61+E69 -> 2204781 | F60: Költségvetési kiadások | I60: =I61+I69 -> 8521802 | J60: =J61+J69 -> 8521802
B61: Működési bevételek | D61: =SUM(D62:D65) -> 2204781 | E61: =SUM(E62:E65) -> 2204781 | G61: Működési kiadások | I61: =SUM(I62:I66) -> 7540155 | J61: =SUM(J62:J66) -> 7540155
B62: B1 | C62: Működési célú támogatások államháztartáson belülről | D62: =+D6-D39 -> 865000 | E62: =+E6-E39 -> 865000 | G62: K1 | H62: Személyi juttatások | I62: =+I6-I39-1 -> 3686182 | J62: =+J6-J39 -> 3686183
B63: B3 | C63: Közhatalmi bevételek | D63: =+D7-D40 -> 0 | E63: =+E7-E40 -> 0 | G63: K2 | H63: Munkaadót terhelő járulékok | I63: =+I7-I40 -> 533535 | J63: =+J7-J40 -> 533535
B64: B4 | C64: Működési bevételek | D64: =+D8-D41 -> 1339781 | E64: =+E8-E41 -> 1339781 | G64: K3 | H64: Dologi kiadások | I64: =+I8-I41 -> 3320438 | J64: =+J8-J41 -> 3320437
B65: B6 | C65: Működési célú átvett pénzeszközök | D65: =+D9-D42 -> 0 | E65: =+E9-E42 -> 0 | G65: K4 | H65: Ellátottak pénzbeli juttatásai | I65: =+I9-I42 -> 0 | J65: =+J9-J42 -> 0
G66: K5 | H66: Egyéb működési célú kiadások | I66: =+I10-I43 -> 0 | J66: =+J10-J43 -> 0
H67: ebből: általános tartalék | I67: 0 | J67: 0
H68: ebből: céltartalék | I68: 0 | J68: 0
B69: Felhalmozási bevételek | D69: =SUM(D70:D72) -> 0 | E69: =SUM(E70:E72) -> 0 | G69: Felhalmozási kiadások | I69: =SUM(I70:I72) -> 981647 | J69: =SUM(J70:J72) -> 981647
B70: B2 | C70: Felhalmozási célú támogatások államháztartáson belülről | D70: =+D14-D47 -> 0 | E70: =+E14-E47 -> 0 | G70: K6 | H70: Beruházások | I70: =+I14-I47 -> 306024 | J70: =+J14-J47 -> 306024
B71: B5 | C71: Felhalmozási bevételek | D71: =+D15-D48 -> 0 | E71: =+E15-E48 -> 0 | G71: K7 | H71: Felújítások | I71: =+I15-I48 -> 675623 | J71: =+J15-J48 -> 675623
B72: B7 | C72: Felhalmozási célú átvett pénzeszközök | D72: =+D16-D49 -> 0 | E72: =+E16-E49 -> 0 | G72: K8 | H72: Egyéb felhalmozási célú kiadások | I72: =+I16-I49 -> 0 | J72: =+J16-J49 -> 0
A73: Finanszírozási bevételek (B8) | D73: =SUM(D77:D78,D74) -> 6317020.5 | E73: =SUM(E77:E78,E74) -> 6433874.5 | F73: Finanszírozási kiadások (K9) | I73: =SUM(I77:I78,I74) -> 0 | J73: =SUM(J77:J78,J74) -> 0
B74: B81 | C74: Belföldi finanszírozás bevételei | D74: =+D18-D51 -> 6317020.5 | E74: =+E18-E51 -> 6433874.5 | G74: K91 | H74: Belföldi finanszírozás kiadásai | I74: =+I18-I51 -> 0 | J74: =+J18-J51 -> 0
C75: ebből: irányító szervi támogatások folyasítása | D75: =+D19 -> 4601630.5 | E75: =+E19 -> 4601630.5 | H75: ebből: belföldi értékpapírok kiadásai | I75: 0 | J75: 0
C76: ebből: maradvány igénybevétele | D76: =+D21-D53 -> 1715390 | E76: =+E21-E53 -> 1715390 | H76: ebből: központi, irányító szervi támogatások folyósítása | I76: 0 | J76: 0
B77: B82 | C77: Külföldi finanszírozás bevételei | G77: K92 | H77: Külföldi finanszírozás kiadásai
B78: B83 | C78: Adóssághoz nem kapcsolódó származékos ügyletek bevételei előirányzata | G78: K93 | H78: Adóssághoz nem kapcsolódó származékos ügyletek kiadásai | I78: 0 | J78: 0
A79: BEVÉTELEK MINDÖSSZESEN | D79: =D60+D73 -> 8521801.5 | E79: =E60+E73 -> 8638655.5 | F79: KIADÁSOK MINDÖSSZESEN | I79: =I60+I73 -> 8521802 | J79: =J60+J73 -> 8521802 | K79: =+J79-I79 -> 0

Sheet 2. bevételek
B1: Kiemelt előirányzat | C1: BUDAPEST I. KERÜLET BUDAVÁRI ÖNKORMÁNYZAT | G1: BUDAPEST FŐVÁROS I. KERÜLET BUDAVÁRI POLGÁRMESTERI HIVATAL | K1: BUDAPEST I. KERÜLET BUDAVÁRI ÖNKORMÁNYZAT EGÉSZSÉGÜGYI SZOLGÁLATA | O1: BUDAPEST I. KERÜLET BUDAVÁRI ÖNKORMÁNYZAT GAZDASÁGI MŰSZAKI ELLÁTÓ ÉS SZOLGÁLTATÓ SZERVEZET | S1: BRUNKSZVIK TERÉZ BUDAVÁRI ÓVODÁK | W1: BUDAPEST I. KERÜLET BUDAVÁRI ÖNKORMÁNYZAT EGYESÍTETT BÖLCSŐDE | AA1: BUDAPEST I. KERÜLET BUDAVÁRI ÖNKORMÁNYZAT SZOCIÁLIS ÉS GYERMEKJÓLÉTI SZOLGÁLTATÁSI KÖZPONT | AE1: CZAKÓ UTCAI SPORT- ÉS SZABADIDŐKÖZPONT | AL1: ÖNKORMÁNYZAT ÖSSZESEN | AM1: HIVATAL és INTÉZMÉNYEK ÖSSZESEN
A2: Rovat megnevezése | C2: 2022. évi eredeti előirányzat | D2: 2022. évi módosított előirányzat | E2: 2021. várható teljesítés | F2: 2022. évi eredeti előirányzat | G2: 2022. évi eredeti előirányzat | H2: 2022. évi módosított előirányzat | I2: 2021. évi várható teljesítés | J2: 2022. évi eredeti előirányzat | K2: 2022. évi eredeti előirányzat | L2: 2022. évi módosított előirányzat | M2: 2021. évi várható teljesítés | N2: 2022. évi eredeti előirányzat | O2: 2022. évi eredeti előirányzat | P2: 2022. évi módosított előirányzat | Q2: 2021. évi várható teljesítés | R2: 2022. évi eredeti előirányzat | S2: 2022. évi eredeti előirányzat | T2: 2022. évi módosított előirányzat | U2: 2021. évi várható teljesítés | V2: 2022. évi eredeti előirányzat | W2: 2022. évi eredeti előirányzat | X2: 2022. évi módosított előirányzat | Y2: 2021. évi várható teljesítés | Z2: 2022. évi eredeti előirányzat | AA2: 2022. évi eredeti előirányzat | AB2: 2022. évi módosított előirányzat | AC2: 2021. évi várható teljesítés | AD2: 2022. évi eredeti előirányzat | AE2: 2022. évi eredeti előirányzat | AF2: 2022. évi módosított előirányzat | AG2: 2021. évi várható teljesítés | AH2: 2022. évi eredeti előirányzat | AI2: 2022. évi eredeti előirányzat | AJ2: 2022. évi módosított előirányzat | AL2: 2022. évi eredeti előirányzat | AM2: 2022. évi eredeti előirányzat
A3: Helyi önkormányzatok működésének általános támogatása (B111) | C3: 489913 | D3: 489913 | E3: 484301.02 | F3: 489912.92 | AI3: =C3+G3+K3+O3+S3+W3+AA3+AE3 -> 489913 | AJ3: =D3+H3+L3+P3+T3+X3+AB3+AF3 -> 489913 | AK3: =E3+I3+M3+Q3+U3+Y3+AC3+AG3 -> 484301.02 | AL3: =F3+J3+N3+R3+V3+Z3+AD3+AH3 -> 489912.92 | AM3: =J3+N3+R3+V3+Z3+AD3+AH3 -> 0
A4: Települési önkormányzatok egyes köznevelési feladatainak támogatása (B112) | C4: 417667 | D4: 417667 | E4: 383874.18 | F4: 417666.53 | AI4: =C4+G4+K4+O4+S4+W4+AA4+AE4 -> 417667 | AJ4: =D4+H4+L4+P4+T4+X4+AB4+AF4 -> 417667 | AK4: =E4+I4+M4+Q4+U4+Y4+AC4+AG4 -> 383874.18 | AL4: =F4+J4+N4+R4+V4+Z4+AD4+AH4 -> 417666.53 | AM4: =J4+N4+R4+V4+Z4+AD4+AH4 -> 0
A5: Települési önkormányzatok szociális, gyermekjóléti és gyermekétkeztetési feladatainak támogatása (B113) | C5: =+C6+C7 -> 520289 | D5: =+D6+D7 -> 542605 | E5: 500250.61 | F5: 520289.39 | J5: 0 | N5: 0 | R5: 0 | V5: 0 | Z5: 0 | AD5: 0 | AH5: 0 | AI5: =C5+G5+K5+O5+S5+W5+AA5+AE5 -> 520289 | AJ5: =D5+H5+L5+P5+T5+X5+AB5+AF5 -> 542605 | AK5: =E5+I5+M5+Q5+U5+Y5+AC5+AG5 -> 500250.61 | AL5: =F5+J5+N5+R5+V5+Z5+AD5+AH5 -> 520289.39 | AM5: =J5+N5+R5+V5+Z5+AD5+AH5 -> 0
A6: ebből: települési önkormányzatok egyes szociális és gyermekjóléti feladatainak támogatása (B1131) | C6: 379646 | D6: =379646+22316 -> 401962 | E6: 386217.78 | F6: 379646.31 | AI6: =C6+G6+K6+O6+S6+W6+AA6+AE6 -> 379646 | AJ6: =D6+H6+L6+P6+T6+X6+AB6+AF6 -> 401962 | AK6: =E6+I6+M6+Q6+U6+Y6+AC6+AG6 -> 386217.78 | AL6: =F6+J6+N6+R6+V6+Z6+AD6+AH6 -> 379646.31 | AM6: =J6+N6+R6+V6+Z6+AD6+AH6 -> 0
A7: ebből: települési önkormányzatok gyermekétkeztetési feladatainak támogatása (B1132) | C7: 140643 | D7: 140643 | E7: 114032.83 | F7: 140643.08 | AI7: =C7+G7+K7+O7+S7+W7+AA7+AE7 -> 140643 | AJ7: =D7+H7+L7+P7+T7+X7+AB7+AF7 -> 140643 | AK7: =E7+I7+M7+Q7+U7+Y7+AC7+AG7 -> 114032.83 | AL7: =F7+J7+N7+R7+V7+Z7+AD7+AH7 -> 140643.08 | AM7: =J7+N7+R7+V7+Z7+AD7+AH7 -> 0
A8: Települési önkormányzatok kulturális feladatainak támogatása (B114) | C8: 14748 | D8: 14748 | E8: 14748.237 | F8: 14747.688 | AI8: =C8+G8+K8+O8+S8+W8+AA8+AE8 -> 14748 | AJ8: =D8+H8+L8+P8+T8+X8+AB8+AF8 -> 14748 | AK8: =E8+I8+M8+Q8+U8+Y8+AC8+AG8 -> 14748.237 | AL8: =F8+J8+N8+R8+V8+Z8+AD8+AH8 -> 14747.688 | AM8: =J8+N8+R8+V8+Z8+AD8+AH8 -> 0
A9: Működési célú költségvetési támogatások és kiegészítő támogatások (B115) | AI9: =C9+G9+K9+O9+S9+W9+AA9+AE9 -> 0 | AJ9: =D9+H9+L9+P9+T9+X9+AB9+AF9 -> 0 | AK9: =E9+I9+M9+Q9+U9+Y9+AC9+AG9 -> 0 | AL9: =F9+J9+N9+R9+V9+Z9+AD9+AH9 -> 0 | AM9: =J9+N9+R9+V9+Z9+AD9+AH9 -> 0
A10: Elszámolásból származó bevételek (B116) | E10: 11770.716 | AI10: =C10+G10+K10+O10+S10+W10+AA10+AE10 -> 0 | AJ10: =D10+H10+L10+P10+T10+X10+AB10+AF10 -> 0 | AK10: =E10+I10+M10+Q10+U10+Y10+AC10+AG10 -> 11770.716 | AL10: =F10+J10+N10+R10+V10+Z10+AD10+AH10 -> 0 | AM10: =J10+N10+R10+V10+Z10+AD10+AH10 -> 0
A11: Önkormányzatok működési támogatásai (B11) | C11: =+C3+C4+C5+C8+C9+C10 -> 1442617 | D11: =+D3+D4+D5+D8+D9+D10 -> 1464933 | E11: 1394944.8 | F11: 1442616.5 | AI11: =C11+G11+K11+O11+S11+W11+AA11+AE11 -> 1442617 | AJ11: =D11+H11+L11+P11+T11+X11+AB11+AF11 -> 1464933 | AK11: =E11+I11+M11+Q11+U11+Y11+AC11+AG11 -> 1394944.8 | AL11: =F11+J11+N11+R11+V11+Z11+AD11+AH11 -> 1442616.5 | AM11: =J11+N11+R11+V11+Z11+AD11+AH11 -> 0
A12: Elvonások és befizetések bevételei (B12) | F12: 0 | AI12: =C12+G12+K12+O12+S12+W12+AA12+AE12 -> 0 | AJ12: =D12+H12+L12+P12+T12+X12+AB12+AF12 -> 0 | AK12: =E12+I12+M12+Q12+U12+Y12+AC12+AG12 -> 0 | AL12: =F12+J12+N12+R12+V12+Z12+AD12+AH12 -> 0 | AM12: =J12+N12+R12+V12+Z12+AD12+AH12 -> 0
A13: Működési célú garancia- és kezességvállalásból származó megtérülések államháztartáson belülről (B13) | F13: 0 | AI13: =C13+G13+K13+O13+S13+W13+AA13+AE13 -> 0 | AJ13: =D13+H13+L13+P13+T13+X13+AB13+AF13 -> 0 | AK13: =E13+I13+M13+Q13+U13+Y13+AC13+AG13 -> 0 | AL13: =F13+J13+N13+R13+V13+Z13+AD13+AH13 -> 0 | AM13: =J13+N13+R13+V13+Z13+AD13+AH13 -> 0
A14: Működési célú visszatérítendő támogatások, kölcsönök visszatérülése államháztartáson belülről (=13+…+22) (B14) | F14: 0 | J14: 0 | N14: 0 | R14: 0 | V14: 0 | Z14: 0 | AD14: 0 | AH14: 0 | AI14: =C14+G14+K14+O14+S14+W14+AA14+AE14 -> 0 | AJ14: =D14+H14+L14+P14+T14+X14+AB14+AF14 -> 0 | AK14: =E14+I14+M14+Q14+U14+Y14+AC14+AG14 -> 0 | AL14: =F14+J14+N14+R14+V14+Z14+AD14+AH14 -> 0 | AM14: =J14+N14+R14+V14+Z14+AD14+AH14 -> 0
A15: ebből: központi költségvetési szervek (B14) | AI15: =C15+G15+K15+O15+S15+W15+AA15+AE15 -> 0 | AJ15: =D15+H15+L15+P15+T15+X15+AB15+AF15 -> 0 | AK15: =E15+I15+M15+Q15+U15+Y15+AC15+AG15 -> 0 | AL15: =F15+J15+N15+R15+V15+Z15+AD15+AH15 -> 0 | AM15: =J15+N15+R15+V15+Z15+AD15+AH15 -> 0
A16: ebből: központi kezelésű előirányzatok (B14) | AI16: =C16+G16+K16+O16+S16+W16+AA16+AE16 -> 0 | AJ16: =D16+H16+L16+P16+T16+X16+AB16+AF16 -> 0 | AK16: =E16+I16+M16+Q16+U16+Y16+AC16+AG16 -> 0 | AL16: =F16+J16+N16+R16+V16+Z16+AD16+AH16 -> 0 | AM16: =J16+N16+R16+V16+Z16+AD16+AH16 -> 0
A17: ebből: fejezeti kezelésű előirányzatok EU-s programokra és azok hazai társfinanszírozása (B14) | AI17: =C17+G17+K17+O17+S17+W17+AA17+AE17 -> 0 | AJ17: =D17+H17+L17+P17+T17+X17+AB17+AF17 -> 0 | AK17: =E17+I17+M17+Q17+U17+Y17+AC17+AG17 -> 0 | AL17: =F17+J17+N17+R17+V17+Z17+AD17+AH17 -> 0 | AM17: =J17+N17+R17+V17+Z17+AD17+AH17 -> 0
A18: ebből: egyéb fejezeti kezelésű előirányzatok (B14) | AI18: =C18+G18+K18+O18+S18+W18+AA18+AE18 -> 0 | AJ18: =D18+H18+L18+P18+T18+X18+AB18+AF18 -> 0 | AK18: =E18+I18+M18+Q18+U18+Y18+AC18+AG18 -> 0 | AL18: =F18+J18+N18+R18+V18+Z18+AD18+AH18 -> 0 | AM18: =J18+N18+R18+V18+Z18+AD18+AH18 -> 0
A19: ebből: társadalombiztosítás pénzügyi alapjai (B14) | AI19: =C19+G19+K19+O19+S19+W19+AA19+AE19 -> 0 | AJ19: =D19+H19+L19+P19+T19+X19+AB19+AF19 -> 0 | AK19: =E19+I19+M19+Q19+U19+Y19+AC19+AG19 -> 0 | AL19: =F19+J19+N19+R19+V19+Z19+AD19+AH19 -> 0 | AM19: =J19+N19+R19+V19+Z19+AD19+AH19 -> 0
A20: ebből: elkülönített állami pénzalapok (B14) | AI20: =C20+G20+K20+O20+S20+W20+AA20+AE20 -> 0 | AJ20: =D20+H20+L20+P20+T20+X20+AB20+AF20 -> 0 | AK20: =E20+I20+M20+Q20+U20+Y20+AC20+AG20 -> 0 | AL20: =F20+J20+N20+R20+V20+Z20+AD20+AH20 -> 0 | AM20: =J20+N20+R20+V20+Z20+AD20+AH20 -> 0
A21: ebből: helyi önkormányzatok és költségvetési szerveik (B14) | AI21: =C21+G21+K21+O21+S21+W21+AA21+AE21 -> 0 | AJ21: =D21+H21+L21+P21+T21+X21+AB21+AF21 -> 0 | AK21: =E21+I21+M21+Q21+U21+Y21+AC21+AG21 -> 0 | AL21: =F21+J21+N21+R21+V21+Z21+AD21+AH21 -> 0 | AM21: =J21+N21+R21+V21+Z21+AD21+AH21 -> 0
A22: ebből: társulások és költségvetési szerveik (B14) | AI22: =C22+G22+K22+O22+S22+W22+AA22+AE22 -> 0 | AJ22: =D22+H22+L22+P22+T22+X22+AB22+AF22 -> 0 | AK22: =E22+I22+M22+Q22+U22+Y22+AC22+AG22 -> 0 | AL22: =F22+J22+N22+R22+V22+Z22+AD22+AH22 -> 0 | AM22: =J22+N22+R22+V22+Z22+AD22+AH22 -> 0
A23: ebből: nemzetiségi önkormányzatok és költségvetési szerveik (B14) | AI23: =C23+G23+K23+O23+S23+W23+AA23+AE23 -> 0 | AJ23: =D23+H23+L23+P23+T23+X23+AB23+AF23 -> 0 | AK23: =E23+I23+M23+Q23+U23+Y23+AC23+AG23 -> 0 | AL23: =F23+J23+N23+R23+V23+Z23+AD23+AH23 -> 0 | AM23: =J23+N23+R23+V23+Z23+AD23+AH23 -> 0
A24: ebből: térségi fejlesztési tanácsok és költségvetési szerveik (B14) | AI24: =C24+G24+K24+O24+S24+W24+AA24+AE24 -> 0 | AJ24: =D24+H24+L24+P24+T24+X24+AB24+AF24 -> 0 | AK24: =E24+I24+M24+Q24+U24+Y24+AC24+AG24 -> 0 | AL24: =F24+J24+N24+R24+V24+Z24+AD24+AH24 -> 0 | AM24: =J24+N24+R24+V24+Z24+AD24+AH24 -> 0
A25: Működési célú visszatérítendő támogatások, kölcsönök igénybevétele államháztartáson belülről (=24+…+33) (B15) | F25: 0 | J25: 0 | N25: 0 | R25: 0 | V25: 0 | Z25: 0 | AD25: 0 | AH25: 0 | AI25: =C25+G25+K25+O25+S25+W25+AA25+AE25 -> 0 | AJ25: =D25+H25+L25+P25+T25+X25+AB25+AF25 -> 0 | AK25: =E25+I25+M25+Q25+U25+Y25+AC25+AG25 -> 0 | AL25: =F25+J25+N25+R25+V25+Z25+AD25+AH25 -> 0 | AM25: =J25+N25+R25+V25+Z25+AD25+AH25 -> 0
A26: ebből: központi költségvetési szervek (B15) | AI26: =C26+G26+K26+O26+S26+W26+AA26+AE26 -> 0 | AJ26: =D26+H26+L26+P26+T26+X26+AB26+AF26 -> 0 | AK26: =E26+I26+M26+Q26+U26+Y26+AC26+AG26 -> 0 | AL26: =F26+J26+N26+R26+V26+Z26+AD26+AH26 -> 0 | AM26: =J26+N26+R26+V26+Z26+AD26+AH26 -> 0
A27: ebből: központi kezelésű előirányzatok (B15) | AI27: =C27+G27+K27+O27+S27+W27+AA27+AE27 -> 0 | AJ27: =D27+H27+L27+P27+T27+X27+AB27+AF27 -> 0 | AK27: =E27+I27+M27+Q27+U27+Y27+AC27+AG27 -> 0 | AL27: =F27+J27+N27+R27+V27+Z27+AD27+AH27 -> 0 | AM27: =J27+N27+R27+V27+Z27+AD27+AH27 -> 0
A28: ebből: fejezeti kezelésű előirányzatok EU-s programokra és azok hazai társfinanszírozása (B15) | AI28: =C28+G28+K28+O28+S28+W28+AA28+AE28 -> 0 | AJ28: =D28+H28+L28+P28+T28+X28+AB28+AF28 -> 0 | AK28: =E28+I28+M28+Q28+U28+Y28+AC28+AG28 -> 0 | AL28: =F28+J28+N28+R28+V28+Z28+AD28+AH28 -> 0 | AM28: =J28+N28+R28+V28+Z28+AD28+AH28 -> 0
A29: ebből: egyéb fejezeti kezelésű előirányzatok (B15) | AI29: =C29+G29+K29+O29+S29+W29+AA29+AE29 -> 0 | AJ29: =D29+H29+L29+P29+T29+X29+AB29+AF29 -> 0 | AK29: =E29+I29+M29+Q29+U29+Y29+AC29+AG29 -> 0 | AL29: =F29+J29+N29+R29+V29+Z29+AD29+AH29 -> 0 | AM29: =J29+N29+R29+V29+Z29+AD29+AH29 -> 0
A30: ebből: társadalombiztosítás pénzügyi alapjai (B15) | AI30: =C30+G30+K30+O30+S30+W30+AA30+AE30 -> 0 | AJ30: =D30+H30+L30+P30+T30+X30+AB30+AF30 -> 0 | AK30: =E30+I30+M30+Q30+U30+Y30+AC30+AG30 -> 0 | AL30: =F30+J30+N30+R30+V30+Z30+AD30+AH30 -> 0 | AM30: =J30+N30+R30+V30+Z30+AD30+AH30 -> 0
A31: ebből: elkülönített állami pénzalapok (B15) | AI31: =C31+G31+K31+O31+S31+W31+AA31+AE31 -> 0 | AJ31: =D31+H31+L31+P31+T31+X31+AB31+AF31 -> 0 | AK31: =E31+I31+M31+Q31+U31+Y31+AC31+AG31 -> 0 | AL31: =F31+J31+N31+R31+V31+Z31+AD31+AH31 -> 0 | AM31: =J31+N31+R31+V31+Z31+AD31+AH31 -> 0
A32: ebből: helyi önkormányzatok és költségvetési szerveik (B15) | AI32: =C32+G32+K32+O32+S32+W32+AA32+AE32 -> 0 | AJ32: =D32+H32+L32+P32+T32+X32+AB32+AF32 -> 0 | AK32: =E32+I32+M32+Q32+U32+Y32+AC32+AG32 -> 0 | AL32: =F32+J32+N32+R32+V32+Z32+AD32+AH32 -> 0 | AM32: =J32+N32+R32+V32+Z32+AD32+AH32 -> 0
A33: ebből: társulások és költségvetési szerveik (B15) | AI33: =C33+G33+K33+O33+S33+W33+AA33+AE33 -> 0 | AJ33: =D33+H33+L33+P33+T33+X33+AB33+AF33 -> 0 | AK33: =E33+I33+M33+Q33+U33+Y33+AC33+AG33 -> 0 | AL33: =F33+J33+N33+R33+V33+Z33+AD33+AH33 -> 0 | AM33: =J33+N33+R33+V33+Z33+AD33+AH33 -> 0
A34: ebből: nemzetiségi önkormányzatok és költségvetési szerveik (B15) | AI34: =C34+G34+K34+O34+S34+W34+AA34+AE34 -> 0 | AJ34: =D34+H34+L34+P34+T34+X34+AB34+AF34 -> 0 | AK34: =E34+I34+M34+Q34+U34+Y34+AC34+AG34 -> 0 | AL34: =F34+J34+N34+R34+V34+Z34+AD34+AH34 -> 0 | AM34: =J34+N34+R34+V34+Z34+AD34+AH34 -> 0
A35: ebből: térségi fejlesztési tanácsok és költségvetési szerveik (B15) | AI35: =C35+G35+K35+O35+S35+W35+AA35+AE35 -> 0 | AJ35: =D35+H35+L35+P35+T35+X35+AB35+AF35 -> 0 | AK35: =E35+I35+M35+Q35+U35+Y35+AC35+AG35 -> 0 | AL35: =F35+J35+N35+R35+V35+Z35+AD35+AH35 -> 0 | AM35: =J35+N35+R35+V35+Z35+AD35+AH35 -> 0
A36: Egyéb működési célú támogatások bevételei államháztartáson belülről (B16) | C36: =+C41 -> 0 | D36: =+D41 -> 0 | E36: 13343.167 | F36: 0 | G36: 2000 | H36: 2000 | I36: 2145 | J36: 2000 | K36: =+K41 -> 863000 | L36: =+L41 -> 863000 | M36: 862040.2 | N36: 863000 | R36: 0 | V36: 0 | Z36: 0 | AD36: 0 | AH36: 0 | AI36: =C36+G36+K36+O36+S36+W36+AA36+AE36 -> 865000 | AJ36: =D36+H36+L36+P36+T36+X36+AB36+AF36 -> 865000 | AK36: =E36+I36+M36+Q36+U36+Y36+AC36+AG36 -> 877528.37 | AL36: =F36+J36+N36+R36+V36+Z36+AD36+AH36 -> 865000 | AM36: =J36+N36+R36+V36+Z36+AD36+AH36 -> 865000
A37: ebből: központi költségvetési szervek (B16) | E37: 5145.99 | AI37: =C37+G37+K37+O37+S37+W37+AA37+AE37 -> 0 | AJ37: =D37+H37+L37+P37+T37+X37+AB37+AF37 -> 0 | AK37: =E37+I37+M37+Q37+U37+Y37+AC37+AG37 -> 5145.99 | AL37: =F37+J37+N37+R37+V37+Z37+AD37+AH37 -> 0 | AM37: =J37+N37+R37+V37+Z37+AD37+AH37 -> 0
A38: ebből: központi kezelésű előirányzatok (B16) | AD38: 0 | AI38: =C38+G38+K38+O38+S38+W38+AA38+AE38 -> 0 | AJ38: =D38+H38+L38+P38+T38+X38+AB38+AF38 -> 0 | AK38: =E38+I38+M38+Q38+U38+Y38+AC38+AG38 -> 0 | AL38: =F38+J38+N38+R38+V38+Z38+AD38+AH38 -> 0 | AM38: =J38+N38+R38+V38+Z38+AD38+AH38 -> 0
A39: ebből: fejezeti kezelésű előirányzatok EU-s programokra és azok hazai társfinanszírozása (B16) | AI39: =C39+G39+K39+O39+S39+W39+AA39+AE39 -> 0 | AJ39: =D39+H39+L39+P39+T39+X39+AB39+AF39 -> 0 | AK39: =E39+I39+M39+Q39+U39+Y39+AC39+AG39 -> 0 | AL39: =F39+J39+N39+R39+V39+Z39+AD39+AH39 -> 0 | AM39: =J39+N39+R39+V39+Z39+AD39+AH39 -> 0
A40: ebből: egyéb fejezeti kezelésű előirányzatok (B16) | D40: 8396.284 | E40: 5595 | AI40: =C40+G40+K40+O40+S40+W40+AA40+AE40 -> 0 | AJ40: =D40+H40+L40+P40+T40+X40+AB40+AF40 -> 8396.284 | AK40: =E40+I40+M40+Q40+U40+Y40+AC40+AG40 -> 5595 | AL40: =F40+J40+N40+R40+V40+Z40+AD40+AH40 -> 0 | AM40: =J40+N40+R40+V40+Z40+AD40+AH40 -> 0
A41: ebből: társadalombiztosítás pénzügyi alapjai (B16) | K41: 863000 | L41: 863000 | M41: 862040.2 | N41: 863000 | AI41: =C41+G41+K41+O41+S41+W41+AA41+AE41 -> 863000 | AJ41: =D41+H41+L41+P41+T41+X41+AB41+AF41 -> 863000 | AK41: =E41+I41+M41+Q41+U41+Y41+AC41+AG41 -> 862040.2 | AL41: =F41+J41+N41+R41+V41+Z41+AD41+AH41 -> 863000 | AM41: =J41+N41+R41+V41+Z41+AD41+AH41 -> 863000
A42: ebből: elkülönített állami pénzalapok (B16) | C42: 1000 | D42: 1000 | E42: 1758.108 | AI42: =C42+G42+K42+O42+S42+W42+AA42+AE42 -> 1000 | AJ42: =D42+H42+L42+P42+T42+X42+AB42+AF42 -> 1000 | AK42: =E42+I42+M42+Q42+U42+Y42+AC42+AG42 -> 1758.108 | AL42: =F42+J42+N42+R42+V42+Z42+AD42+AH42 -> 0 | AM42: =J42+N42+R42+V42+Z42+AD42+AH42 -> 0
A43: ebből: helyi önkormányzatok és költségvetési szerveik (B16) | E43: 844.069 | AI43: =C43+G43+K43+O43+S43+W43+AA43+AE43 -> 0 | AJ43: =D43+H43+L43+P43+T43+X43+AB43+AF43 -> 0 | AK43: =E43+I43+M43+Q43+U43+Y43+AC43+AG43 -> 844.069 | AL43: =F43+J43+N43+R43+V43+Z43+AD43+AH43 -> 0 | AM43: =J43+N43+R43+V43+Z43+AD43+AH43 -> 0
A44: ebből: társulások és költségvetési szerveik (B16) | AI44: =C44+G44+K44+O44+S44+W44+AA44+AE44 -> 0 | AJ44: =D44+H44+L44+P44+T44+X44+AB44+AF44 -> 0 | AK44: =E44+I44+M44+Q44+U44+Y44+AC44+AG44 -> 0 | AL44: =F44+J44+N44+R44+V44+Z44+AD44+AH44 -> 0 | AM44: =J44+N44+R44+V44+Z44+AD44+AH44 -> 0
A45: ebből: nemzetiségi önkormányzatok és költségvetési szerveik (B16) | AI45: =C45+G45+K45+O45+S45+W45+AA45+AE45 -> 0 | AJ45: =D45+H45+L45+P45+T45+X45+AB45+AF45 -> 0 | AK45: =E45+I45+M45+Q45+U45+Y45+AC45+AG45 -> 0 | AL45: =F45+J45+N45+R45+V45+Z45+AD45+AH45 -> 0 | AM45: =J45+N45+R45+V45+Z45+AD45+AH45 -> 0
A46: ebből: térségi fejlesztési tanácsok és költségvetési szerveik (B16) | AI46: =C46+G46+K46+O46+S46+W46+AA46+AE46 -> 0 | AJ46: =D46+H46+L46+P46+T46+X46+AB46+AF46 -> 0 | AK46: =E46+I46+M46+Q46+U46+Y46+AC46+AG46 -> 0 | AL46: =F46+J46+N46+R46+V46+Z46+AD46+AH46 -> 0 | AM46: =J46+N46+R46+V46+Z46+AD46+AH46 -> 0
A47: Működési célú támogatások államháztartáson belülről (B1) | B47: B1 | C47: =+C11+C36 -> 1442617 | D47: =+D11+D36 -> 1464933 | E47: 1408287.9 | F47: 1442616.5 | G47: =+G11+G36 -> 2000 | H47: =+H11+H36 -> 2000 | I47: 2145 | J47: 2000 | K47: =+K11+K36 -> 863000 | L47: =+L11+L36 -> 863000 | M47: 862040.2 | N47: 863000 | R47: 0 | V47: 0 | Z47: 0 | AD47: 0 | AH47: 0 | AI47: =C47+G47+K47+O47+S47+W47+AA47+AE47 -> 2307617 | AJ47: =D47+H47+L47+P47+T47+X47+AB47+AF47 -> 2329933 | AK47: =E47+I47+M47+Q47+U47+Y47+AC47+AG47 -> 2272473.1 | AL47: =F47+J47+N47+R47+V47+Z47+AD47+AH47 -> 2307616.5 | AM47: =J47+N47+R47+V47+Z47+AD47+AH47 -> 865000
A48: Felhalmozási célú önkormányzati támogatások (B21) | F48: 0 | AL48: =F48+J48+N48+R48+V48+Z48+AD48+AH48 -> 0 | AM48: =J48+N48+R48+V48+Z48+AD48+AH48 -> 0
A49: Felhalmozási célú garancia- és kezességvállalásból származó megtérülések államháztartáson belülről (B22) | AL49: =F49+J49+N49+R49+V49+Z49+AD49+AH49 -> 0 | AM49: =J49+N49+R49+V49+Z49+AD49+AH49 -> 0
A50: Felhalmozási célú visszatérítendő támogatások, kölcsönök visszatérülése államháztartáson belülről (=49+…+58) (B23) | F50: 0 | J50: 0 | N50: 0 | R50: 0 | V50: 0 | Z50: 0 | AD50: 0 | AH50: 0 | AL50: =F50+J50+N50+R50+V50+Z50+AD50+AH50 -> 0 | AM50: =J50+N50+R50+V50+Z50+AD50+AH50 -> 0
A51: ebből: központi költségvetési szervek (B23) | AL51: =F51+J51+N51+R51+V51+Z51+AD51+AH51 -> 0 | AM51: =J51+N51+R51+V51+Z51+AD51+AH51 -> 0
A52: ebből: központi kezelésű előirányzatok (B23) | AL52: =F52+J52+N52+R52+V52+Z52+AD52+AH52 -> 0 | AM52: =J52+N52+R52+V52+Z52+AD52+AH52 -> 0
A53: ebből: fejezeti kezelésű előirányzatok EU-s programokra és azok hazai társfinanszírozása (B23) | AL53: =F53+J53+N53+R53+V53+Z53+AD53+AH53 -> 0 | AM53: =J53+N53+R53+V53+Z53+AD53+AH53 -> 0
A54: ebből: egyéb fejezeti kezelésű előirányzatok (B23) | AL54: =F54+J54+N54+R54+V54+Z54+AD54+AH54 -> 0 | AM54: =J54+N54+R54+V54+Z54+AD54+AH54 -> 0
A55: ebből: társadalombiztosítás pénzügyi alapjai (B23) | AL55: =F55+J55+N55+R55+V55+Z55+AD55+AH55 -> 0 | AM55: =J55+N55+R55+V55+Z55+AD55+AH55 -> 0
A56: ebből: elkülönített állami pénzalapok (B23) | AL56: =F56+J56+N56+R56+V56+Z56+AD56+AH56 -> 0 | AM56: =J56+N56+R56+V56+Z56+AD56+AH56 -> 0
A57: ebből: helyi önkormányzatok és költségvetési szerveik (B23) | AL57: =F57+J57+N57+R57+V57+Z57+AD57+AH57 -> 0 | AM57: =J57+N57+R57+V57+Z57+AD57+AH57 -> 0
A58: ebből: társulások és költségvetési szerveik (B23) | AL58: =F58+J58+N58+R58+V58+Z58+AD58+AH58 -> 0 | AM58: =J58+N58+R58+V58+Z58+AD58+AH58 -> 0
A59: ebből: nemzetiségi önkormányzatok és költségvetési szerveik (B23) | AL59: =F59+J59+N59+R59+V59+Z59+AD59+AH59 -> 0 | AM59: =J59+N59+R59+V59+Z59+AD59+AH59 -> 0
A60: ebből: térségi fejlesztési tanácsok és költségvetési szerveik (B23) | AL60: =F60+J60+N60+R60+V60+Z60+AD60+AH60 -> 0 | AM60: =J60+N60+R60+V60+Z60+AD60+AH60 -> 0
A61: Felhalmozási célú visszatérítendő támogatások, kölcsönök igénybevétele államháztartáson belülről (=60+…+69) (B24) | F61: 0 | J61: 0 | N61: 0 | R61: 0 | V61: 0 | X61: 1 | Z61: 0 | AD61: 0 | AH61: 0 | AL61: =F61+J61+N61+R61+V61+Z61+AD61+AH61 -> 0 | AM61: =J61+N61+R61+V61+Z61+AD61+AH61 -> 0
A62: ebből: központi költségvetési szervek (B24) | AL62: =F62+J62+N62+R62+V62+Z62+AD62+AH62 -> 0 | AM62: =J62+N62+R62+V62+Z62+AD62+AH62 -> 0
A63: ebből: központi kezelésű előirányzatok (B24) | AL63: =F63+J63+N63+R63+V63+Z63+AD63+AH63 -> 0 | AM63: =J63+N63+R63+V63+Z63+AD63+AH63 -> 0
A64: ebből: fejezeti kezelésű előirányzatok EU-s programokra és azok hazai társfinanszírozása (B24) | AL64: =F64+J64+N64+R64+V64+Z64+AD64+AH64 -> 0 | AM64: =J64+N64+R64+V64+Z64+AD64+AH64 -> 0
A65: ebből: egyéb fejezeti kezelésű előirányzatok (B24) | AL65: =F65+J65+N65+R65+V65+Z65+AD65+AH65 -> 0 | AM65: =J65+N65+R65+V65+Z65+AD65+AH65 -> 0
A66: ebből: társadalombiztosítás pénzügyi alapjai (B24) | AL66: =F66+J66+N66+R66+V66+Z66+AD66+AH66 -> 0 | AM66: =J66+N66+R66+V66+Z66+AD66+AH66 -> 0
A67: ebből: elkülönített állami pénzalapok (B24) | AL67: =F67+J67+N67+R67+V67+Z67+AD67+AH67 -> 0 | AM67: =J67+N67+R67+V67+Z67+AD67+AH67 -> 0
A68: ebből: helyi önkormányzatok és költségvetési szerveik (B24) | AL68: =F68+J68+N68+R68+V68+Z68+AD68+AH68 -> 0 | AM68: =J68+N68+R68+V68+Z68+AD68+AH68 -> 0
A69: ebből: társulások és költségvetési szerveik (B24) | AL69: =F69+J69+N69+R69+V69+Z69+AD69+AH69 -> 0 | AM69: =J69+N69+R69+V69+Z69+AD69+AH69 -> 0
A70: ebből: nemzetiségi önkormányzatok és költségvetési szerveik (B24) | AL70: =F70+J70+N70+R70+V70+Z70+AD70+AH70 -> 0 | AM70: =J70+N70+R70+V70+Z70+AD70+AH70 -> 0
A71: ebből: térségi fejlesztési tanácsok és költségvetési szerveik (B24) | AL71: =F71+J71+N71+R71+V71+Z71+AD71+AH71 -> 0 | AM71: =J71+N71+R71+V71+Z71+AD71+AH71 -> 0
A72: Egyéb felhalmozási célú támogatások bevételei államháztartáson belülről (B25) | C72: =+C79 -> 87464 | D72: =+D79 -> 87464 | F72: 87464 | J72: 0 | N72: 0 | R72: 0 | V72: 0 | Z72: 0 | AD72: 0 | AH72: 0 | AI72: =C72+G72+K72+O72+S72+W72+AA72+AE72 -> 87464 | AJ72: =D72+H72+L72+P72+T72+X72+AB72+AF72 -> 87464 | AK72: =E72+I72+M72+Q72+U72+Y72+AC72+AG72 -> 0 | AL72: =F72+J72+N72+R72+V72+Z72+AD72+AH72 -> 87464 | AM72: =J72+N72+R72+V72+Z72+AD72+AH72 -> 0
A73: ebből: központi költségvetési szervek (B25) | AI73: =C73+G73+K73+O73+S73+W73+AA73+AE73 -> 0 | AJ73: =D73+H73+L73+P73+T73+X73+AB73+AF73 -> 0 | AK73: =E73+I73+M73+Q73+U73+Y73+AC73+AG73 -> 0 | AL73: =F73+J73+N73+R73+V73+Z73+AD73+AH73 -> 0 | AM73: =J73+N73+R73+V73+Z73+AD73+AH73 -> 0
A74: ebből: központi kezelésű előirányzatok (B25) | AI74: =C74+G74+K74+O74+S74+W74+AA74+AE74 -> 0 | AJ74: =D74+H74+L74+P74+T74+X74+AB74+AF74 -> 0 | AK74: =E74+I74+M74+Q74+U74+Y74+AC74+AG74 -> 0 | AL74: =F74+J74+N74+R74+V74+Z74+AD74+AH74 -> 0 | AM74: =J74+N74+R74+V74+Z74+AD74+AH74 -> 0
A75: ebből: fejezeti kezelésű előirányzatok EU-s programokra és azok hazai társfinanszírozása (B25) | AI75: =C75+G75+K75+O75+S75+W75+AA75+AE75 -> 0 | AJ75: =D75+H75+L75+P75+T75+X75+AB75+AF75 -> 0 | AK75: =E75+I75+M75+Q75+U75+Y75+AC75+AG75 -> 0 | AL75: =F75+J75+N75+R75+V75+Z75+AD75+AH75 -> 0 | AM75: =J75+N75+R75+V75+Z75+AD75+AH75 -> 0
A76: ebből: egyéb fejezeti kezelésű előirányzatok (B25) | F76: 0 | AI76: =C76+G76+K76+O76+S76+W76+AA76+AE76 -> 0 | AJ76: =D76+H76+L76+P76+T76+X76+AB76+AF76 -> 0 | AK76: =E76+I76+M76+Q76+U76+Y76+AC76+AG76 -> 0 | AL76: =F76+J76+N76+R76+V76+Z76+AD76+AH76 -> 0 | AM76: =J76+N76+R76+V76+Z76+AD76+AH76 -> 0
A77: ebből: társadalombiztosítás pénzügyi alapjai (B25) | AI77: =C77+G77+K77+O77+S77+W77+AA77+AE77 -> 0 | AJ77: =D77+H77+L77+P77+T77+X77+AB77+AF77 -> 0 | AK77: =E77+I77+M77+Q77+U77+Y77+AC77+AG77 -> 0 | AL77: =F77+J77+N77+R77+V77+Z77+AD77+AH77 -> 0 | AM77: =J77+N77+R77+V77+Z77+AD77+AH77 -> 0
A78: ebből: elkülönített állami pénzalapok (B25) | AI78: =C78+G78+K78+O78+S78+W78+AA78+AE78 -> 0 | AJ78: =D78+H78+L78+P78+T78+X78+AB78+AF78 -> 0 | AK78: =E78+I78+M78+Q78+U78+Y78+AC78+AG78 -> 0 | AL78: =F78+J78+N78+R78+V78+Z78+AD78+AH78 -> 0 | AM78: =J78+N78+R78+V78+Z78+AD78+AH78 -> 0
A79: ebből: helyi önkormányzatok és költségvetési szerveik (B25) | C79: 87464 | D79: 87464 | F79: 87464 | AI79: =C79+G79+K79+O79+S79+W79+AA79+AE79 -> 87464 | AJ79: =D79+H79+L79+P79+T79+X79+AB79+AF79 -> 87464 | AK79: =E79+I79+M79+Q79+U79+Y79+AC79+AG79 -> 0 | AL79: =F79+J79+N79+R79+V79+Z79+AD79+AH79 -> 87464 | AM79: =J79+N79+R79+V79+Z79+AD79+AH79 -> 0
A80: ebből: társulások és költségvetési szerveik (B25) | AI80: =C80+G80+K80+O80+S80+W80+AA80+AE80 -> 0 | AJ80: =D80+H80+L80+P80+T80+X80+AB80+AF80 -> 0 | AK80: =E80+I80+M80+Q80+U80+Y80+AC80+AG80 -> 0 | AL80: =F80+J80+N80+R80+V80+Z80+AD80+AH80 -> 0 | AM80: =J80+N80+R80+V80+Z80+AD80+AH80 -> 0
A81: ebből: nemzetiségi önkormányzatok és költségvetési szerveik (B25) | AI81: =C81+G81+K81+O81+S81+W81+AA81+AE81 -> 0 | AJ81: =D81+H81+L81+P81+T81+X81+AB81+AF81 -> 0 | AK81: =E81+I81+M81+Q81+U81+Y81+AC81+AG81 -> 0 | AL81: =F81+J81+N81+R81+V81+Z81+AD81+AH81 -> 0 | AM81: =J81+N81+R81+V81+Z81+AD81+AH81 -> 0
A82: ebből: térségi fejlesztési tanácsok és költségvetési szerveik (B25) | AI82: =C82+G82+K82+O82+S82+W82+AA82+AE82 -> 0 | AJ82: =D82+H82+L82+P82+T82+X82+AB82+AF82 -> 0 | AK82: =E82+I82+M82+Q82+U82+Y82+AC82+AG82 -> 0 | AL82: =F82+J82+N82+R82+V82+Z82+AD82+AH82 -> 0 | AM82: =J82+N82+R82+V82+Z82+AD82+AH82 -> 0
A83: Felhalmozási célú támogatások államháztartáson belülről (B2) | B83: B2 | C83: =+C72 -> 87464 | D83: =+D72 -> 87464 | F83: 87464 | J83: 0 | N83: 0 | R83: 0 | V83: 0 | Z83: 0 | AD83: 0 | AH83: 0 | AI83: =C83+G83+K83+O83+S83+W83+AA83+AE83 -> 87464 | AJ83: =D83+H83+L83+P83+T83+X83+AB83+AF83 -> 87464 | AK83: =E83+I83+M83+Q83+U83+Y83+AC83+AG83 -> 0 | AL83: =F83+J83+N83+R83+V83+Z83+AD83+AH83 -> 87464 | AM83: =J83+N83+R83+V83+Z83+AD83+AH83 -> 0
A84: Magánszemélyek jövedelemadói (=83+84) (B311) | F84: 0 | J84: 0 | N84: 0 | R84: 0 | V84: 0 | Z84: 0 | AD84: 0 | AH84: 0 | AI84: =C84+G84+K84+O84+S84+W84+AA84+AE84 -> 0 | AJ84: =D84+H84+L84+P84+T84+X84+AB84+AF84 -> 0 | AK84: =E84+I84+M84+Q84+U84+Y84+AC84+AG84 -> 0 | AL84: =F84+J84+N84+R84+V84+Z84+AD84+AH84 -> 0 | AM84: =J84+N84+R84+V84+Z84+AD84+AH84 -> 0
A85: ebből: személyi jövedelemadó (B311) | AI85: =C85+G85+K85+O85+S85+W85+AA85+AE85 -> 0 | AJ85: =D85+H85+L85+P85+T85+X85+AB85+AF85 -> 0 | AK85: =E85+I85+M85+Q85+U85+Y85+AC85+AG85 -> 0 | AL85: =F85+J85+N85+R85+V85+Z85+AD85+AH85 -> 0 | AM85: =J85+N85+R85+V85+Z85+AD85+AH85 -> 0
A86: ebből: termőföld bérbeadásából származó jövedelem utáni személyi jövedelemadó (B311) | AI86: =C86+G86+K86+O86+S86+W86+AA86+AE86 -> 0 | AJ86: =D86+H86+L86+P86+T86+X86+AB86+AF86 -> 0 | AK86: =E86+I86+M86+Q86+U86+Y86+AC86+AG86 -> 0 | AL86: =F86+J86+N86+R86+V86+Z86+AD86+AH86 -> 0 | AM86: =J86+N86+R86+V86+Z86+AD86+AH86 -> 0
A87: Társaságok jövedelemadói (=86+…+92) (B312) | F87: 0 | J87: 0 | N87: 0 | R87: 0 | V87: 0 | Z87: 0 | AD87: 0 | AH87: 0 | AI87: =C87+G87+K87+O87+S87+W87+AA87+AE87 -> 0 | AJ87: =D87+H87+L87+P87+T87+X87+AB87+AF87 -> 0 | AK87: =E87+I87+M87+Q87+U87+Y87+AC87+AG87 -> 0 | AL87: =F87+J87+N87+R87+V87+Z87+AD87+AH87 -> 0 | AM87: =J87+N87+R87+V87+Z87+AD87+AH87 -> 0
A88: ebből: társasági adó (B312) | J88: 0 | AI88: =C88+G88+K88+O88+S88+W88+AA88+AE88 -> 0 | AJ88: =D88+H88+L88+P88+T88+X88+AB88+AF88 -> 0 | AK88: =E88+I88+M88+Q88+U88+Y88+AC88+AG88 -> 0 | AL88: =F88+J88+N88+R88+V88+Z88+AD88+AH88 -> 0 | AM88: =J88+N88+R88+V88+Z88+AD88+AH88 -> 0
A89: ebből: társas vállalkozások különadója (B312) | AI89: =C89+G89+K89+O89+S89+W89+AA89+AE89 -> 0 | AJ89: =D89+H89+L89+P89+T89+X89+AB89+AF89 -> 0 | AK89: =E89+I89+M89+Q89+U89+Y89+AC89+AG89 -> 0 | AL89: =F89+J89+N89+R89+V89+Z89+AD89+AH89 -> 0 | AM89: =J89+N89+R89+V89+Z89+AD89+AH89 -> 0
A90: ebből: hiteintézeti járadék (B312) | AI90: =C90+G90+K90+O90+S90+W90+AA90+AE90 -> 0 | AJ90: =D90+H90+L90+P90+T90+X90+AB90+AF90 -> 0 | AK90: =E90+I90+M90+Q90+U90+Y90+AC90+AG90 -> 0 | AL90: =F90+J90+N90+R90+V90+Z90+AD90+AH90 -> 0 | AM90: =J90+N90+R90+V90+Z90+AD90+AH90 -> 0
A91: ebből: pénzügyi szervezetek különadója (B312) | AI91: =C91+G91+K91+O91+S91+W91+AA91+AE91 -> 0 | AJ91: =D91+H91+L91+P91+T91+X91+AB91+AF91 -> 0 | AK91: =E91+I91+M91+Q91+U91+Y91+AC91+AG91 -> 0 | AL91: =F91+J91+N91+R91+V91+Z91+AD91+AH91 -> 0 | AM91: =J91+N91+R91+V91+Z91+AD91+AH91 -> 0
A92: ebből: energiaellátók jövedelemadója (B312) | AI92: =C92+G92+K92+O92+S92+W92+AA92+AE92 -> 0 | AJ92: =D92+H92+L92+P92+T92+X92+AB92+AF92 -> 0 | AK92: =E92+I92+M92+Q92+U92+Y92+AC92+AG92 -> 0 | AL92: =F92+J92+N92+R92+V92+Z92+AD92+AH92 -> 0 | AM92: =J92+N92+R92+V92+Z92+AD92+AH92 -> 0
A93: ebből: kisvállalati adó (B312) | AI93: =C93+G93+K93+O93+S93+W93+AA93+AE93 -> 0 | AJ93: =D93+H93+L93+P93+T93+X93+AB93+AF93 -> 0 | AK93: =E93+I93+M93+Q93+U93+Y93+AC93+AG93 -> 0 | AL93: =F93+J93+N93+R93+V93+Z93+AD93+AH93 -> 0 | AM93: =J93+N93+R93+V93+Z93+AD93+AH93 -> 0
A94: ebből: kisadózó vállalkozások tételes adója (B312) | AI94: =C94+G94+K94+O94+S94+W94+AA94+AE94 -> 0 | AJ94: =D94+H94+L94+P94+T94+X94+AB94+AF94 -> 0 | AK94: =E94+I94+M94+Q94+U94+Y94+AC94+AG94 -> 0 | AL94: =F94+J94+N94+R94+V94+Z94+AD94+AH94 -> 0 | AM94: =J94+N94+R94+V94+Z94+AD94+AH94 -> 0
A95: Jövedelemadók (=82+85) (B31) | F95: 0 | J95: 0 | N95: 0 | R95: 0 | V95: 0 | Z95: 0 | AD95: 0 | AH95: 0 | AI95: =C95+G95+K95+O95+S95+W95+AA95+AE95 -> 0 | AJ95: =D95+H95+L95+P95+T95+X95+AB95+AF95 -> 0 | AK95: =E95+I95+M95+Q95+U95+Y95+AC95+AG95 -> 0 | AL95: =F95+J95+N95+R95+V95+Z95+AD95+AH95 -> 0 | AM95: =J95+N95+R95+V95+Z95+AD95+AH95 -> 0
A96: Szociális hozzájárulási adó és járulékok (=95+…+103) (B32) | F96: 0 | J96: 0 | N96: 0 | R96: 0 | V96: 0 | Z96: 0 | AD96: 0 | AH96: 0 | AI96: =C96+G96+K96+O96+S96+W96+AA96+AE96 -> 0 | AJ96: =D96+H96+L96+P96+T96+X96+AB96+AF96 -> 0 | AK96: =E96+I96+M96+Q96+U96+Y96+AC96+AG96 -> 0 | AL96: =F96+J96+N96+R96+V96+Z96+AD96+AH96 -> 0 | AM96: =J96+N96+R96+V96+Z96+AD96+AH96 -> 0
A97: ebből: szociális hozzájárulási adó (B32) | AI97: =C97+G97+K97+O97+S97+W97+AA97+AE97 -> 0 | AJ97: =D97+H97+L97+P97+T97+X97+AB97+AF97 -> 0 | AK97: =E97+I97+M97+Q97+U97+Y97+AC97+AG97 -> 0 | AL97: =F97+J97+N97+R97+V97+Z97+AD97+AH97 -> 0 | AM97: =J97+N97+R97+V97+Z97+AD97+AH97 -> 0
A98: ebből: nyugdíjjárulék (B32) | AI98: =C98+G98+K98+O98+S98+W98+AA98+AE98 -> 0 | AJ98: =D98+H98+L98+P98+T98+X98+AB98+AF98 -> 0 | AK98: =E98+I98+M98+Q98+U98+Y98+AC98+AG98 -> 0 | AL98: =F98+J98+N98+R98+V98+Z98+AD98+AH98 -> 0 | AM98: =J98+N98+R98+V98+Z98+AD98+AH98 -> 0
A99: ebből: korkedvezmény-biztosítási járulék (B32) | AI99: =C99+G99+K99+O99+S99+W99+AA99+AE99 -> 0 | AJ99: =D99+H99+L99+P99+T99+X99+AB99+AF99 -> 0 | AK99: =E99+I99+M99+Q99+U99+Y99+AC99+AG99 -> 0 | AL99: =F99+J99+N99+R99+V99+Z99+AD99+AH99 -> 0 | AM99: =J99+N99+R99+V99+Z99+AD99+AH99 -> 0
A100: ebből: egészségbiztosítási és munkaerőpiaci járulék (B32) | AI100: =C100+G100+K100+O100+S100+W100+AA100+AE100 -> 0 | AJ100: =D100+H100+L100+P100+T100+X100+AB100+AF100 -> 0 | AK100: =E100+I100+M100+Q100+U100+Y100+AC100+AG100 -> 0 | AL100: =F100+J100+N100+R100+V100+Z100+AD100+AH100 -> 0 | AM100: =J100+N100+R100+V100+Z100+AD100+AH100 -> 0
...

Sheet 3. kiadások
B1: Kiemelt előirányzat | C1: BUDAPEST I. KERÜLET BUDAVÁRI ÖNKORMÁNYZAT | G1: BUDAPEST FŐVÁROS I. KERÜLET BUDAVÁRI POLGÁRMESTERI HIVATAL | K1: BUDAPEST I. KERÜLET BUDAVÁRI ÖNKORMÁNYZAT EGÉSZSÉGÜGYI SZOLGÁLATA FT | O1: BUDAPEST I. KERÜLET BUDAVÁRI ÖNKORMÁNYZAT GAZDASÁGI MŰSZAKI ELLÁTÓ ÉS SZOLGÁLTATÓ SZERVEZET | S1: BRUNKSZVIK TERÉZ BUDAVÁRI ÓVODÁK | W1: BUDAPEST I. KERÜLET BUDAVÁRI ÖNKORMÁNYZAT EGYESÍTETT BÖLCSŐDE | AA1: BUDAPEST I. KERÜLET BUDAVÁRI ÖNKORMÁNYZAT SZOCIÁLIS ÉS GYERMEKJÓLÉTI SZOLGÁLTATÁSI KÖZPONT | AE1: CZAKÓ UTCAI SPORT- ÉS SZABADIDŐKÖZPONT | AI1: ÖNKORMÁNYZAT ÖSSZESEN | AM1: HIVATAL és INTÉZMÉNYEK ÖSSZESEN
A2: Rovat megnevezése | C2: 2022. évi eredeti előirányzat | D2: 2022. évi módosított előirányzat | E2: 2021. várható teljesítés | F2: 2022. évi eredeti előirányzat | G2: 2022. évi eredeti előirányzat | H2: 2022. évi módosított előirányzat | I2: 2021. évi várható teljesítés | J2: 2022. évi tervezett előirányzat | K2: 2022. évi eredeti előirányzat | L2: 2022. évi módosított előirányzat | M2: 2021. évi várható teljesítés | N2: 2022. évi tervezett előirányzat | O2: 2022. évi eredeti előirányzat | P2: 2022. évi módosított előirányzat | Q2: 2021. évi várható teljesítés | R2: 2022. évi tervezett előirányzat | S2: 2022. évi eredeti előirányzat | T2: 2022. évi módosított előirányzat | U2: 2021. évi várható teljesítés | V2: 2022. évi tervezett előirányzat | W2: 2022. évi eredeti előirányzat | X2: 2022. évi módosított előirányzat | Y2: 2021. évi várható teljesítés | Z2: 2022. évi tervezett előirányzat | AA2: 2022. évi eredeti előirányzat | AB2: 2022. évi módosított előirányzat | AC2: 2021. évi várható teljesítés | AD2: 2022. évi tervezett előirányzat | AE2: 2022. évi eredeti előirányzat | AF2: 2022. évi módosított előirányzat | AG2: 2021. évi várható teljesítés | AH2: 2022. évi tervezett előirányzat | AI2: 2022. évi eredeti előirányzat | AJ2: 2022. évi módosított előirányzat | AL2: 2022. évi eredeti előirányzat | AM2: 2022. évi eredeti előirányzat
A3: Törvény szerinti illetmények, munkabérek (K1101) | G3: 828518 | H3: =828518-1400 -> 827118 | I3: 546459.63 | J3: 828518 | K3: 750700 | L3: =750700-24963 -> 725737 | M3: 540105.33 | N3: 750700 | O3: 430024 | P3: =430024 -> 430024 | Q3: 301361.21 | R3: 430024 | S3: 529857 | T3: =529857-10000 -> 519857 | U3: 417237.07 | V3: 529857 | W3: 277569 | X3: =277569-2500 -> 275069 | Y3: 205019.64 | Z3: 277569 | AA3: 270273 | AB3: 270273 | AC3: 221018.98 | AD3: 270273 | AE3: 32886 | AF3: =32886-200 -> 32686 | AG3: 19436.863 | AH3: 32886 | AI3: =C3+G3+K3+O3+S3+W3+AA3+AE3 -> 3119827 | AJ3: =D3+H3+L3+P3+T3+X3+AB3+AF3 -> 3080764 | AK3: =E3+I3+M3+Q3+U3+Y3+AC3+AG3 -> 2250638.7 | AL3: =F3+J3+N3+R3+V3+Z3+AD3+AH3 -> 3119827 | AM3: =J3+N3+R3+V3+Z3+AD3+AH3 -> 3119827
A4: Normatív jutalmak (K1102) | G4: 31000 | H4: =31000-216 -> 30784 | I4: 73343.126 | J4: 31000 | K4: 0 | L4: 2100 | M4: 27938.02 | N4: 0 | O4: 35933 | P4: =35933 -> 35933 | Q4: 50735.898 | R4: 35933 | S4: 44251 | T4: 44251 | U4: 77156.167 | V4: 44251 | W4: 22725 | X4: 22725 | Y4: 34650.407 | Z4: 22724.5 | AA4: 23977 | AB4: 23977 | AC4: 38528.266 | AD4: 23977 | AE4: 2648 | AF4: 2648 | AG4: 3238.318 | AH4: 2648 | AI4: =C4+G4+K4+O4+S4+W4+AA4+AE4 -> 160534 | AJ4: =D4+H4+L4+P4+T4+X4+AB4+AF4 -> 162418 | AK4: =E4+I4+M4+Q4+U4+Y4+AC4+AG4 -> 305590.2 | AL4: =F4+J4+N4+R4+V4+Z4+AD4+AH4 -> 160533.5 | AM4: =J4+N4+R4+V4+Z4+AD4+AH4 -> 160533.5
A5: Céljuttatás, projektprémium (K1103) | G5: 20000 | H5: 20000 | I5: 17956.137 | J5: 20000 | K5: 0 | L5: 0 | N5: 0 | O5: 3931 | P5: 3931 | Q5: 5377.117 | R5: 3931 | S5: 2000 | T5: =2000-1700 -> 300 | U5: 2776.236 | V5: 2000 | W5: 2000 | X5: 2000 | Y5: 1020 | Z5: 2000 | AA5: 8497 | AB5: 8497 | AC5: 5013.41 | AD5: 8497 | AE5: 1000 | AF5: 1000 | AG5: 960 | AH5: 1000 | AI5: =C5+G5+K5+O5+S5+W5+AA5+AE5 -> 37428 | AJ5: =D5+H5+L5+P5+T5+X5+AB5+AF5 -> 35728 | AK5: =E5+I5+M5+Q5+U5+Y5+AC5+AG5 -> 33102.9 | AL5: =F5+J5+N5+R5+V5+Z5+AD5+AH5 -> 37428 | AM5: =J5+N5+R5+V5+Z5+AD5+AH5 -> 37428
A6: Készenléti, ügyeleti, helyettesítési díj, túlóra, túlszolgálat (K1104) | G6: 1000 | H6: =1000+1400 -> 2400 | I6: 1639.6 | J6: 1000 | K6: 0 | L6: 500 | M6: 9056.393 | N6: 0 | O6: 14458 | P6: =14458 -> 14458 | Q6: 11576.08 | R6: 14458 | S6: 0 | T6: 1700 | U6: 1217.829 | V6: 0 | W6: 3300 | X6: 3300 | Y6: 2786.511 | Z6: 3300 | AA6: 0 | AB6: 0 | AD6: 0 | AE6: 2360 | AF6: 2360 | AG6: 699.248 | AH6: 2360 | AI6: =C6+G6+K6+O6+S6+W6+AA6+AE6 -> 21118 | AJ6: =D6+H6+L6+P6+T6+X6+AB6+AF6 -> 24718 | AK6: =E6+I6+M6+Q6+U6+Y6+AC6+AG6 -> 26975.661 | AL6: =F6+J6+N6+R6+V6+Z6+AD6+AH6 -> 21118 | AM6: =J6+N6+R6+V6+Z6+AD6+AH6 -> 21118
A7: Végkielégítés (K1105) | G7: 0 | H7: 0 | I7: 2891.6 | J7: 0 | K7: 0 | L7: 0 | N7: 0 | O7: 0 | P7: 0 | R7: 0 | S7: 0 | T7: 0 | V7: 0 | W7: 0 | X7: 0 | Z7: 0 | AA7: 0 | AB7: 0 | AD7: 0 | AE7: 0 | AF7: 0 | AH7: 0 | AI7: =C7+G7+K7+O7+S7+W7+AA7+AE7 -> 0 | AJ7: =D7+H7+L7+P7+T7+X7+AB7+AF7 -> 0 | AK7: =E7+I7+M7+Q7+U7+Y7+AC7+AG7 -> 2891.6 | AL7: =F7+J7+N7+R7+V7+Z7+AD7+AH7 -> 0 | AM7: =J7+N7+R7+V7+Z7+AD7+AH7 -> 0
A8: Jubileumi jutalom (K1106) | G8: 1541 | H8: =1541+216 -> 1757 | I8: 7118.383 | J8: 1540.8 | K8: 4600 | L8: =4600+22300 -> 26900 | M8: 15157.67 | N8: 4600 | O8: 933 | P8: =933 -> 933 | R8: 933 | S8: 6672 | T8: 6672 | U8: 9223.259 | V8: 6672 | W8: 5874 | X8: 5874 | Y8: 2220.483 | Z8: 5874 | AA8: 2680 | AB8: 2680 | AC8: 1902.615 | AD8: 2680 | AE8: 0 | AF8: 0 | AH8: 0 | AI8: =C8+G8+K8+O8+S8+W8+AA8+AE8 -> 22300 | AJ8: =D8+H8+L8+P8+T8+X8+AB8+AF8 -> 44816 | AK8: =E8+I8+M8+Q8+U8+Y8+AC8+AG8 -> 35622.41 | AL8: =F8+J8+N8+R8+V8+Z8+AD8+AH8 -> 22299.8 | AM8: =J8+N8+R8+V8+Z8+AD8+AH8 -> 22299.8
A9: Béren kívüli juttatások (K1107) | G9: 27864 | H9: 27864 | I9: 26716.237 | J9: 27864 | K9: 14000 | L9: 14000 | M9: 12116.282 | N9: 14000 | O9: 24261 | P9: 24261 | Q9: 20869.635 | R9: 24261 | S9: 29283 | T9: 29283 | U9: 27748.059 | V9: 29283 | W9: 13826 | X9: 13826 | Y9: 13430.572 | Z9: 13826 | AA9: 14869 | AB9: 14869 | AC9: 13967.574 | AD9: 14869 | AE9: 2087 | AF9: 2087 | AG9: 1396.542 | AH9: 2087 | AI9: =C9+G9+K9+O9+S9+W9+AA9+AE9 -> 126190 | AJ9: =D9+H9+L9+P9+T9+X9+AB9+AF9 -> 126190 | AK9: =E9+I9+M9+Q9+U9+Y9+AC9+AG9 -> 116244.9 | AL9: =F9+J9+N9+R9+V9+Z9+AD9+AH9 -> 126190 | AM9: =J9+N9+R9+V9+Z9+AD9+AH9 -> 126190
A10: Ruházati költségtérítés (K1108) | G10: 500 | H10: 500 | I10: 334.8 | J10: 500 | K10: 0 | L10: 0 | N10: 0 | O10: 0 | P10: 0 | R10: 0 | S10: 0 | T10: 0 | V10: 0 | W10: 5562 | X10: 5562 | Y10: 5612.771 | Z10: 5562 | AA10: 0 | AB10: 0 | AD10: 0 | AE10: 0 | AF10: 0 | AH10: 0 | AI10: =C10+G10+K10+O10+S10+W10+AA10+AE10 -> 6062 | AJ10: =D10+H10+L10+P10+T10+X10+AB10+AF10 -> 6062 | AK10: =E10+I10+M10+Q10+U10+Y10+AC10+AG10 -> 5947.571 | AL10: =F10+J10+N10+R10+V10+Z10+AD10+AH10 -> 6062 | AM10: =J10+N10+R10+V10+Z10+AD10+AH10 -> 6062
A11: Közlekedési költségtérítés (K1109) | G11: 18000 | H11: 18000 | I11: 15971.199 | J11: 18000 | K11: 2500 | L11: 2500 | M11: 88.322 | N11: 2500 | O11: 4000 | P11: 4000 | Q11: 3387.409 | R11: 4000 | S11: 3746 | T11: 3746 | U11: 2344.085 | V11: 3746 | W11: 2249 | X11: 2249 | Y11: 101.704 | Z11: 2249 | AA11: 2346 | AB11: 2346 | AC11: 28.69 | AD11: 2346 | AE11: 262 | AF11: 262 | AG11: 163.022 | AH11: 262 | AI11: =C11+G11+K11+O11+S11+W11+AA11+AE11 -> 33103 | AJ11: =D11+H11+L11+P11+T11+X11+AB11+AF11 -> 33103 | AK11: =E11+I11+M11+Q11+U11+Y11+AC11+AG11 -> 22084.431 | AL11: =F11+J11+N11+R11+V11+Z11+AD11+AH11 -> 33103 | AM11: =J11+N11+R11+V11+Z11+AD11+AH11 -> 33103
A12: Egyéb költségtérítések (K1110) | G12: 5000 | H12: 5000 | I12: 1355.31 | J12: 5000 | K12: 960 | L12: =960+63 -> 1023 | M12: 790 | N12: 960 | O12: 1116 | P12: =1116 -> 1116 | Q12: 925 | R12: 1116 | S12: 1956 | T12: 1956 | U12: 1273 | V12: 1956 | W12: 786 | X12: 786 | Y12: 630 | Z12: 786 | AA12: 932 | AB12: 932 | AC12: 663 | AD12: 932 | AE12: 196 | AF12: 196 | AG12: 63 | AH12: 196 | AI12: =C12+G12+K12+O12+S12+W12+AA12+AE12 -> 10946 | AJ12: =D12+H12+L12+P12+T12+X12+AB12+AF12 -> 11009 | AK12: =E12+I12+M12+Q12+U12+Y12+AC12+AG12 -> 5699.31 | AL12: =F12+J12+N12+R12+V12+Z12+AD12+AH12 -> 10946 | AM12: =J12+N12+R12+V12+Z12+AD12+AH12 -> 10946
A13: Lakhatási támogatások (K1111) | G13: 0 | H13: 0 | J13: 0 | K13: 0 | L13: 0 | N13: 0 | O13: 0 | P13: 0 | R13: 0 | S13: 0 | T13: 0 | V13: 0 | W13: 0 | X13: 0 | Z13: 0 | AA13: 0 | AB13: 0 | AD13: 0 | AE13: 0 | AF13: 0 | AH13: 0 | AI13: =C13+G13+K13+O13+S13+W13+AA13+AE13 -> 0 | AJ13: =D13+H13+L13+P13+T13+X13+AB13+AF13 -> 0 | AK13: =E13+I13+M13+Q13+U13+Y13+AC13+AG13 -> 0 | AL13: =F13+J13+N13+R13+V13+Z13+AD13+AH13 -> 0 | AM13: =J13+N13+R13+V13+Z13+AD13+AH13 -> 0
A14: Szociális támogatások (K1112) | G14: 1500 | H14: 1500 | I14: 255 | J14: 1500 | K14: 500 | L14: 500 | M14: 300.755 | N14: 500 | O14: 558 | P14: 558 | Q14: 0 | R14: 558 | S14: 500 | T14: 500 | U14: 500 | V14: 500 | W14: 300 | X14: 300 | Y14: 300 | Z14: 300 | AA14: 290 | AB14: 290 | AC14: 290 | AD14: 290 | AE14: 0 | AF14: 0 | AH14: 0 | AI14: =C14+G14+K14+O14+S14+W14+AA14+AE14 -> 3648 | AJ14: =D14+H14+L14+P14+T14+X14+AB14+AF14 -> 3648 | AK14: =E14+I14+M14+Q14+U14+Y14+AC14+AG14 -> 1645.755 | AL14: =F14+J14+N14+R14+V14+Z14+AD14+AH14 -> 3648 | AM14: =J14+N14+R14+V14+Z14+AD14+AH14 -> 3648
A15: Foglalkoztatottak egyéb személyi juttatásai (K1113) | G15: 27000 | H15: 27000 | I15: 25519.023 | J15: 27000 | K15: 39240 | L15: 39240 | M15: 34489.089 | N15: 39240 | O15: 6500 | P15: 6500 | Q15: 4215.126 | R15: 6500 | S15: 0 | T15: 10000 | U15: 8977.394 | V15: 0 | W15: 0 | X15: 2500 | Y15: 2484.886 | Z15: 0 | AA15: 0 | AB15: 0 | AC15: 2882.738 | AD15: 0 | AE15: 0 | AF15: 200 | AG15: 482.073 | AH15: 0 | AI15: =C15+G15+K15+O15+S15+W15+AA15+AE15 -> 72740 | AJ15: =D15+H15+L15+P15+T15+X15+AB15+AF15 -> 85440 | AK15: =E15+I15+M15+Q15+U15+Y15+AC15+AG15 -> 79050.329 | AL15: =F15+J15+N15+R15+V15+Z15+AD15+AH15 -> 72740 | AM15: =J15+N15+R15+V15+Z15+AD15+AH15 -> 72740
A16: ebből:biztosítási díjak (K1113) | AI16: =C16+G16+K16+O16+S16+W16+AA16+AE16 -> 0 | AJ16: =D16+H16+L16+P16+T16+X16+AB16+AF16 -> 0 | AK16: =E16+I16+M16+Q16+U16+Y16+AC16+AG16 -> 0 | AL16: =F16+J16+N16+R16+V16+Z16+AD16+AH16 -> 0 | AM16: =J16+N16+R16+V16+Z16+AD16+AH16 -> 0
A17: Foglalkoztatottak személyi juttatásai (K11) | C17: =SUM(C3:C15) -> 0 | D17: =SUM(D3:D15) -> 0 | F17: 0 | G17: 961922.8 | H17: =SUM(H3:H15) -> 961923 | I17: 719560.04 | J17: 961922.8 | K17: =SUM(K3:K15) -> 812500 | L17: =SUM(L3:L15) -> 812500 | M17: 640041.86 | N17: 812500 | O17: =SUM(O3:O15) -> 521714 | P17: =SUM(P3:P15) -> 521714 | Q17: 398447.48 | R17: 521714 | S17: =SUM(S3:S15) -> 618265 | T17: =SUM(T3:T15) -> 618265 | U17: 548453.1 | V17: 618265 | W17: 334190.5 | X17: =SUM(X3:X15) -> 334191 | Y17: 268256.98 | Z17: 334190.5 | AA17: =SUM(AA3:AA15) -> 323864 | AB17: =SUM(AB3:AB15) -> 323864 | AC17: 284295.27 | AD17: 323864 | AE17: =SUM(AE3:AE15) -> 41439 | AF17: =SUM(AF3:AF15) -> 41439 | AG17: 26439.066 | AH17: 41439 | AI17: 3613895 | AJ17: =D17+H17+L17+P17+T17+X17+AB17+AF17 -> 3613896 | AK17: =E17+I17+M17+Q17+U17+Y17+AC17+AG17 -> 2885493.8 | AL17: =F17+J17+N17+R17+V17+Z17+AD17+AH17 -> 3613895.3 | AM17: =J17+N17+R17+V17+Z17+AD17+AH17 -> 3613895.3
A18: Választott tisztségviselők juttatásai (K121) | C18: 147263 | D18: 147263 | E18: 97678.775 | F18: 147263 | J18: 0 | N18: 0 | AI18: =C18+G18+K18+O18+S18+W18+AA18+AE18 -> 147263 | AJ18: =D18+H18+L18+P18+T18+X18+AB18+AF18 -> 147263 | AK18: =E18+I18+M18+Q18+U18+Y18+AC18+AG18 -> 97678.775 | AL18: =F18+J18+N18+R18+V18+Z18+AD18+AH18 -> 147263 | AM18: =J18+N18+R18+V18+Z18+AD18+AH18 -> 0
A19: Munkavégzésre irányuló egyéb jogviszonyban nem saját foglalkoztatottnak fizetett juttatások (K122) | C19: 26550 | D19: 26550 | E19: 29615.085 | F19: 26550 | G19: 19100 | H19: 19100 | I19: 21276.199 | J19: 19100 | M19: 3618 | N19: 0 | O19: 23950 | P19: 23950 | Q19: 19881.156 | R19: 23950 | S19: 3600 | T19: 3600 | U19: 3456.127 | V19: 3600 | W19: 3384 | X19: 3384 | Y19: 1440.5 | Z19: 3384 | AA19: 4675 | AB19: 4675 | AC19: 2929.92 | AD19: 4675 | AE19: 3200 | AF19: 3200 | AG19: 972.912 | AH19: 3200 | AI19: =C19+G19+K19+O19+S19+W19+AA19+AE19 -> 84459 | AJ19: =D19+H19+L19+P19+T19+X19+AB19+AF19 -> 84459 | AK19: =E19+I19+M19+Q19+U19+Y19+AC19+AG19 -> 83189.899 | AL19: =F19+J19+N19+R19+V19+Z19+AD19+AH19 -> 84459 | AM19: =J19+N19+R19+V19+Z19+AD19+AH19 -> 57909
A20: Egyéb külső személyi juttatások (K123) | C20: 31566 | D20: 31566 | E20: 38779.351 | F20: 31566 | G20: 5100 | H20: 5100 | I20: 2318.864 | J20: 5100 | K20: 500 | L20: 500 | M20: 66.855 | N20: 500 | O20: 2140 | P20: 2140 | Q20: 3307.918 | R20: 2140 | S20: 3000 | T20: 3000 | U20: 1478.8 | V20: 3000 | W20: 1000 | X20: 1000 | Y20: 344.528 | Z20: 1000 | AA20: 2038 | AB20: 2038 | AC20: 440.787 | AD20: 2038 | AE20: 600 | AF20: 600 | AG20: 113.445 | AH20: 600 | AI20: =C20+G20+K20+O20+S20+W20+AA20+AE20 -> 45944 | AJ20: =D20+H20+L20+P20+T20+X20+AB20+AF20 -> 45944 | AK20: =E20+I20+M20+Q20+U20+Y20+AC20+AG20 -> 46850.548 | AL20: =F20+J20+N20+R20+V20+Z20+AD20+AH20 -> 45944 | AM20: =J20+N20+R20+V20+Z20+AD20+AH20 -> 14378
A21: Külső személyi juttatások (K12) | C21: =+C18+C19+C20 -> 205379 | D21: =+D18+D19+D20 -> 205379 | E21: 166073.21 | F21: 205379 | G21: =+G18+G19+G20 -> 24200 | H21: =+H18+H19+H20 -> 24200 | I21: 23595.063 | J21: 24200 | K21: =+K18+K19+K20 -> 500 | L21: =+L18+L19+L20 -> 500 | M21: 3684.855 | N21: 500 | O21: =+O18+O19+O20 -> 26090 | P21: =+P18+P19+P20 -> 26090 | Q21: 23189.074 | R21: 26090 | S21: =+S18+S19+S20 -> 6600 | T21: =+T18+T19+T20 -> 6600 | U21: 4934.927 | V21: 6600 | W21: =+W18+W19+W20 -> 4384 | X21: =+X18+X19+X20 -> 4384 | Y21: 1785.028 | Z21: 4384 | AA21: =+AA18+AA19+AA20 -> 6713 | AB21: =+AB18+AB19+AB20 -> 6713 | AC21: 3370.707 | AD21: 6713 | AE21: =+AE18+AE19+AE20 -> 3800 | AF21: =+AF18+AF19+AF20 -> 3800 | AG21: 1086.357 | AH21: 3800 | AI21: =+AI18+AI19+AI20 -> 277666 | AJ21: =+AJ18+AJ19+AJ20 -> 277666 | AK21: =E21+I21+M21+Q21+U21+Y21+AC21+AG21 -> 227719.22 | AL21: =F21+J21+N21+R21+V21+Z21+AD21+AH21 -> 277666 | AM21: =J21+N21+R21+V21+Z21+AD21+AH21 -> 72287
A22: Személyi juttatások (K1) | B22: K1 | C22: =+C17+C21 -> 205379 | D22: =+D17+D21 -> 205379 | E22: 166073.21 | F22: 205379 | G22: =+G17+G21 -> 986122.8 | H22: =+H17+H21 -> 986123 | I22: 743155.11 | J22: 986122.8 | K22: =+K17+K21 -> 813000 | L22: =+L17+L21 -> 813000 | M22: 643726.72 | N22: 813000 | O22: =+O17+O21 -> 547804 | P22: =+P17+P21 -> 547804 | Q22: 421636.55 | R22: 547804 | S22: =+S17+S21 -> 624865 | T22: =+T17+T21 -> 624865 | U22: 553388.03 | V22: 624865 | W22: =+W17+W21 -> 338574.5 | X22: =+X17+X21 -> 338575 | Y22: 270042 | Z22: 338574.5 | AA22: =+AA17+AA21 -> 330577 | AB22: =+AB17+AB21 -> 330577 | AC22: 287665.98 | AD22: 330577 | AE22: =+AE17+AE21 -> 45239 | AF22: =+AF17+AF21 -> 45239 | AG22: 27525.423 | AH22: 45239 | AI22: 3891562 | AJ22: =D22+H22+L22+P22+T22+X22+AB22+AF22 -> 3891562 | AK22: =E22+I22+M22+Q22+U22+Y22+AC22+AG22 -> 3113213 | AL22: =F22+J22+N22+R22+V22+Z22+AD22+AH22+1 -> 3891562.3 | AM22: =J22+N22+R22+V22+Z22+AD22+AH22 -> 3686182.3
A23: Munkaadókat terhelő járulékok és szociális hozzájárulási adó (K2) | B23: K2 | C23: =SUM(C24:C29) -> 30710 | D23: =SUM(D24:D29) -> 30710 | E23: 18136.228 | F23: 30709.92 | G23: =SUM(G24:G29) -> 142632 | H23: =SUM(H24:H29) -> 142632 | I23: 113182.01 | J23: 142631.6 | K23: =SUM(K24:K29) -> 113000 | L23: =SUM(L24:L29) -> 113000 | M23: 88505.363 | N23: 113000 | O23: =SUM(O24:O29) -> 78804 | P23: =SUM(P24:P29) -> 78804 | Q23: 70593.392 | R23: 78804 | S23: =SUM(S24:S29) -> 92927 | T23: =SUM(T24:T29) -> 92927 | U23: 94522.974 | V23: 92927 | W23: =SUM(W24:W29) -> 49500 | X23: =SUM(X24:X29) -> 49500 | Y23: 45854.999 | Z23: 49500 | AA23: =SUM(AA24:AA29) -> 50466 | AB23: =SUM(AB24:AB29) -> 50466 | AC23: 49362.601 | AD23: 50466 | AE23: =SUM(AE24:AE29) -> 6206 | AF23: =SUM(AF24:AF29) -> 6206 | AG23: 4373.419 | AH23: 6206 | AI23: =C23+G23+K23+O23+S23+W23+AA23+AE23 -> 564245 | AJ23: =D23+H23+L23+P23+T23+X23+AB23+AF23 -> 564245 | AK23: =E23+I23+M23+Q23+U23+Y23+AC23+AG23 -> 484530.98 | AL23: =F23+J23+N23+R23+V23+Z23+AD23+AH23 -> 564244.52 | AM23: =J23+N23+R23+V23+Z23+AD23+AH23 -> 533534.6
A24: ebből: szociális hozzájárulási adó (K2) | C24: 30264 | D24: 30264 | E24: 17828.228 | F24: 30263.92 | G24: 128606 | H24: 128606 | I24: 111511.69 | J24: 128606 | K24: 104800 | L24: 104800 | M24: 81775.823 | N24: 104800 | O24: 67604 | P24: 67604 | Q24: 59812.772 | R24: 67604 | S24: 80843 | T24: 80843 | U24: 80911.926 | V24: 80843 | W24: 43889 | X24: 43889 | Y24: 39675.828 | Z24: 43889 | AA24: 42800 | AB24: 42800 | AC24: 42240.58 | AD24: 42800 | AE24: 5803 | AF24: 5803 | AG24: 3872.184 | AH24: 5803 | AI24: 338575 | AJ24: =D24+H24+L24+P24+T24+X24+AB24+AF24 -> 504609 | AK24: 338575 | AL24: 338575 | AM24: =J24+N24+R24+V24+Z24+AD24+AH24 -> 474345
A25: ebből: rehabilitációs hozzájárulás (K2) | C25: 446 | D25: 446 | E25: 226 | F25: 446 | G25: 9346 | H25: 9346 | I25: 1087 | J25: 9346 | K25: 5000 | L25: 5000 | M25: 4347 | N25: 5000 | O25: 7200 | P25: 7200 | Q25: 6452 | R25: 7200 | S25: 10170 | T25: 10170 | U25: 7908 | V25: 10170 | W25: 4770 | X25: 4770 | Y25: 3851 | Z25: 4770 | AA25: 5130 | AB25: 5130 | AC25: 4272 | AD25: 5130 | AG25: 271.674 | AI25: =C25+G25+K25+O25+S25+W25+AA25+AE25 -> 42062 | AJ25: =D25+H25+L25+P25+T25+X25+AB25+AF25 -> 42062 | AK25: =E25+I25+M25+Q25+U25+Y25+AC25+AG25 -> 28414.674 | AL25: =F25+J25+N25+R25+V25+Z25+AD25+AH25 -> 42062 | AM25: =J25+N25+R25+V25+Z25+AD25+AH25 -> 41616
A26: ebből: egészségügyi hozzájárulás (K2) | AI26: =C26+G26+K26+O26+S26+W26+AA26+AE26 -> 0 | AJ26: =D26+H26+L26+P26+T26+X26+AB26+AF26 -> 0 | AK26: =E26+I26+M26+Q26+U26+Y26+AC26+AG26 -> 0 | AL26: =F26+J26+N26+R26+V26+Z26+AD26+AH26 -> 0 | AM26: =J26+N26+R26+V26+Z26+AD26+AH26 -> 0
A27: ebből: táppénz hozzájárulás (K2) | G27: 500 | H27: 500 | I27: 311.296 | J27: 500 | K27: 1000 | L27: 1000 | M27: 506.572 | N27: 1000 | Q27: 612.697 | U27: 1279.112 | Y27: 252.624 | AC27: 678.874 | AG27: 229.561 | AI27: =C27+G27+K27+O27+S27+W27+AA27+AE27 -> 1500 | AJ27: =D27+H27+L27+P27+T27+X27+AB27+AF27 -> 1500 | AK27: =E27+I27+M27+Q27+U27+Y27+AC27+AG27 -> 3870.736 | AL27: =F27+J27+N27+R27+V27+Z27+AD27+AH27 -> 1500 | AM27: =J27+N27+R27+V27+Z27+AD27+AH27 -> 1500
A28: ebből: munkaadót a foglalkoztatottak részére történő kifizetésekkel kapcsolatban terhelő más járulék jellegű kötelezettségek (K2) | G28: 4180 | H28: 4180 | J28: 4179.6 | AI28: =C28+G28+K28+O28+S28+W28+AA28+AE28 -> 4180 | AJ28: =D28+H28+L28+P28+T28+X28+AB28+AF28 -> 4180 | AK28: =E28+I28+M28+Q28+U28+Y28+AC28+AG28 -> 0 | AL28: =F28+J28+N28+R28+V28+Z28+AD28+AH28 -> 4179.6 | AM28: =J28+N28+R28+V28+Z28+AD28+AH28 -> 4179.6
A29: ebből: munkáltatót terhelő személyi jövedelemadó (K2) | E29: 82 | I29: 272.023 | K29: 2200 | L29: 2200 | M29: 1875.968 | N29: 2200 | O29: 4000 | P29: 4000 | Q29: 3715.923 | R29: 4000 | S29: 1914 | T29: 1914 | U29: 4423.936 | V29: 1914 | W29: 841 | X29: 841 | Y29: 2075.547 | Z29: 841 | AA29: 2536 | AB29: 2536 | AC29: 2171.147 | AD29: 2536 | AE29: 403 | AF29: 403 | AH29: 403 | AI29: =C29+G29+K29+O29+S29+W29+AA29+AE29 -> 11894 | AJ29: =D29+H29+L29+P29+T29+X29+AB29+AF29 -> 11894 | AK29: =E29+I29+M29+Q29+U29+Y29+AC29+AG29 -> 14616.544 | AL29: =F29+J29+N29+R29+V29+Z29+AD29+AH29 -> 11894 | AM29: =J29+N29+R29+V29+Z29+AD29+AH29 -> 11894
A30: Szakmai anyagok beszerzése (K311) | C30: 16000 | D30: 16000 | E30: 5260.635 | F30: 16000 | G30: 2500 | H30: 2500 | I30: 1987.487 | J30: 2500 | K30: 13710 | L30: 13710 | M30: 8333.252 | N30: 13710 | O30: 500 | P30: 500 | Q30: 354 | R30: 500 | S30: 5000 | T30: 5000 | U30: 5130.335 | V30: 5000 | W30: 1800 | X30: 1800 | Y30: 3645.379 | Z30: 1800 | AA30: 1994 | AB30: 1994 | AC30: 417.868 | AD30: 1994 | AE30: 750 | AF30: 750 | AG30: 457.399 | AH30: 750 | AI30: =C30+G30+K30+O30+S30+W30+AA30+AE30 -> 42254 | AJ30: =D30+H30+L30+P30+T30+X30+AB30+AF30 -> 42254 | AK30: =E30+I30+M30+Q30+U30+Y30+AC30+AG30 -> 25586.355 | AL30: =F30+J30+N30+R30+V30+Z30+AD30+AH30 -> 42254 | AM30: =J30+N30+R30+V30+Z30+AD30+AH30 -> 26254
A31: Üzemeltetési anyagok beszerzése (K312) | C31: 16535 | D31: =16535+2000 -> 18535 | E31: 3949.017 | F31: 16535 | G31: 16118 | H31: 16118 | I31: 9207.936 | J31: 16118.393 | K31: 5690 | L31: 5690 | M31: 5580.898 | N31: 5690 | O31: 39320 | P31: 39320 | Q31: 32313.938 | R31: 39320 | S31: 11808 | T31: 11808 | U31: 18581.311 | V31: 11808 | W31: 22481 | X31: 22481 | Y31: 21489.676 | Z31: 22481 | AA31: 9363 | AB31: 9363 | AC31: 8054.45 | AD31: 9363 | AE31: 2660 | AF31: 2660 | AG31: 1656.976 | AH31: 2660 | AI31: =C31+G31+K31+O31+S31+W31+AA31+AE31 -> 123975 | AJ31: =D31+H31+L31+P31+T31+X31+AB31+AF31 -> 125975 | AK31: =E31+I31+M31+Q31+U31+Y31+AC31+AG31 -> 100834.2 | AL31: =F31+J31+N31+R31+V31+Z31+AD31+AH31 -> 123975.39 | AM31: =J31+N31+R31+V31+Z31+AD31+AH31 -> 107440.39
A32: Árubeszerzés (K313) | F32: 0 | AI32: =C32+G32+K32+O32+S32+W32+AA32+AE32 -> 0 | AJ32: =D32+H32+L32+P32+T32+X32+AB32+AF32 -> 0 | AK32: =E32+I32+M32+Q32+U32+Y32+AC32+AG32 -> 0 | AL32: =F32+J32+N32+R32+V32+Z32+AD32+AH32 -> 0 | AM32: =J32+N32+R32+V32+Z32+AD32+AH32 -> 0
A33: Készletbeszerzés (K31) | C33: =+C30+C31+C32 -> 32535 | D33: =+D30+D31+D32 -> 34535 | E33: 9209.652 | F33: =+F30+F31 -> 32535 | G33: =+G30+G31+G32 -> 18618 | H33: =+H30+H31+H32 -> 18618 | I33: 11195.423 | J33: 18618.393 | K33: =+K30+K31+K32 -> 19400 | L33: =+L30+L31+L32 -> 19400 | M33: 13914.15 | N33: 19400 | O33: =+O30+O31+O32 -> 39820 | P33: =+P30+P31+P32 -> 39820 | Q33: 32667.938 | R33: 39820 | S33: =+S30+S31+S32 -> 16808 | T33: =+T30+T31+T32 -> 16808 | U33: 23711.646 | V33: 16808 | W33: =+W30+W31+W32 -> 24281 | X33: =+X30+X31+X32 -> 24281 | Y33: 25135.055 | Z33: 24281 | AA33: =+AA30+AA31+AA32 -> 11357 | AB33: =+AB30+AB31+AB32 -> 11357 | AC33: 8472.318 | AD33: 11357 | AE33: =+AE30+AE31+AE32 -> 3410 | AF33: =+AF30+AF31+AF32 -> 3410 | AG33: 2114.375 | AH33: 3410 | AI33: =C33+G33+K33+O33+S33+W33+AA33+AE33 -> 166229 | AJ33: =D33+H33+L33+P33+T33+X33+AB33+AF33 -> 168229 | AK33: =E33+I33+M33+Q33+U33+Y33+AC33+AG33 -> 126420.56 | AL33: =F33+J33+N33+R33+V33+Z33+AD33+AH33 -> 166229.39 | AM33: =J33+N33+R33+V33+Z33+AD33+AH33 -> 133694.39
A34: Informatikai szolgáltatások igénybevétele (K321) | C34: 9118 | D34: =9118 -> 9118 | E34: 12554.092 | F34: 9118 | G34: 52014 | H34: 52014 | I34: 95035.88 | J34: 52013.749 | K34: 11489 | L34: =11489+700 -> 12189 | M34: 13781.393 | N34: 11489 | O34: 25190 | P34: =25190 -> 25190 | Q34: 9056.688 | R34: 25190 | S34: 1700 | T34: 1700 | U34: 1107.06 | V34: 1700 | W34: 1200 | X34: 1200 | Y34: 808.821 | Z34: 1200 | AA34: 3549 | AB34: 3549 | AC34: 2586.716 | AD34: 3549 | AE34: 240 | AF34: 240 | AG34: 122.66 | AH34: 240 | AI34: =C34+G34+K34+O34+S34+W34+AA34+AE34 -> 104500 | AJ34: =D34+H34+L34+P34+T34+X34+AB34+AF34 -> 105200 | AK34: =E34+I34+M34+Q34+U34+Y34+AC34+AG34 -> 135053.31 | AL34: =F34+J34+N34+R34+V34+Z34+AD34+AH34 -> 104499.75 | AM34: =J34+N34+R34+V34+Z34+AD34+AH34 -> 95381.749
A35: Egyéb kommunikációs szolgáltatások (K322) | C35: 3937 | D35: 3937 | E35: 877.329 | F35: 3937 | G35: 8437 | H35: 8437 | I35: 3199.172 | J35: 8437.008 | K35: 3424 | L35: =3424+300 -> 3724 | M35: 2699.136 | N35: 3424 | O35: 2400 | P35: =2400 -> 2400 | Q35: 2353.541 | R35: 2400 | S35: 1300 | T35: 1300 | U35: 936.109 | V35: 1300 | W35: 600 | X35: 600 | Y35: 509.753 | Z35: 600 | AA35: 3295 | AB35: 3295 | AC35: 1315.198 | AD35: 3295 | AE35: 300 | AF35: 300 | AG35: 182.677 | AH35: 300 | AI35: =C35+G35+K35+O35+S35+W35+AA35+AE35 -> 23693 | AJ35: =D35+H35+L35+P35+T35+X35+AB35+AF35 -> 23993 | AK35: =E35+I35+M35+Q35+U35+Y35+AC35+AG35 -> 12072.915 | AL35: =F35+J35+N35+R35+V35+Z35+AD35+AH35 -> 23693.008 | AM35: =J35+N35+R35+V35+Z35+AD35+AH35 -> 19756.008
A36: Kommunikációs szolgáltatások (K32) | C36: =+C34+C35 -> 13055 | D36: =+D34+D35 -> 13055 | E36: 13431.421 | F36: =+F35+F34 -> 13055 | G36: =+G34+G35 -> 60451 | H36: =+H34+H35 -> 60451 | I36: 98235.052 | J36: 60450.757 | K36: =+K34+K35 -> 14913 | L36: =+L34+L35 -> 15913 | M36: 16480.529 | N36: 14913 | O36: =+O34+O35 -> 27590 | P36: =+P34+P35 -> 27590 | Q36: 11410.229 | R36: 27590 | S36: =+S34+S35 -> 3000 | T36: =+T34+T35 -> 3000 | U36: 2043.169 | V36: 3000 | W36: =+W34+W35 -> 1800 | X36: =+X34+X35 -> 1800 | Y36: 1318.574 | Z36: 1800 | AA36: =+AA34+AA35 -> 6844 | AB36: =+AB34+AB35 -> 6844 | AC36: 3901.914 | AD36: 6844 | AE36: =+AE34+AE35 -> 540 | AF36: =+AF34+AF35 -> 540 | AG36: 305.337 | AH36: 540 | AI36: =C36+G36+K36+O36+S36+W36+AA36+AE36 -> 128193 | AJ36: =D36+H36+L36+P36+T36+X36+AB36+AF36 -> 129193 | AK36: =E36+I36+M36+Q36+U36+Y36+AC36+AG36 -> 147126.22 | AL36: =F36+J36+N36+R36+V36+Z36+AD36+AH36 -> 128192.76 | AM36: =J36+N36+R36+V36+Z36+AD36+AH36 -> 115137.76
A37: Közüzemi díjak (K331) | C37: 44252 | D37: 44252 | E37: 15377.084 | F37: 44252 | G37: 20000 | H37: 20000 | I37: 16867.187 | J37: 20000 | K37: 16184 | L37: 16184 | M37: 14863.559 | N37: 16184 | O37: 44800 | P37: 44800 | Q37: 40604.808 | R37: 44800 | S37: 18000 | T37: 18000 | U37: 18042.473 | V37: 18000 | W37: 7000 | X37: 7000 | Y37: 6702.076 | Z37: 7000 | AA37: 5319 | AB37: =5319-100 -> 5219 | AC37: 4924.758 | AD37: 5319 | AE37: 3000 | AF37: 3000 | AG37: 1256.726 | AH37: 3000 | AI37: =C37+G37+K37+O37+S37+W37+AA37+AE37 -> 158555 | AJ37: =D37+H37+L37+P37+T37+X37+AB37+AF37 -> 158455 | AK37: =E37+I37+M37+Q37+U37+Y37+AC37+AG37 -> 118638.67 | AL37: =F37+J37+N37+R37+V37+Z37+AD37+AH37 -> 158555 | AM37: =J37+N37+R37+V37+Z37+AD37+AH37 -> 114303
A38: Vásárolt élelmezés (K332) | F38: 0 | G38: 900 | H38: 900 | J38: 900 | O38: 174130 | P38: 174130 | Q38: 106165.04 | R38: 174130 | S38: 53820 | T38: 53820 | U38: 53933.85 | V38: 53820 | Z38: 0 | AA38: 31123 | AB38: 31123 | AC38: 38367.874 | AD38: 31123 | AE38: 0 | AF38: 0 | AH38: 0 | AI38: =C38+G38+K38+O38+S38+W38+AA38+AE38 -> 259973 | AJ38: =D38+H38+L38+P38+T38+X38+AB38+AF38 -> 259973 | AK38: =E38+I38+M38+Q38+U38+Y38+AC38+AG38 -> 198466.76 | AL38: =F38+J38+N38+R38+V38+Z38+AD38+AH38 -> 259973 | AM38: =J38+N38+R38+V38+Z38+AD38+AH38 -> 259973
A39: Bérleti és lízing díjak (>=38) (K333) | C39: 430 | D39: =430 -> 430 | E39: 45869.759 | F39: 430 | G39: 1500 | H39: 1500 | I39: 357.654 | J39: 1499.953 | K39: 1363 | L39: 1363 | M39: 1257.29 | N39: 1363 | O39: 6051 | P39: =6051-780 -> 5271 | Q39: 5024.705 | R39: 6051 | S39: 900 | T39: 900 | U39: 930.356 | V39: 900 | W39: 735 | X39: 735 | Y39: 663.362 | Z39: 735 | AA39: 3054 | AB39: 3054 | AC39: 2202.859 | AD39: 3054 | AE39: 300 | AF39: 300 | AG39: 86.593 | AH39: 300 | AI39: =C39+G39+K39+O39+S39+W39+AA39+AE39 -> 14333 | AJ39: =D39+H39+L39+P39+T39+X39+AB39+AF39 -> 13553 | AK39: =E39+I39+M39+Q39+U39+Y39+AC39+AG39 -> 56392.578 | AL39: =F39+J39+N39+R39+V39+Z39+AD39+AH39 -> 14332.953 | AM39: =J39+N39+R39+V39+Z39+AD39+AH39 -> 13902.953
A40: Karbantartási, kisjavítási szolgáltatások (K334) | C40: 111811 | D40: 111811 | E40: 78485.061 | F40: 111811 | G40: 21335 | H40: =21335-400 -> 20935 | I40: 6722.331 | J40: 21335.149 | K40: 12999 | L40: =12999-1000 -> 11999 | M40: 10442.388 | N40: 12999 | O40: 926914 | P40: =926914 -> 926914 | Q40: 584290.53 | R40: 926914 | S40: 8144 | T40: 8144 | U40: 16782.976 | V40: 8144 | W40: 4915 | X40: 4915 | Y40: 7968.316 | Z40: 4915 | AA40: 4508 | AB40: 4508 | AC40: 3860.139 | AD40: 4508 | AE40: 1600 | AF40: 1600 | AG40: 5948.256 | AH40: 1600 | AI40: =C40+G40+K40+O40+S40+W40+AA40+AE40 -> 1092226 | AJ40: =D40+H40+L40+P40+T40+X40+AB40+AF40 -> 1090826 | AK40: =E40+I40+M40+Q40+U40+Y40+AC40+AG40 -> 714500 | AL40: =F40+J40+N40+R40+V40+Z40+AD40+AH40 -> 1092226.1 | AM40: =J40+N40+R40+V40+Z40+AD40+AH40 -> 980415.15
A41: Közvetített szolgáltatások (K335) | C41: 6000 | D41: 6000 | E41: 2939.556 | F41: 6000 | G41: 50 | H41: =50+400 -> 450 | I41: 9.109 | J41: 50 | O41: 93840 | P41: 93840 | Q41: 61542.871 | R41: 93840 | S41: 4837 | T41: 4837 | U41: 4170.477 | V41: 4837 | Z41: 0 | AB41: 100 | AD41: 0 | AG41: 0 | AH41: 0 | AI41: =C41+G41+K41+O41+S41+W41+AA41+AE41 -> 104727 | AJ41: =D41+H41+L41+P41+T41+X41+AB41+AF41 -> 105227 | AK41: =E41+I41+M41+Q41+U41+Y41+AC41+AG41 -> 68662.013 | AL41: =F41+J41+N41+R41+V41+Z41+AD41+AH41 -> 104727 | AM41: =J41+N41+R41+V41+Z41+AD41+AH41 -> 98727
A42: ebből: államháztartáson belül (K335) | U42: 2126 | AI42: =C42+G42+K42+O42+S42+W42+AA42+AE42 -> 0 | AJ42: =D42+H42+L42+P42+T42+X42+AB42+AF42 -> 0 | AK42: =E42+I42+M42+Q42+U42+Y42+AC42+AG42 -> 2126 | AL42: =F42+J42+N42+R42+V42+Z42+AD42+AH42 -> 0 | AM42: =J42+N42+R42+V42+Z42+AD42+AH42 -> 0
A43: Szakmai tevékenységet segítő szolgáltatások (K336) | C43: 81474 | D43: =81474 -> 81474 | E43: 75816.196 | F43: 81474 | G43: 48944 | H43: 48944 | I43: 45906.27 | J43: 48944 | K43: 136342 | L43: 136342 | M43: 144766.71 | N43: 136342 | O43: 196318 | P43: 196318 | Q43: 73718.994 | R43: 196318 | S43: 8000 | T43: 8000 | U43: 5670.207 | V43: 8000 | W43: 2000 | X43: 2000 | Y43: 1238.741 | Z43: 2000 | AA43: 7594 | AB43: 7594 | AC43: 3449 | AD43: 7594 | AE43: 1250 | AF43: 1250 | AG43: 144 | AH43: 1250 | AI43: =C43+G43+K43+O43+S43+W43+AA43+AE43 -> 481922 | AJ43: =D43+H43+L43+P43+T43+X43+AB43+AF43 -> 481922 | AK43: =E43+I43+M43+Q43+U43+Y43+AC43+AG43 -> 350710.12 | AL43: =F43+J43+N43+R43+V43+Z43+AD43+AH43 -> 481922 | AM43: =J43+N43+R43+V43+Z43+AD43+AH43 -> 400448
A44: Egyéb szolgáltatások (K337) | C44: 1028111 | D44: =1028111+13145+50000 -> 1091256 | E44: 575659.63 | F44: 1028111 | G44: 66860 | H44: 66860 | I44: 38844.571 | J44: 66859.982 | K44: 18333 | L44: 18333 | M44: 20641.391 | N44: 18333 | O44: 315002 | P44: 315002 | Q44: 394576.38 | R44: 315002 | S44: 13581 | T44: 13581 | U44: 22671.807 | V44: 13581 | W44: 7997 | X44: 7997 | Y44: 6670.271 | Z44: 7997 | AA44: 7707 | AB44: 7707 | AC44: 3822.149 | AD44: 7707 | AE44: 4286 | AF44: 4286 | AG44: 2615.477 | AH44: 4286 | AI44: =C44+G44+K44+O44+S44+W44+AA44+AE44 -> 1461877 | AJ44: =D44+H44+L44+P44+T44+X44+AB44+AF44 -> 1525022 | AK44: =E44+I44+M44+Q44+U44+Y44+AC44+AG44 -> 1065501.7 | AL44: =F44+J44+N44+R44+V44+Z44+AD44+AH44 -> 1461877 | AM44: =J44+N44+R44+V44+Z44+AD44+AH44 -> 433765.98
A45: ebből: biztosítási díjak (K337) | M45: 1190.936 | AC45: 295 | AI45: =C45+G45+K45+O45+S45+W45+AA45+AE45 -> 0 | AJ45: =D45+H45+L45+P45+T45+X45+AB45+AF45 -> 0 | AK45: =E45+I45+M45+Q45+U45+Y45+AC45+AG45 -> 1485.936 | AL45: =F45+J45+N45+R45+V45+Z45+AD45+AH45 -> 0 | AM45: =J45+N45+R45+V45+Z45+AD45+AH45 -> 0
A46: Szolgáltatási kiadások (K33) | C46: =+C37+C38+C39+C40+C41+C43+C44 -> 1272078 | D46: =+D37+D38+D39+D40+D41+D43+D44 -> 1335223 | E46: 794147.29 | F46: =+F37+F38+F39+F40+F41+F43+F44 -> 1272078 | G46: =+G37+G38+G39+G40+G41+G43+G44 -> 159589 | H46: =+H37+H38+H39+H40+H41+H43+H44 -> 159589 | I46: 108707.12 | J46: 159589.08 | K46: =+K37+K38+K39+K40+K41+K43+K44 -> 185221 | L46: =+L37+L38+L39+L40+L41+L43+L44 -> 184221 | M46: 191971.34 | N46: 185221 | O46: =+O37+O38+O39+O40+O41+O43+O44 -> 1757055 | P46: =+P37+P38+P39+P40+P41+P43+P44 -> 1756275 | Q46: 1265923.3 | R46: 1757055 | S46: =+S37+S38+S39+S40+S41+S43+S44 -> 107282 | T46: =+T37+T38+T39+T40+T41+T43+T44 -> 107282 | U46: 122202.15 | V46: 107282 | W46: =+W37+W38+W39+W40+W41+W43+W44 -> 22647 | X46: =+X37+X38+X39+X40+X41+X43+X44 -> 22647 | Y46: 23242.766 | Z46: 22647 | AA46: =+AA37+AA38+AA39+AA40+AA41+AA43+AA44 -> 59305 | AB46: =+AB37+AB38+AB39+AB40+AB41+AB43+AB44 -> 59305 | AC46: 56626.779 | AD46: 59305 | AE46: =+AE37+AE38+AE39+AE40+AE41+AE43+AE44 -> 10436 | AF46: =+AF37+AF38+AF39+AF40+AF41+AF43+AF44 -> 10436 | AG46: 10051.052 | AH46: 10436 | AI46: 3573613 | AJ46: =D46+H46+L46+P46+T46+X46+AB46+AF46 -> 3634978 | AK46: =E46+I46+M46+Q46+U46+Y46+AC46+AG46 -> 2572871.8 | AL46: =F46+J46+N46+R46+V46+Z46+AD46+AH46 -> 3573613.1 | AM46: =J46+N46+R46+V46+Z46+AD46+AH46 -> 2301535.1
A47: Kiküldetések kiadásai (K341) | E47: 0 | F47: 0 | G47: 50 | H47: 50 | I47: 38.93 | J47: 50 | K47: 200 | L47: 200 | M47: 142.29 | N47: 200 | Q47: 113.154 | AI47: =C47+G47+K47+O47+S47+W47+AA47+AE47 -> 250 | AJ47: =D47+H47+L47+P47+T47+X47+AB47+AF47 -> 250 | AK47: =E47+I47+M47+Q47+U47+Y47+AC47+AG47 -> 294.374 | AL47: =F47+J47+N47+R47+V47+Z47+AD47+AH47 -> 250 | AM47: =J47+N47+R47+V47+Z47+AD47+AH47 -> 250
A48: Reklám- és propagandakiadások (K342) | E48: 12897.986 | F48: 0 | G48: 1000 | H48: 1000 | I48: 3379.3 | J48: 1000 | AI48: =C48+G48+K48+O48+S48+W48+AA48+AE48 -> 1000 | AJ48: =D48+H48+L48+P48+T48+X48+AB48+AF48 -> 1000 | AK48: =E48+I48+M48+Q48+U48+Y48+AC48+AG48 -> 16277.286 | AL48: =F48+J48+N48+R48+V48+Z48+AD48+AH48 -> 1000 | AM48: =J48+N48+R48+V48+Z48+AD48+AH48 -> 1000
A49: Kiküldetések, reklám- és propagandakiadások (K34) | C49: =+C48+C47 -> 0 | D49: =+D48+D47 -> 0 | E49: 12897.986 | F49: 0 | G49: =+G48+G47 -> 1050 | H49: =+H48+H47 -> 1050 | I49: 3418.23 | J49: 1050 | K49: =+K48+K47 -> 200 | L49: =+L48+L47 -> 200 | M49: 142.29 | N49: 200 | O49: =+O48+O47 -> 0 | P49: =+P48+P47 -> 0 | Q49: 113.154 | R49: 0 | S49: =+S48+S47 -> 0 | T49: =+T48+T47 -> 0 | V49: 0 | W49: =+W48+W47 -> 0 | X49: =+X48+X47 -> 0 | Z49: 0 | AA49: =+AA48+AA47 -> 0 | AB49: =+AB48+AB47 -> 0 | AC49: 0 | AD49: 0 | AE49: =+AE48+AE47 -> 0 | AF49: =+AF48+AF47 -> 0 | AH49: 0 | AI49: =C49+G49+K49+O49+S49+W49+AA49+AE49 -> 1250 | AJ49: =D49+H49+L49+P49+T49+X49+AB49+AF49 -> 1250 | AK49: =E49+I49+M49+Q49+U49+Y49+AC49+AG49 -> 16571.66 | AL49: =F49+J49+N49+R49+V49+Z49+AD49+AH49 -> 1250 | AM49: =J49+N49+R49+V49+Z49+AD49+AH49 -> 1250
A50: Működési célú előzetesen felszámított általános forgalmi adó (K351) | C50: 341683 | D50: 341683 | E50: 196845.13 | F50: 341682.58 | G50: 64438 | H50: =64438-1-606 -> 63831 | I50: 53583.084 | J50: 64437.727 | K50: 20750 | L50: 20750 | M50: 18592.25 | N50: 20750 | O50: 492607 | P50: 492607 | Q50: 273449.81 | R50: 492607 | S50: 34029 | T50: 34029 | U50: 34495.383 | V50: 34029 | W50: 12981 | X50: 12981 | Y50: 10954.773 | Z50: 12981 | AA50: 20671 | AB50: 20671 | AC50: 16806.056 | AD50: 20671 | AE50: 3837 | AF50: 3837 | AG50: 2986.334 | AH50: 3837 | AI50: =C50+G50+K50+O50+S50+W50+AA50+AE50 -> 990996 | AJ50: =D50+H50+L50+P50+T50+X50+AB50+AF50 -> 990389 | AK50: =E50+I50+M50+Q50+U50+Y50+AC50+AG50 -> 607712.82 | AL50: =F50+J50+N50+R50+V50+Z50+AD50+AH50 -> 990995.31 | AM50: =J50+N50+R50+V50+Z50+AD50+AH50 -> 649312.73
A51: Fizetendő általános forgalmi adó (K352) | C51: 500000 | D51: 500000 | E51: 546740 | F51: 500000 | H51: 606 | I51: 4722 | K51: 1917 | L51: 1917 | M51: 1271 | N51: 1917 | O51: 90000 | P51: 90000 | Q51: 0 | R51: 90000 | S51: 1800 | T51: 1800 | U51: 782 | V51: 1800 | W51: 1104 | X51: 1104 | Y51: 0 | Z51: 1104 | AA51: 3687 | AB51: 3687 | AD51: 3687 | AG51: 5 | AH51: 0 | AI51: =C51+G51+K51+O51+S51+W51+AA51+AE51 -> 598508 | AJ51: =D51+H51+L51+P51+T51+X51+AB51+AF51 -> 599114 | AK51: =E51+I51+M51+Q51+U51+Y51+AC51+AG51 -> 553520 | AL51: =F51+J51+N51+R51+V51+Z51+AD51+AH51 -> 598508 | AM51: =J51+N51+R51+V51+Z51+AD51+AH51 -> 98508
A52: Kamatkiadások (K353) | P52: 780 | Q52: 158.517 | R52: 0 | V52: 0 | Z52: 0 | AD52: 0 | AH52: 0 | AI52: =C52+G52+K52+O52+S52+W52+AA52+AE52 -> 0 | AJ52: =D52+H52+L52+P52+T52+X52+AB52+AF52 -> 780 | AK52: =E52+I52+M52+Q52+U52+Y52+AC52+AG52 -> 158.517 | AL52: =F52+J52+N52+R52+V52+Z52+AD52+AH52 -> 0 | AM52: =J52+N52+R52+V52+Z52+AD52+AH52 -> 0
A53: Egyéb pénzügyi műveletek kiadásai (K354) | E53: 95.828 | F53: 0 | I53: 2 | N53: 0 | Q53: 0 | R53: 0 | V53: 0 | Z53: 0 | AC53: 0 | AD53: 0 | AH53: 0 | AI53: =C53+G53+K53+O53+S53+W53+AA53+AE53 -> 0 | AJ53: =D53+H53+L53+P53+T53+X53+AB53+AF53 -> 0 | AK53: =E53+I53+M53+Q53+U53+Y53+AC53+AG53 -> 97.828 | AL53: =F53+J53+N53+R53+V53+Z53+AD53+AH53 -> 0 | AM53: =J53+N53+R53+V53+Z53+AD53+AH53 -> 0
A54: ebből: valuta, deviza eszközök realizált árfolyamvesztesége (K354) | AI54: =C54+G54+K54+O54+S54+W54+AA54+AE54 -> 0 | AJ54: =D54+H54+L54+P54+T54+X54+AB54+AF54 -> 0 | AK54: =E54+I54+M54+Q54+U54+Y54+AC54+AG54 -> 0 | AL54: =F54+J54+N54+R54+V54+Z54+AD54+AH54 -> 0 | AM54: =J54+N54+R54+V54+Z54+AD54+AH54 -> 0
A55: ebből: hitelviszonyt megtestesítő értékpapírok árfolyamkülönbözete (K354) | AI55: =C55+G55+K55+O55+S55+W55+AA55+AE55 -> 0 | AJ55: =D55+H55+L55+P55+T55+X55+AB55+AF55 -> 0 | AK55: =E55+I55+M55+Q55+U55+Y55+AC55+AG55 -> 0 | AL55: =F55+J55+N55+R55+V55+Z55+AD55+AH55 -> 0 | AM55: =J55+N55+R55+V55+Z55+AD55+AH55 -> 0
A56: ebből: deviza kötelezettségek realizált árfolyamvesztesége (K354) | AI56: =C56+G56+K56+O56+S56+W56+AA56+AE56 -> 0 | AJ56: =D56+H56+L56+P56+T56+X56+AB56+AF56 -> 0 | AK56: =E56+I56+M56+Q56+U56+Y56+AC56+AG56 -> 0 | AL56: =F56+J56+N56+R56+V56+Z56+AD56+AH56 -> 0 | AM56: =J56+N56+R56+V56+Z56+AD56+AH56 -> 0
A57: Egyéb dologi kiadások (K355) | C57: 20778 | D57: =20778+48 -> 20826 | E57: 14947.934 | F57: 20778.4 | G57: 6600 | H57: 6600 | I57: 3170.526 | J57: 6600 | O57: 14000 | P57: 14000 | Q57: 4895.652 | R57: 14000 | S57: 100 | T57: 100 | U57: 29.622 | V57: 100 | W57: 50 | X57: 50 | Y57: 30.629 | Z57: 50 | AA57: 150 | AB57: 150 | AC57: 80.459 | AD57: 150 | AE57: 100 | AF57: 100 | AH57: 100 | AI57: =C57+G57+K57+O57+S57+W57+AA57+AE57 -> 41778 | AJ57: =D57+H57+L57+P57+T57+X57+AB57+AF57 -> 41826 | AK57: =E57+I57+M57+Q57+U57+Y57+AC57+AG57 -> 23154.822 | AL57: =F57+J57+N57+R57+V57+Z57+AD57+AH57 -> 41778.4 | AM57: =J57+N57+R57+V57+Z57+AD57+AH57 -> 21000
A58: Különféle befizetések és egyéb dologi kiadások (K35) | C58: =+C50+C51+C52+C53+C57 -> 862461 | D58: =+D50+D51+D52+D53+D57 -> 862509 | E58: 758628.89 | F58: =+F50+F51+F57 -> 862460.98 | G58: =+G50+G51+G52+G53+G57 -> 71038 | H58: =+H50+H51+H52+H53+H57 -> 71037 | I58: 61477.61 | J58: 71037.727 | K58: =+K50+K51+K52+K53+K57 -> 22667 | L58: =+L50+L51+L52+L53+L57 -> 22667 | M58: 19863.25 | N58: 22667 | O58: =+O50+O51+O52+O53+O57 -> 596607 | P58: =+P50+P51+P52+P53+P57 -> 597387 | Q58: 278503.98 | R58: 596607 | S58: =+S50+S51+S52+S53+S57 -> 35929 | T58: =+T50+T51+T52+T53+T57 -> 35929 | U58: 35307.005 | V58: 35929 | W58: =+W50+W51+W52+W53+W57 -> 14135 | X58: =+X50+X51+X52+X53+X57 -> 14135 | Y58: 10985.402 | Z58: 14135 | AA58: =+AA50+AA51+AA52+AA53+AA57 -> 24508 | AB58: =+AB50+AB51+AB52+AB53+AB57 -> 24508 | AC58: 16886.515 | AD58: 24508 | AE58: =+AE50+AE51+AE52+AE53+AE57 -> 3937 | AF58: =+AF50+AF51+AF52+AF53+AF57 -> 3937 | AG58: 2991.334 | AH58: 3937 | AI58: =C58+G58+K58+O58+S58+W58+AA58+AE58 -> 1631282 | AJ58: =D58+H58+L58+P58+T58+X58+AB58+AF58 -> 1632109 | AK58: =E58+I58+M58+Q58+U58+Y58+AC58+AG58 -> 1184644 | AL58: =F58+J58+N58+R58+V58+Z58+AD58+AH58 -> 1631281.7 | AM58: =J58+N58+R58+V58+Z58+AD58+AH58 -> 768820.73
A59: Dologi kiadások (K3) | B59: K3 | C59: =+C58+C49+C46+C36+C33 -> 2180129 | D59: =+D58+D49+D46+D36+D33 -> 2245322 | E59: 1588315.2 | F59: =+F33+F36+F46+F49+F58 -> 2180129 | G59: =+G58+G49+G46+G36+G33 -> 310746 | H59: =+H58+H49+H46+H36+H33 -> 310745 | I59: 283033.44 | J59: 310745.96 | K59: =+K58+K49+K46+K36+K33 -> 242401 | L59: =+L58+L49+L46+L36+L33 -> 242401 | M59: 242371.56 | N59: 242401 | O59: =+O58+O49+O46+O36+O33 -> 2421072 | P59: =+P58+P49+P46+P36+P33 -> 2421072 | Q59: 1588618.6 | R59: 2421072 | S59: =+S58+S49+S46+S36+S33 -> 163019 | T59: =+T58+T49+T46+T36+T33 -> 163019 | U59: 183263.97 | V59: 163019 | W59: =+W58+W49+W46+W36+W33 -> 62863 | X59: =+X58+X49+X46+X36+X33 -> 62863 | Y59: 60681.797 | Z59: 62863 | AA59: =+AA58+AA49+AA46+AA36+AA33 -> 102014 | AB59: =+AB58+AB49+AB46+AB36+AB33 -> 102014 | AC59: 85887.526 | AD59: 102014 | AE59: =+AE58+AE49+AE46+AE36+AE33 -> 18323 | AF59: =+AF58+AF49+AF46+AF36+AF33 -> 18323 | AG59: 15462.098 | AH59: 18323 | AI59: =C59+G59+K59+O59+S59+W59+AA59+AE59 -> 5500567 | AJ59: =D59+H59+L59+P59+T59+X59+AB59+AF59 -> 5565759 | AK59: =E59+I59+M59+Q59+U59+Y59+AC59+AG59 -> 4047634.2 | AL59: =F59+J59+N59+R59+V59+Z59+AD59+AH59 -> 5500566.9 | AM59: =J59+N59+R59+V59+Z59+AD59+AH59 -> 3320438
A60: Társadalombiztosítási ellátások (K41) | AI60: =C60+G60+K60+O60+S60+W60+AA60+AE60 -> 0 | AJ60: =D60+H60+L60+P60+T60+X60+AB60+AF60 -> 0 | AK60: =E60+I60+M60+Q60+U60+Y60+AC60+AG60 -> 0 | AL60: =F60+J60+N60+R60+V60+Z60+AD60+AH60 -> 0 | AM60: =J60+N60+R60+V60+Z60+AD60+AH60 -> 0
A61: Családi támogatások (K42) | E61: 0 | F61: 0 | J61: 0 | N61: 0 | R61: 0 | V61: 0 | Z61: 0 | AD61: 0 | AH61: 0 | AI61: =C61+G61+K61+O61+S61+W61+AA61+AE61 -> 0 | AJ61: =D61+H61+L61+P61+T61+X61+AB61+AF61 -> 0 | AK61: =E61+I61+M61+Q61+U61+Y61+AC61+AG61 -> 0 | AL61: =F61+J61+N61+R61+V61+Z61+AD61+AH61 -> 0 | AM61: =J61+N61+R61+V61+Z61+AD61+AH61 -> 0
A62: ebből: családi pótlék (K42) | AI62: =C62+G62+K62+O62+S62+W62+AA62+AE62 -> 0 | AJ62: =D62+H62+L62+P62+T62+X62+AB62+AF62 -> 0 | AK62: =E62+I62+M62+Q62+U62+Y62+AC62+AG62 -> 0 | AL62: =F62+J62+N62+R62+V62+Z62+AD62+AH62 -> 0 | AM62: =J62+N62+R62+V62+Z62+AD62+AH62 -> 0
A63: ebből: anyasági támogatás (K42) | AI63: =C63+G63+K63+O63+S63+W63+AA63+AE63 -> 0 | AJ63: =D63+H63+L63+P63+T63+X63+AB63+AF63 -> 0 | AK63: =E63+I63+M63+Q63+U63+Y63+AC63+AG63 -> 0 | AL63: =F63+J63+N63+R63+V63+Z63+AD63+AH63 -> 0 | AM63: =J63+N63+R63+V63+Z63+AD63+AH63 -> 0
A64: ebből: gyermekgondozást segítő ellátás (K42) | AI64: =C64+G64+K64+O64+S64+W64+AA64+AE64 -> 0 | AJ64: =D64+H64+L64+P64+T64+X64+AB64+AF64 -> 0 | AK64: =E64+I64+M64+Q64+U64+Y64+AC64+AG64 -> 0 | AL64: =F64+J64+N64+R64+V64+Z64+AD64+AH64 -> 0 | AM64: =J64+N64+R64+V64+Z64+AD64+AH64 -> 0
A65: ebből: gyermeknevelési támogatás (K42) | AI65: =C65+G65+K65+O65+S65+W65+AA65+AE65 -> 0 | AJ65: =D65+H65+L65+P65+T65+X65+AB65+AF65 -> 0 | AK65: =E65+I65+M65+Q65+U65+Y65+AC65+AG65 -> 0 | AL65: =F65+J65+N65+R65+V65+Z65+AD65+AH65 -> 0 | AM65: =J65+N65+R65+V65+Z65+AD65+AH65 -> 0
A66: ebből: gyermekek születésével kapcsolatos szabadság megtérítése (K42) | N66: 0 | AI66: =C66+G66+K66+O66+S66+W66+AA66+AE66 -> 0 | AJ66: =D66+H66+L66+P66+T66+X66+AB66+AF66 -> 0 | AK66: =E66+I66+M66+Q66+U66+Y66+AC66+AG66 -> 0 | AL66: =F66+J66+N66+R66+V66+Z66+AD66+AH66 -> 0 | AM66: =J66+N66+R66+V66+Z66+AD66+AH66 -> 0
A67: ebből: életkezdési támogatás (K42) | AI67: =C67+G67+K67+O67+S67+W67+AA67+AE67 -> 0 | AJ67: =D67+H67+L67+P67+T67+X67+AB67+AF67 -> 0 | AK67: =E67+I67+M67+Q67+U67+Y67+AC67+AG67 -> 0 | AL67: =F67+J67+N67+R67+V67+Z67+AD67+AH67 -> 0 | AM67: =J67+N67+R67+V67+Z67+AD67+AH67 -> 0
A68: ebből: otthonteremtési támogatás (K42) | AI68: =C68+G68+K68+O68+S68+W68+AA68+AE68 -> 0 | AJ68: =D68+H68+L68+P68+T68+X68+AB68+AF68 -> 0 | AK68: =E68+I68+M68+Q68+U68+Y68+AC68+AG68 -> 0 | AL68: =F68+J68+N68+R68+V68+Z68+AD68+AH68 -> 0 | AM68: =J68+N68+R68+V68+Z68+AD68+AH68 -> 0
A69: ebből: gyermektartásdíj megelőlegezése (K42) | AI69: =C69+G69+K69+O69+S69+W69+AA69+AE69 -> 0 | AJ69: =D69+H69+L69+P69+T69+X69+AB69+AF69 -> 0 | AK69: =E69+I69+M69+Q69+U69+Y69+AC69+AG69 -> 0 | AL69: =F69+J69+N69+R69+V69+Z69+AD69+AH69 -> 0 | AM69: =J69+N69+R69+V69+Z69+AD69+AH69 -> 0
A70: ebből: GYES-en és GYED-en lévők hallgatói hitelének célzott támogatása (K42) | AI70: =C70+G70+K70+O70+S70+W70+AA70+AE70 -> 0 | AJ70: =D70+H70+L70+P70+T70+X70+AB70+AF70 -> 0 | AK70: =E70+I70+M70+Q70+U70+Y70+AC70+AG70 -> 0 | AL70: =F70+J70+N70+R70+V70+Z70+AD70+AH70 -> 0 | AM70: =J70+N70+R70+V70+Z70+AD70+AH70 -> 0
A71: ebből: az egyéb pénzbeli és természetbeni gyermekvédelmi támogatások (K42) | AI71: =C71+G71+K71+O71+S71+W71+AA71+AE71 -> 0 | AJ71: =D71+H71+L71+P71+T71+X71+AB71+AF71 -> 0 | AK71: =E71+I71+M71+Q71+U71+Y71+AC71+AG71 -> 0 | AL71: =F71+J71+N71+R71+V71+Z71+AD71+AH71 -> 0 | AM71: =J71+N71+R71+V71+Z71+AD71+AH71 -> 0
A72: Pénzbeli kárpótlások, kártérítések (K43) | AI72: =C72+G72+K72+O72+S72+W72+AA72+AE72 -> 0 | AJ72: =D72+H72+L72+P72+T72+X72+AB72+AF72 -> 0 | AK72: =E72+I72+M72+Q72+U72+Y72+AC72+AG72 -> 0 | AL72: =F72+J72+N72+R72+V72+Z72+AD72+AH72 -> 0 | AM72: =J72+N72+R72+V72+Z72+AD72+AH72 -> 0
A73: Betegséggel kapcsolatos (nem társadalombiztosítási) ellátások (=75+…+84) (K44) | F73: 0 | J73: 0 | N73: 0 | R73: 0 | V73: 0 | Z73: 0 | AD73: 0 | AH73: 0 | AI73: =C73+G73+K73+O73+S73+W73+AA73+AE73 -> 0 | AJ73: =D73+H73+L73+P73+T73+X73+AB73+AF73 -> 0 | AK73: =E73+I73+M73+Q73+U73+Y73+AC73+AG73 -> 0 | AL73: =F73+J73+N73+R73+V73+Z73+AD73+AH73 -> 0 | AM73: =J73+N73+R73+V73+Z73+AD73+AH73 -> 0
A74: ebből: ápolási díj (K44) | AI74: =C74+G74+K74+O74+S74+W74+AA74+AE74 -> 0 | AJ74: =D74+H74+L74+P74+T74+X74+AB74+AF74 -> 0 | AK74: =E74+I74+M74+Q74+U74+Y74+AC74+AG74 -> 0 | AL74: =F74+J74+N74+R74+V74+Z74+AD74+AH74 -> 0 | AM74: =J74+N74+R74+V74+Z74+AD74+AH74 -> 0
A75: ebből: fogyatékossági támogatás és vakok személyi járadéka (K44) | AI75: =C75+G75+K75+O75+S75+W75+AA75+AE75 -> 0 | AJ75: =D75+H75+L75+P75+T75+X75+AB75+AF75 -> 0 | AK75: =E75+I75+M75+Q75+U75+Y75+AC75+AG75 -> 0 | AL75: =F75+J75+N75+R75+V75+Z75+AD75+AH75 -> 0 | AM75: =J75+N75+R75+V75+Z75+AD75+AH75 -> 0
A76: ebből: kivételes rokkantsági ellátás (K44) | AI76: =C76+G76+K76+O76+S76+W76+AA76+AE76 -> 0 | AJ76: =D76+H76+L76+P76+T76+X76+AB76+AF76 -> 0 | AK76: =E76+I76+M76+Q76+U76+Y76+AC76+AG76 -> 0 | AL76: =F76+J76+N76+R76+V76+Z76+AD76+AH76 -> 0 | AM76: =J76+N76+R76+V76+Z76+AD76+AH76 -> 0
A77: ebből: mozgáskorlátozottak szerzési és átalakítási támogatása (K44) | AI77: =C77+G77+K77+O77+S77+W77+AA77+AE77 -> 0 | AJ77: =D77+H77+L77+P77+T77+X77+AB77+AF77 -> 0 | AK77: =E77+I77+M77+Q77+U77+Y77+AC77+AG77 -> 0 | AL77: =F77+J77+N77+R77+V77+Z77+AD77+AH77 -> 0 | AM77: =J77+N77+R77+V77+Z77+AD77+AH77 -> 0
A78: ebből: megváltozott munkaképességűek illetve egészségkárosodottak kereset-kiegészítése (K44) | AI78: =C78+G78+K78+O78+S78+W78+AA78+AE78 -> 0 | AJ78: =D78+H78+L78+P78+T78+X78+AB78+AF78 -> 0 | AK78: =E78+I78+M78+Q78+U78+Y78+AC78+AG78 -> 0 | AL78: =F78+J78+N78+R78+V78+Z78+AD78+AH78 -> 0 | AM78: =J78+N78+R78+V78+Z78+AD78+AH78 -> 0
A79: ebből: közgyógyellátás [Szoctv.50.§ (1)-(2) bekezdése] (K44) | AI79: =C79+G79+K79+O79+S79+W79+AA79+AE79 -> 0 | AJ79: =D79+H79+L79+P79+T79+X79+AB79+AF79 -> 0 | AK79: =E79+I79+M79+Q79+U79+Y79+AC79+AG79 -> 0 | AL79: =F79+J79+N79+R79+V79+Z79+AD79+AH79 -> 0 | AM79: =J79+N79+R79+V79+Z79+AD79+AH79 -> 0
A80: ebből: cukorbetegek támogatása (K44) | AI80: =C80+G80+K80+O80+S80+W80+AA80+AE80 -> 0 | AJ80: =D80+H80+L80+P80+T80+X80+AB80+AF80 -> 0 | AK80: =E80+I80+M80+Q80+U80+Y80+AC80+AG80 -> 0 | AL80: =F80+J80+N80+R80+V80+Z80+AD80+AH80 -> 0 | AM80: =J80+N80+R80+V80+Z80+AD80+AH80 -> 0
A81: ebből: tartós ápolást végzők időskori támogatása [Szoctv. 44/A. §] (K44) | AI81: =C81+G81+K81+O81+S81+W81+AA81+AE81 -> 0 | AJ81: =D81+H81+L81+P81+T81+X81+AB81+AF81 -> 0 | AK81: =E81+I81+M81+Q81+U81+Y81+AC81+AG81 -> 0 | AL81: =F81+J81+N81+R81+V81+Z81+AD81+AH81 -> 0 | AM81: =J81+N81+R81+V81+Z81+AD81+AH81 -> 0
A82: ebből: egészségügyi szolgáltatási jogosultságra való jogosultság szociális rászorultság alapján [Szoctv. 54. §-a] ( K44) | AI82: =C82+G82+K82+O82+S82+W82+AA82+AE82 -> 0 | AJ82: =D82+H82+L82+P82+T82+X82+AB82+AF82 -> 0 | AK82: =E82+I82+M82+Q82+U82+Y82+AC82+AG82 -> 0 | AL82: =F82+J82+N82+R82+V82+Z82+AD82+AH82 -> 0 | AM82: =J82+N82+R82+V82+Z82+AD82+AH82 -> 0
A83: ebből: gyermekek otthongondozási díja [Szoctv. 38. §] (K44) | AI83: =C83+G83+K83+O83+S83+W83+AA83+AE83 -> 0 | AJ83: =D83+H83+L83+P83+T83+X83+AB83+AF83 -> 0 | AK83: =E83+I83+M83+Q83+U83+Y83+AC83+AG83 -> 0 | AL83: =F83+J83+N83+R83+V83+Z83+AD83+AH83 -> 0 | AM83: =J83+N83+R83+V83+Z83+AD83+AH83 -> 0
A84: Foglalkoztatással, munkanélküliséggel kapcsolatos ellátások (=86+…+93) (K45) | F84: 0 | J84: 0 | N84: 0 | R84: 0 | V84: 0 | Z84: 0 | AD84: 0 | AH84: 0 | AI84: =C84+G84+K84+O84+S84+W84+AA84+AE84 -> 0 | AJ84: =D84+H84+L84+P84+T84+X84+AB84+AF84 -> 0 | AK84: =E84+I84+M84+Q84+U84+Y84+AC84+AG84 -> 0 | AL84: =F84+J84+N84+R84+V84+Z84+AD84+AH84 -> 0 | AM84: =J84+N84+R84+V84+Z84+AD84+AH84 -> 0
A85: ebből: a Nemzeti Foglalkoztatási Alalpból folyósított passzív, ellátási típusú támogatások, így különösen az álláskeresési járadék, a nyugdíj előtti álláskeresési segély, valamint az ellátások megállapításával kapcsolatos utiköltség-térítés (K45) | AI85: =C85+G85+K85+O85+S85+W85+AA85+AE85 -> 0 | AJ85: =D85+H85+L85+P85+T85+X85+AB85+AF85 -> 0 | AK85: =E85+I85+M85+Q85+U85+Y85+AC85+AG85 -> 0 | AL85: =F85+J85+N85+R85+V85+Z85+AD85+AH85 -> 0 | AM85: =J85+N85+R85+V85+Z85+AD85+AH85 -> 0
A86: ebből: korhatár előtti ellátás és a fegyveres testületek volt tagjai szolgálati járandósága (K45) | AI86: =C86+G86+K86+O86+S86+W86+AA86+AE86 -> 0 | AJ86: =D86+H86+L86+P86+T86+X86+AB86+AF86 -> 0 | AK86: =E86+I86+M86+Q86+U86+Y86+AC86+AG86 -> 0 | AL86: =F86+J86+N86+R86+V86+Z86+AD86+AH86 -> 0 | AM86: =J86+N86+R86+V86+Z86+AD86+AH86 -> 0
A87: ebből: átmeneti bányászjáradék (K45) | AI87: =C87+G87+K87+O87+S87+W87+AA87+AE87 -> 0 | AJ87: =D87+H87+L87+P87+T87+X87+AB87+AF87 -> 0 | AK87: =E87+I87+M87+Q87+U87+Y87+AC87+AG87 -> 0 | AL87: =F87+J87+N87+R87+V87+Z87+AD87+AH87 -> 0 | AM87: =J87+N87+R87+V87+Z87+AD87+AH87 -> 0
A88: ebből: szénjárandóság pénzbeli megváltása (K45) | AI88: =C88+G88+K88+O88+S88+W88+AA88+AE88 -> 0 | AJ88: =D88+H88+L88+P88+T88+X88+AB88+AF88 -> 0 | AK88: =E88+I88+M88+Q88+U88+Y88+AC88+AG88 -> 0 | AL88: =F88+J88+N88+R88+V88+Z88+AD88+AH88 -> 0 | AM88: =J88+N88+R88+V88+Z88+AD88+AH88 -> 0
A89: ebből: mecseki bányászatban munkát végzők bányászati kereset-kiegészítése (K45) | AI89: =C89+G89+K89+O89+S89+W89+AA89+AE89 -> 0 | AJ89: =D89+H89+L89+P89+T89+X89+AB89+AF89 -> 0 | AK89: =E89+I89+M89+Q89+U89+Y89+AC89+AG89 -> 0 | AL89: =F89+J89+N89+R89+V89+Z89+AD89+AH89 -> 0 | AM89: =J89+N89+R89+V89+Z89+AD89+AH89 -> 0
A90: ebből: mezőgazdasági járadék (K45) | AI90: =C90+G90+K90+O90+S90+W90+AA90+AE90 -> 0 | AJ90: =D90+H90+L90+P90+T90+X90+AB90+AF90 -> 0 | AK90: =E90+I90+M90+Q90+U90+Y90+AC90+AG90 -> 0 | AL90: =F90+J90+N90+R90+V90+Z90+AD90+AH90 -> 0 | AM90: =J90+N90+R90+V90+Z90+AD90+AH90 -> 0
A91: ebből: foglalkoztatást helyettesítő támogatás [Szoctv. 35. § (1) bek.] (K45) | AI91: =C91+G91+K91+O91+S91+W91+AA91+AE91 -> 0 | AJ91: =D91+H91+L91+P91+T91+X91+AB91+AF91 -> 0 | AK91: =E91+I91+M91+Q91+U91+Y91+AC91+AG91 -> 0 | AL91: =F91+J91+N91+R91+V91+Z91+AD91+AH91 -> 0 | AM91: =J91+N91+R91+V91+Z91+AD91+AH91 -> 0
A92: ebből: polgármesterek korhatár előtti ellátása (K45) | AI92: =C92+G92+K92+O92+S92+W92+AA92+AE92 -> 0 | AJ92: =D92+H92+L92+P92+T92+X92+AB92+AF92 -> 0 | AK92: =E92+I92+M92+Q92+U92+Y92+AC92+AG92 -> 0 | AL92: =F92+J92+N92+R92+V92+Z92+AD92+AH92 -> 0 | AM92: =J92+N92+R92+V92+Z92+AD92+AH92 -> 0
A93: Lakhatással kapcsolatos ellátások (K46) | E93: 0 | F93: 0 | J93: 0 | N93: 0 | R93: 0 | V93: 0 | Z93: 0 | AD93: 0 | AH93: 0 | AI93: =C93+G93+K93+O93+S93+W93+AA93+AE93 -> 0 | AJ93: =D93+H93+L93+P93+T93+X93+AB93+AF93 -> 0 | AK93: =E93+I93+M93+Q93+U93+Y93+AC93+AG93 -> 0 | AL93: =F93+J93+N93+R93+V93+Z93+AD93+AH93 -> 0 | AM93: =J93+N93+R93+V93+Z93+AD93+AH93 -> 0
A94: ebből: hozzájárulás a lakossági energiaköltségekhez (K46) | AI94: =C94+G94+K94+O94+S94+W94+AA94+AE94 -> 0 | AJ94: =D94+H94+L94+P94+T94+X94+AB94+AF94 -> 0 | AK94: =E94+I94+M94+Q94+U94+Y94+AC94+AG94 -> 0 | AL94: =F94+J94+N94+R94+V94+Z94+AD94+AH94 -> 0 | AM94: =J94+N94+R94+V94+Z94+AD94+AH94 -> 0
A95: ebből: lakbértámogatás (K46) | AI95: =C95+G95+K95+O95+S95+W95+AA95+AE95 -> 0 | AJ95: =D95+H95+L95+P95+T95+X95+AB95+AF95 -> 0 | AK95: =E95+I95+M95+Q95+U95+Y95+AC95+AG95 -> 0 | AL95: =F95+J95+N95+R95+V95+Z95+AD95+AH95 -> 0 | AM95: =J95+N95+R95+V95+Z95+AD95+AH95 -> 0
AI96: =C96+G96+K96+O96+S96+W96+AA96+AE96 -> 0 | AJ96: =D96+H96+L96+P96+T96+X96+AB96+AF96 -> 0 | AK96: =E96+I96+M96+Q96+U96+Y96+AC96+AG96 -> 0 | AL96: =F96+J96+N96+R96+V96+Z96+AD96+AH96 -> 0 | AM96: =J96+N96+R96+V96+Z96+AD96+AH96 -> 0
AI97: =C97+G97+K97+O97+S97+W97+AA97+AE97 -> 0 | AJ97: =D97+H97+L97+P97+T97+X97+AB97+AF97 -> 0 | AK97: =E97+I97+M97+Q97+U97+Y97+AC97+AG97 -> 0 | AL97: =F97+J97+N97+R97+V97+Z97+AD97+AH97 -> 0 | AM97: =J97+N97+R97+V97+Z97+AD97+AH97 -> 0
AI98: =C98+G98+K98+O98+S98+W98+AA98+AE98 -> 0 | AJ98: =D98+H98+L98+P98+T98+X98+AB98+AF98 -> 0 | AK98: =E98+I98+M98+Q98+U98+Y98+AC98+AG98 -> 0 | AL98: =F98+J98+N98+R98+V98+Z98+AD98+AH98 -> 0 | AM98: =J98+N98+R98+V98+Z98+AD98+AH98 -> 0
AI99: =C99+G99+K99+O99+S99+W99+AA99+AE99 -> 0 | AJ99: =D99+H99+L99+P99+T99+X99+AB99+AF99 -> 0 | AK99: =E99+I99+M99+Q99+U99+Y99+AC99+AG99 -> 0 | AL99: =F99+J99+N99+R99+V99+Z99+AD99+AH99 -> 0 | AM99: =J99+N99+R99+V99+Z99+AD99+AH99 -> 0
A100: Intézményi ellátottak pénzbeli juttatásai (>=98+99) (K47) | F100: 0 | J100: 0 | N100: 0 | R100: 0 | V100: 0 | Z100: 0 | AD100: 0 | AH100: 0 | AI100: =C100+G100+K100+O100+S100+W100+AA100+AE100 -> 0 | AJ100: =D100+H100+L100+P100+T100+X100+AB100+AF100 -> 0 | AK100: =E100+I100+M100+Q100+U100+Y100+AC100+AG100 -> 0 | AL100: =F100+J100+N100+R100+V100+Z100+AD100+AH100 -> 0 | AM100: =J100+N100+R100+V100+Z100+AD100+AH100 -> 0
...

Sheet Munka2
C1: (bruttó e Ft)
A2: a) | B2: Budavári klímastratégia felülvizsgálat | C2: 3000 | D2: K337
A3: a) | B3: Levegőminőségmérő műszer (10 db) | C3: 300 | D3: K64
A4: b) | B4: Hulladékgyűjtők, kutyaszemetesek és szemetes zsákok (környezetbarát lebomló) beszerzése | C4: 1000 | D4: K312
A5: b) | B5: Komposztkeret 50 darab | C5: 1250 | D5: K312
A6: b) | B6: Szelektív gyűjtőkre új jelölő tábla | C6: 4000 | D6: K334
A7: b) | B7: 35 literes hulladékgyűjtőkre fedél készíttetése | C7: 500 | D7: K337
A8: b) | B8: Veszélyes hulladékgyűjtés, illegális hulladékok, sitt elszállítása | C8: 3000 | D8: K337
A9: b) | B9: Csikkgyűjtő a forgalmas helyeken lévő szelektív hulladékgyűjtők mellé telepítéssel (20 darab) | C9: 1520 | D9: K64
A10: b) | B10: Kutyapiszok gyűjtő bővítés telepítéssel (15 darab) | C10: 1200 | D10: K64
A11: c) | B11: Biológiai szúnyoggyérítés | C11: 3000 | D11: K337
A12: d) | B12: 2. pontossági osztályú zajmérőműszer | C12: 700 | D12: K64
A13: e) | B13: Egynyári és évelő növények lakossági közösségi kültetésre | C13: 500 | D13: K312
... A15: e) | B15: Aknázómoly elleni védekezés (lakossági támogatás) | C15: 500 | D15: K512
A16: e) | B16: Kertszépítés pályázat | C16: 30 000 | D16: K512+513
A17: e) | B17: Zöldfal pályázat | C17: 30000 | D17: K512+513
A18: e) | B18: Öntözőrendszerek tervezése, létesítése (automata csepegtető rendszer, vagy olyan tartályos jármű beszerzése amivel a kerületi fákat lehetne öntözni, ezáltal a kiszáradás ellen védenénk) | C18: 5000 | D18: K64
A19: f) | B19: Víztakarékos perlátor az önkormányzat épületébe (Budapest, Kapisztrán tér 1.) (30 darab) (felhasznált vízmennyiség csökkentésére, mely a csatornadíj csökkenésében is detektálható) | C19: 200 | D19: K312
A20: f) | B20: Reformációs emlékkút vízforgatóval felszerelés tervezése és a tervek alapján a megvalósítás (5 000 e Ft + 10 000 e Ft) | C20: 15000 | D20: K72
A21: g) | B21: Zeolit síkosságmentesítéshez lakosság részére | C21: 1000 | D21: K312
A22: h) | B22: Zöld Budavár alhonlap kialakítás lakossági fenntarthatósági szemléletformálás céljára | C22: 500 | D22: K321
A23: h) | B23: Kitűzőgyártó gép beszerzése alkatrészekkel lakossági/iskolai szemléletformáláshoz. Zöld jeles napokhoz köthető üzenetek kerülnek a kitűzőre. Az iskolai pályázatok során az iskolások maguk készítik el a zöld üzenetet tartalmazó grafikát. A grafikával készült kitűzőt hordhatják, az iskolában diákoknak, tanároknak adhatják. Családtagjaik részére is készíthetnek kitűzőt, ezzel megsokszorozva azoknak a számát, akikhez az üzenet eljut. | C23: 150 | D23: K337
A24: h) | B24: Klímabarát Települések Szövetsége tagdíj | C24: 200 | D24: K355
A25: h) | B25: Dendrológiai tanösvény tervezése, megvalósítása | C25: 3000 | D25: K64
A26: h) | B26: Hőkamera beszerzése (1 db) hőveszteség kimutatására, illetve energetikai korszerűsítés eredményének igazolására (mobil kamera, tetszőleges helyszínen mérhető az épületek hővesztesége, ennek alapján a szigetelés pontos helyének kiválasztása könnyebbé válik. A szigetelés utáni hőkép elkészítésével lehet szemléltetni a szigetelés fontosságát.) | C26: 300 | D26: K64
A27: h) | B27: Tabán meglévő tanösvény felújítása | C27: 4000 | D27: K72
A28: i) | B28: Fenntarthatósági pályázat általános és középiskola | C28: 1000 | D28: K512
... A35: j) | B35: Ivókutak, párakapuk létesítése | C35: 10000 | D35: K64
B36: Összesen: | C36: 137720
C38: =+C36-112720 -> 25000

Sheet 4. közvet tám
D4: Adatok e Ft-ban
A5: Sorszám | B5: Jogcím | C5: Kedvezményt megalapozó döntés száma | D5: Kedvezmény összege
A6: 1. | B6: Ellátottak térítési díjának, illetve kártérítésének méltányossági alapon történő elengedése
A7: 2. | B7: Lakosság részére lakásépítéshez, lakásfelújításhoz nyújtott kölcsönök elengedése
A8: 3. | B8: Helyi adónál biztosított kedvezmény, mentesség adónemenként
B9: Építményadó | D9: 400
B10: Telekadó | D10: 0
B11: Idegenforgalmi adó
B12: Gépjárműadóból biztosított kedvezmény, mentesség | D12: 400
B13: Késedelmi pótlék | D13: 25
B14: Bírság | D14: 400
A15: 4. | B15: Helyiségek, eszközök hasznosításából származó bevételből nyújtott kedvezmény, mentesség összege
A16: 5. | B16: Egyéb nyújtott kedvezmény vagy kölcsön elengedésének összege

Sheet 5. ei felhaszn ütem
B1: 2022. év | N1: Adatok e Ft-ban | P1: eltérés
A2: megnevezés | B2: január | C2: február | D2: március | E2: április | F2: május | G2: június | H2: július | I2: augusztus | J2: szeptember | K2: október | L2: november | M2: december | N2: Összesen
A3: Kiadások
A4: Személyi juttatások | B4: 311773 | C4: 311770 | D4: 311770 | E4: 311770 | F4: 311770 | G4: 311770 | H4: 311770 | I4: 311770 | J4: 311770 | K4: 311770 | L4: 311770 | M4: =36+311770 -> 311806 | N4: =SUM(B4:M4) -> 3741279 | O4: 3741279 | P4: =O4-N4 -> 0
A5: Munkaadókat terhelő járulékok | B5: 45242 | C5: 45240 | D5: 45240 | E5: 45240 | F5: 45240 | G5: 45240 | H5: 45240 | I5: 45240 | J5: 45240 | K5: 45240 | L5: 45240 | M5: 45259 | N5: =SUM(B5:M5) -> 542901 | O5: 542901 | P5: =O5-N5 -> 0
A6: Dologi kiadások | B6: 438412 | C6: 430000 | D6: 440000 | E6: 440000 | F6: 445000 | G6: 438000 | H6: 438000 | I6: 438000 | J6: 438000 | K6: 438000 | L6: 438000 | M6: 439532 | N6: =SUM(B6:M6) -> 5260944 | O6: 5260944 | P6: =O6-N6 -> 0
A7: Ellátottak pénzbeli juttatásai | B7: 15542 | C7: 15540 | D7: 15540 | E7: 15540 | F7: 15540 | G7: 15540 | H7: 15540 | I7: 15540 | J7: 15540 | K7: 15540 | L7: 15540 | M7: 15558 | N7: =SUM(B7:M7) -> 186500 | O7: 186500 | P7: =O7-N7 -> 0
A8: Egyéb működési célú kiadások | B8: 56554 | C8: 56000 | D8: 156000 | E8: 222000 | F8: 356000 | G8: 500000 | H8: 156000 | I8: 156000 | J8: 600000 | K8: 156000 | L8: 332686 | M8: 156000 | N8: =SUM(B8:M8) -> 2903240 | O8: 2903240 | P8: =O8-N8 -> 0
A9: Működési kiadás összesen: | B9: =SUM(B4:B8) -> 867523 | C9: =SUM(C4:C8) -> 858550 | D9: =SUM(D4:D8) -> 968550 | E9: =SUM(E4:E8) -> 1034550 | F9: =SUM(F4:F8) -> 1173550 | G9: =SUM(G4:G8) -> 1310550 | H9: =SUM(H4:H8) -> 966550 | I9: =SUM(I4:I8) -> 966550 | ... O9: =SUM(O4:O8) -> 12634864
A10: Beruházások | C10: 150000 | F10: 500000 | K10: 256349 | N10: =SUM(B10:M10) -> 906349 | O10: 906349 | P10: =O10-N10 -> 0
A11: Felújítások | C11: 15000 | F11: 250000 | H11: 323199 | L11: 450000 | N11: =SUM(B11:M11) -> 1038199 | O11: 1038199 | P11: =O11-N11 -> 0
A12: Egyéb felhalmozási célú kiadások | J12: 50000 | N12: =SUM(B12:M12) -> 50000 | O12: 50000 | P12: =O12-N12 -> 0
A13: Felhalmozási kiadások összesen: | B13: =SUM(B10:B12) -> 0 | C13: =SUM(C10:C12) -> 165000 | D13: =SUM(D10:D12) -> 0 | E13: =SUM(E10:E12) -> 0 | F13: =SUM(F10:F12) -> 750000 | G13: =SUM(G10:G12) -> 0 | H13: =SUM(H10:H12) -> 323199 | I13: =SUM(I10:I12) -> 0 | ... O13: =SUM(O10:O12) -> 1994548 | P13: =O13-N13 -> 0
A14: Finanszírozási kiadások összesen: | B14: 15500 | C14: 15500 | D14: 15000 | N14: =SUM(B14:M14) -> 46000 | O14: 46000 | P14: =O14-N14 -> 0
A15: Kiadások összesen: | B15: =B9+B13+B14 -> 883023 | C15: =C9+C13+C14 -> 1039050 | D15: =D9+D13+D14 -> 983550 | E15: =E9+E13+E14 -> 1034550 | F15: =F9+F13+F14 -> 1923550 | G15: =G9+G13+G14 -> 1310550 | H15: =H9+H13+H14 -> 1289749 | I15: =I9+I13+I14 -> 966550 | ... N15: =N9+N13+N14 -> 14675412 | O15: =+O9+O13+O14 -> 14675412
A16: Bevételek | N16: =SUM(B16:M16) -> 0 | P16: =O16-N16 -> 0
A17: Működési célú támogatások államháztartáson belülről | B17: 177000 | C17: 177100 | D17: 177000 | E17: 177000 | F17: 177000 | G17: 177000 | H17: 177996 | I17: 177000 | J17: 177000 | K17: 177000 | L17: 177000 | M17: 177000 | N17: =SUM(B17:M17) -> 2125096 | O17: 2125096 | P17: =O17-N17 -> 0 | Q17: =+P17/12 -> 0
A18: Közhatalmi bevételek | C18: 20000 | D18: 1450000 | E18: 10000 | F18: 10000 | G18: 10000 | H18: 5000 | I18: 5000 | J18: 1450000 | K18: 10000 | L18: 6315 | M18: 10000 | N18: =SUM(B18:M18) -> 2986315 | O18: 2986315 | P18: =O18-N18 -> 0
A19: Működési bevételek | B19: 100000 | C19: 100000 | D19: 250000 | E19: 214500 | F19: 214500 | G19: 500000 | H19: 156000 | I19: 100000 | J19: 210000 | K19: 100000 | L19: 100000 | M19: 100000 | N19: =SUM(B19:M19) -> 2145000 | O19: 2145000 | P19: =O19-N19 -> 0
A20: Működési célú átvett pénzeszközök | N20: =SUM(B20:M20) -> 0 | O20: 0 | P20: =O20-N20 -> 0
A21: Folyó bevételek összesen | B21: =SUM(B17:B20) -> 277000 | C21: =SUM(C17:C20) -> 297100 | D21: =SUM(D17:D20) -> 1877000 | E21: =SUM(E17:E20) -> 401500 | F21: =SUM(F17:F20) -> 401500 | G21: =SUM(G17:G20) -> 687000 | H21: =SUM(H17:H20) -> 338996 | I21: =SUM(I17:I20) -> 282000 | ... M21: =SUM(M17:M20) -> 287000 | N21: =SUM(B21:M21) -> 7256411 | O21: =SUM(O17:O20) -> 7256411 | P21: =O21-N21 -> 0
A22: Felhalmozási célú támogatások államháztartáson belülről | N22: =SUM(B22:M22) -> 0 | O22: 0 | P22: =O22-N22 -> 0
A23: Felhalmozási bevételek | H23: 100000 | J23: 100000 | L23: 550000 | N23: =SUM(B23:M23) -> 750000 | O23: 750000 | P23: =O23-N23 -> 0
A24: Felhalmozási célú átvett pénzeszközök | J24: 9000 | N24: =SUM(B24:M24) -> 9000 | O24: 9000 | P24: =O24-N24 -> 0
A25: Felhalmozási bevételek összesen: | B25: =SUM(B22:B24) -> 0 | C25: =SUM(C22:C24) -> 0 | D25: =SUM(D22:D24) -> 0 | E25: =SUM(E22:E24) -> 0 | F25: =SUM(F22:F24) -> 0 | G25: =SUM(G22:G24) -> 0 | H25: =SUM(H22:H24) -> 100000 | I25: =SUM(I22:I24) -> 0 | ... O25: =SUM(O22:O24) -> 759000
A26: Finanszírozási bevételek összesen: | B26: 6660000 | N26: =SUM(B26:M26) -> 6660000 | O26: =4160000+2500000 -> 6660000 | P26: =O26-N26 -> 0
A27: Bevételek összesen: | B27: =B21+B25+B26 -> 6937000 | C27: =C21+C25+C26 -> 297100 | D27: =D21+D25+D26 -> 1877000 | E27: =E21+E25+E26 -> 401500 | F27: =F21+F25+F26 -> 401500 | G27: =G21+G25+G26 -> 687000 | H27: =H21+H25+H26 -> 438996 | I27: =I21+I25+I26 -> 282000 | ... M27: =M21+M25+M26 -> 287000 | N27: =SUM(B27:M27) -> 14675411 | O27: =+O21+O25+O26 -> 14675411 | P27: =O27-N27 -> 0
A28: Egyenleg | B28: =B27-B15 -> 6053977 | C28: =C27-C15+B28 -> 5312027 | D28: =D27-D15+C28 -> 6205477 | E28: =E27-E15+D28 -> 5572427 | F28: =F27-F15+E28 -> 4050377 | G28: =G27-G15+F28 -> 3426827 | H28: =H27-H15+G28 -> 2576074 | I28: =I27-I15+H28 -> 1891524 | J28: =J27-J15+I28 -> 2376974 | ... L28: =L27-L15+K28 -> 681154

Sheet 6. többéves kihatásu kötelezett
A1: Többéves kihatású kötelezettséget jelentő feladatok
H2: Adatok forintban
A3: Sor-szám | B3: Megnevezés | C3: Döntés | D3: Kötelezettségvállalás időtartama | E3: 2021. év végéig teljesített | F3: Kötelezettségek a következő években | K3: 2020 | L3: Még fenálló kötelezettség | M3: Összes vállalt kötelezettség
F4: 2022. | G4: 2023. | H4: 2024. | I4: 2025. | J4: 2026.
A5: 1. | B5: Felhalmozási célú hiteltörlesztés (tőke+kamat) | E5: =SUM(E6) -> 0 | F5: =SUM(F6) -> 0 | G5: =SUM(G6) -> 0 | H5: =SUM(H6) -> 0 | I5: =SUM(I6) -> 0 | J5: =SUM(J6) -> 0 | K5: =SUM(K6) -> 0 | L5: =SUM(L6) -> 0 | M5: =SUM(M6) -> 0
A7: 2. | B7: Beruházások feladatonként | E7: =SUM(E8) -> 0 | F7: =SUM(F8) -> 0 | G7: =SUM(G8) -> 0 | H7: =SUM(H8:H9) -> 0 | I7: =SUM(I8:I9) -> 0 | J7: =SUM(J8:J9) -> 0 | K7: =SUM(K8:K9) -> 0 | L7: =SUM(L8:L9) -> 0 | M7: =SUM(M8) -> 0
A10: 3. | B10: Felújítások célonként
A11: 4. | B11: Megállapodás, szerződés alapján | E11: =SUM(E12:E17) -> 0 | F11: =SUM(F12:F17) -> 0 | G11: =SUM(G12:G17) -> 0 | H11: =SUM(H12:H17) -> 0 | I11: =SUM(I12:I17) -> 0 | J11: =SUM(J12:J17) -> 0 | K11: =SUM(K12:K17) -> 0 | L11: =SUM(L12:L17) -> 0 | M11: =SUM(M12:M17) -> 0
A18: 5. | B18: Egyéb | E18: =SUM(E19) -> 0 | F18: =SUM(F19) -> 0 | G18: =SUM(G19) -> 0 | H18: =SUM(H19) -> 0 | I18: =SUM(I19) -> 0 | J18: =SUM(J19) -> 0 | K18: =SUM(K19) -> 0 | L18: =SUM(L19) -> 0 | M18: =SUM(M19) -> 0
B20: ÖSSZESEN: | E20: =E5+E7+E10+E11+E18 -> 0 | F20: =F5+F7+F10+F11+F18 -> 0 | G20: =G5+G7+G10+G11+G18 -> 0 | H20: =H5+H7+H10+H11+H18 -> 0 | I20: =I5+I7+I10+I11+I18 -> 0 | J20: =J5+J7+J10+J11+J18 -> 0 | K20: =K5+K7+K10+K11+K18 -> 0 | L20: =L5+L7+L10+L11+L18 -> 0 | M20: =M5+M7+M10+M11+M18 -> 0
G30: =#REF!+#REF! -> #REF!
G31: =#REF!+#REF! -> #REF!
G32: =#REF!+#REF! -> #REF!
G33: =#REF!+#REF! -> #REF!
G34: =#REF!+#REF! -> #REF!
G35: =#REF!+#REF! -> #REF!
G36: =#REF!+#REF! -> #REF!
G37: =#REF!+#REF! -> #REF!

Sheet 4. melléklet
B1: Beruházások | K1: Felújítások
B2: eredeti előirányzat | J2: módosított előirányzat | K2: eredeti előirányzat | P2: módosított előirányzat
B3: K61 | C3: K62 | D3: K63 | E3: K64 | F3: K65 | G3: K66 | H3: K67 | I3: K6 | J3: K6 | K3: K71 | L3: K72 | M3: K73 | N3: K74 | O3: K7 | P3: K7
B4: Immateriális javak | C4: Ingatlanok | D4: Informatikai eszközök | E4: Egyéb tárgyi eszköz | F4: Részesedés | G4: Meglévő részesedés növelése | H4: ÁFA | I4: ÖSSZESEN | J4: ÖSSZESEN | K4: Ingatlanok | L4: Informatikai eszközök | M4: Egyéb tárgyi eszközök | N4: ÁFA | O4: ÖSSZESEN | P4: ÖSSZESEN
A5: ÖNKORMÁNYZAT ÖSSZESEN | B5: =SUM(B6+B65+B77+B107+B162+B217+B238+B256+B266) -> 35870.52 | C5: =SUM(C6+C65+C77+C107+C162+C217+C238+C256+C266) -> 379577 | D5: =SUM(D6+D65+D77+D107+D162+D217+D238+D256+D266) -> 23676 | E5: =SUM(E6+E65+E77+E107+E162+E217+E238+E256+E266) -> 352805.99 | F5: =SUM(F6+F65+F77+F107+F162+F217+F238+F256+F266) -> 0 | G5: =SUM(G6+G65+G77+G107+G162+G217+G238+G256+G266) -> 0 | H5: =SUM(H6+H65+H77+H107+H162+H217+H238+H256+H266) -> 213857.55 | I5: =SUM(I6+I65+I77+I107+I162+I217+I238+I256+I266)+1 -> 1007058.1 | J5: =SUM(J6+J65+J77+J107+J162+J217+J238+J256+J266) -> 1007058 | K5: =SUM(K6+K65+K77+K107+K162+K217+K238+K256+K266) -> 981872 | L5: =SUM(L6+L65+L77+L107+L162+L217+L238+L256+L266) -> 10000 | M5: =SUM(M6+M65+M77+M107+M162+M217+M238+M256+M266) -> 5000 | N5: =SUM(N6+N65+N77+N107+N162+N217+N238+N256+N266) -> 269152.95 | O5: =SUM(O6+O65+O77+O107+O162+O217+O238+O256+O266) -> 1266024.9 | P5: =SUM(P6+P65+P77+P107+P162+P217+P238+P256+P266) -> 1266025
A6: Budapest I. Kerület Budavári Önkormányzat | B6: =SUM(B7:B64) -> 9842.5197 | C6: =SUM(C7:C64) -> 379577 | D6: =SUM(D7:D64) -> 12598 | E6: =SUM(E7:E64) -> 149975 | F6: =SUM(F7:F64) -> 0 | G6: =SUM(G7:G64) -> 0 | H6: =SUM(H7:H64) -> 149041 | I6: =SUM(I7:I64) -> 701033.52 | ... N6: =SUM(N7:N64) -> 125520 | O6: =SUM(K6:N6) -> 590402 | P6: =SUM(P7:P64) -> 590402
A7: Monitoring rendszer továbbfejlesztése | B7: =12500/1.27 -> 9842.5197 | H7: 2657 | I7: =SUM(B7:H7) -> 12499.52 | J7: 12500
A8: Kerületi lakáscélú ingatlanállomány bővítése | I8: =SUM(B8:H8) -> 0
A9: Batthyány tér felszíni átalakítása (TÉR_KÖZ) | C9: 110236 | H9: 29764 | I9: =SUM(B9:H9) -> 140000 | J9: 140000
A10: Batthyány utcai iskola tornaterem kivitelezése | H10: =SUM(B10:E10)*0.27 -> 0 | I10: =SUM(B10:H10) -> 0
A11: Batthyány utcai iskola tornaterem kiviteli terve | C11: 43307 | H11: 11693 | I11: =SUM(B11:H11) -> 55000 | J11: 55000
A12: Csalogány utca 20-26 előtti tér közterületi fejlesztése | C12: 23622 | H12: 6378 | I12: =SUM(B12:H12) -> 30000 | J12: 30000
A13: Logodi utcai idősek otthona tervezés - koncepcióterv | C13: 3200 | H13: 864 | I13: =SUM(B13:H13) -> 4064 | J13: 4064
A14: Logodi utcai idősek otthona tervezés (engedélyezési- és kiviteli terv) | C14: 118110 | H14: 31890 | I14: =SUM(B14:H14) -> 150000 | J14: 150000
A15: Lovas út 11-12. alatti apartmanház tervezése | C15: 19685 | H15: 5315 | I15: =SUM(B15:H15) -> 25000 | J15: 25000
A16: Szabó Ilonka kutyafuttató | C16: 2362 | H16: 638 | I16: =SUM(B16:H16) -> 3000 | J16: 3000
A17: Szelektív gyűjtőszigetekhez kamera | D17: 787 | H17: 213 | I17: =SUM(B17:H17) -> 1000 | J17: 1000
A18: Városháza épület biztonsági beléptető rendszer létesítés | D18: 11811 | H18: 3189 | I18: =SUM(B18:H18) -> 15000 | J18: 15000
A19: Mikromobilitási pontok létesítése | H19: =SUM(B19:E19)*0.27 -> 0 | I19: =SUM(B19:H19) -> 0
H20: =SUM(B20:E20)*0.27 -> 0 | I20: =SUM(B20:H20) -> 0
A22: Budavári - vári parkolóterminálok beszerzése 12 | E22: 11811 | H22: 3189 | I22: =SUM(B22:H22) -> 15000 | J22: 15000
A23: Budavári - vári sorompóoszlop beszerzése | E23: 31496 | H23: 8504 | I23: =SUM(B23:H23) -> 40000 | J23: 40000
A24: Csikkgyűjtő (20 db) szelektív gyűjtők mellé - KVA | E24: 1197 | H24: 323 | I24: =SUM(B24:H24) -> 1520 | J24: 1520
A25: Dendrológiai tanösvény tervezése, megvalósítása - KVA | E25: 2362 | H25: 638 | I25: =SUM(B25:H25) -> 3000 | J25: 3000
A26: Horváth-kert fejlesztés | E26: 3937 | H26: 1063 | I26: =SUM(B26:H26) -> 5000 | J26: 5000
A27: Hőkamera beszerzés - KVA | E27: 236 | H27: 64 | I27: =SUM(B27:H27) -> 300 | J27: 300 | N27: =+K27*0.27 -> 0 | O27: =+K27+N27 -> 0
A28: Ivókutak, párakapuk létesítése - KVA | E28: 7874 | H28: 2126 | I28: =SUM(B28:H28) -> 10000 | J28: 10000
A29: Katasztrófavédelemmel kapcsolatos kiadások (az új raktár berendezése, felszerelése) | E29: 2362 | H29: 638 | I29: =SUM(B29:H29) -> 3000 | J29: 3000
A30: Közterület ügyfélszolgálati iroda öltöző szekrény és infra fűtőpanel | E30: 748 | H30: 202 | I30: =SUM(B30:H30) -> 950 | J30: 950
A31: Kutyapiszok gyűjtő bővítés telepítéssel (15 db) - KVA | E31: 945 | H31: 255 | I31: =SUM(B31:H31) -> 1200 | J31: 1200
A32: Levegőminőségmérő műszer (10 db) - KVA | E32: 236 | H32: 64 | I32: =SUM(B32:H32) -> 300 | J32: 300
A33: Naphegy tér fejlesztése | E33: 10630 | H33: 2870 | I33: =SUM(B33:H33) -> 13500 | J33: 13500
A34: Öntözőrendszerek tervezése, létesítése - KVA | E34: 3937 | H34: 1063 | I34: =SUM(B34:H34) -> 5000 | J34: 5000
A35: Süllyedő pollerekhez kamera | E35: 787 | H35: 213 | I35: =SUM(B35:H35) -> 1000 | J35: 1000
A36: Szelektív gyűjtőszigetekhez kamera | H36: =SUM(B36:E36)*0.27 -> 0 | I36: =SUM(B36:H36) -> 0
A37: Szentháromság téri zöldfelület megújítása (önerő) | C37: 39370 | H37: 10630 | I37: =SUM(B37:H37) -> 50000 | J37: 50000
A38: Szentháromság tér zöldterületi fejlesztése tervpályázat | C38: 19685 | H38: 5315 | I38: =SUM(B38:H38) -> 25000 | J38: 25000
A39: Térfigyelő kamerarendszer bővítésére | E39: 59055 | H39: 15945 | I39: =SUM(B39:H39) -> 75000 | J39: 75000
A40: Utcabútorok, virágládák, táblák, pollerek, egyéb tárgyi eszk. beszerzése | E40: 11811 | H40: 3189 | I40: =SUM(B40:H40) -> 15000 | J40: 15000
A41: Vízivárosi forgalomcsökkentés Mária tér pilot projekt | H41: =SUM(B41:E41)*0.27 -> 0 | I41: =SUM(B41:H41) -> 0
A42: Zajmérőműszer beszerzése - KVA | E42: 551 | H42: 149 | I42: =SUM(B42:H42) -> 700 | J42: 700
A43: Vári turizmust támogató beruházások | H43: =SUM(B43:E43)*0.27 -> 0 | I43: =SUM(B43:H43) -> 0
A44: Önkormányzati lakások felújítási kerete | K44: 173228 | N44: 46772 | O44: =SUM(K44:N44) -> 220000 | P44: 220000
A45: 7131 hrsz lépcső tartószerkezeti hibák megszüntetése, felújítás | K45: 9449 | N45: 2551 | O45: =SUM(K45:N45) -> 12000 | P45: 12000
A46: Budavári - Palota úti őrház felújítása | H46: =SUM(B46:E46)*0.27 -> 0 | I46: =SUM(B46:H46) -> 0 | K46: 3937 | N46: 1063 | O46: =SUM(K46:N46) -> 5000 | P46: 5000
A47: Hunyadi úti park felújítása | K47: 9449 | N47: 2551 | O47: =SUM(K47:N47) -> 12000 | P47: 12000
A48: Közterületi lépcsők felmérése, felújítás ütemezés tervezése | K48: 7874 | N48: 2126 | O48: =SUM(K48:N48) -> 10000 | P48: 10000
A49: Közutakat, járdákat, közterületeket érintő forgalomtechnikai kis korrekciós beavatkozások kivitelezése | K49: 7874 | N49: 2126 | O49: =+K49+N49 -> 10000 | P49: 10000
A50: Közvilágítás kiépítés, energiahatékonyságot növelő korszerűsítés (BDK-val együttműködve) | K50: 11811 | N50: 3189 | O50: =SUM(K50:N50) -> 15000 | P50: 15000
A51: Kutyafuttatók felújítása, fejlesztése | K51: 11811 | N51: 3189 | O51: =SUM(K51:N51) -> 15000 | P51: 15000
A52: Markovits utcai kazettás járdaszakasz rendezése | K52: 19685 | N52: 5315 | O52: =SUM(K52:N52) -> 25000 | P52: 25000
A53: Műemléki kőelemek rekonstr., pótl. | K53: 7874 | N53: 2126 | O53: =SUM(K53:N53) -> 10000 | P53: 10000
A54: Reformációs emlékkút átalakítása víztakarékos üzemeltetésre - KVA | K54: 11811 | N54: 3189 | O54: =+K54+N54 -> 15000 | P54: 15000
A55: Szeder lépcső és kutyafuttató környezet rendezése, felújítása | K55: 19685 | N55: 5315 | O55: =SUM(K55:N55) -> 25000 | P55: 25000
A57: Tabáni tanösvény felújítás - KVA | K57: 3150 | N57: 851 | O57: =SUM(K57:N57) -> 4001 | P57: 4001
A58: Toldy Ferenc u. 25. parkoló rendbetétele | K58: 6299 | N58: 1701 | O58: =SUM(K58:N58) -> 8000 | P58: 8000
A59: Toldy Ferenc Gimnázium kapu felújítás | K59: 15748 | N59: 4252 | O59: =SUM(K59:N59) -> 20000 | P59: 20000
A60: Városháza épület földszint és emeleti kabinet átalakítása kivitelezés I. üteme | K60: 15748 | N60: 4252 | O60: =SUM(K60:N60) -> 20000 | P60: 20000
A61: Városháza épület földszint és emeleti kabinet átalakítása tervezés | K61: 3465 | N61: 936 | O61: =SUM(K61:N61) -> 4401 | P61: 4401
A62: Városháza épület gépészeti felújítása kivitelezés | K62: 98425 | N62: 26575 | O62: =SUM(K62:N62) -> 125000 | P62: 125000
A63: Városháza épület gépészeti felújítása tervezés | K63: 7874 | N63: 2126 | O63: =SUM(K63:N63) -> 10000 | P63: 10000
A64: Városháza épület tetőfelújítása | K64: 19685 | N64: 5315 | O64: =SUM(K64:N64) -> 25000 | P64: 25000
A65: Budapest Főváros I. Kerület Budavári Polgármesteri Hivatal | B65: =SUM(B66:B76) -> 22205 | C65: =SUM(C66:C76) -> 0 | D65: =SUM(D66:D76) -> 5000 | E65: =SUM(E66:E76) -> 20511.992 | F65: =SUM(F66:F68) -> 0 | G65: =SUM(G66:G68) -> 0 | H65: =SUM(H66:H76) -> 12883 | I65: =SUM(B65:H65) -> 60599.992 | J65: =SUM(J66:J76) -> 60600 | K65: =SUM(K66:K76) -> 10000 | L65: =SUM(L66:L76) -> 10000 | M65: =SUM(M66:M76) -> 5000 | N65: =SUM(N66:N76) -> 6750 | O65: =SUM(K65:N65) -> 31750 | P65: =SUM(P66:P76) -> 31750
A66: Session rendszer beszerzése | B66: 12205 | H66: 3295 | I66: =SUM(B66:H66) -> 15500 | J66: 15500
A67: MS licenszek | B67: 10000 | H67: 2700 | I67: =SUM(B67:H67) -> 12700 | J67: 12700
A68: 2 db szolgálati gépjármű vásárlása | E68: 9449 | H68: 2551 | I68: =SUM(B68:H68) -> 12000 | J68: 12000
A69: közterület dolgozói részére telefonkészülékek beszerzése (létszám bővítés és elhasználódás miatt) | E69: =1350/1.27 -> 1062.9921 | H69: =1350-1063 -> 287 | I69: =SUM(B69:H69) -> 1349.9921 | J69: 1350
A70: Hivatali beruházások (irodák kialakítása) | H70: =+C70*0.27 -> 0 | I70: =SUM(B70:H70) -> 0
A71: Informatikai eszközök beszerzési kerete | D71: =-1000+6000 -> 5000 | H71: =+D71*0.27 -> 1350 | I71: =SUM(B71:H71) -> 6350 | J71: 6350
A72: Egyéb tárgyi eszközök beszerzése | E72: 10000 | H72: =+E72*0.27 -> 2700 | I72: =SUM(B72:H72) -> 12700 | J72: 12700
A73: Épület felújítás | K73: 10000 | N73: =+K73*0.27 -> 2700 | O73: =SUM(K73:N73) -> 12700 | P73: 12700
A74: Informatikai eszközök felújítása | L74: 10000 | N74: =+L74*0.27 -> 2700 | O74: =SUM(K74:N74) -> 12700 | P74: 12700
A75: Egyéb tárgyieszközök felújítása | M75: 5000 | N75: =+M75*0.27 -> 1350 | O75: =SUM(K75:N75) -> 6350 | P75: 6350
A77: Budapest I. kerület Budavári Önkormányzat Egészségügyi Szolgálata | B77: =SUM(B78:B106) -> 0 | C77: =SUM(C78:C106) -> 0 | D77: =SUM(D78:D106) -> 0 | E77: =SUM(E78:E106) -> 0 | F77: =SUM(F78:F106) -> 0 | G77: =SUM(G78:G106) -> 0 | H77: =SUM(H78:H106) -> 0 | I77: 1270 | J77: 1270 | K77: =SUM(K78:K106) -> 0 | L77: =SUM(L78:L106) -> 0 | M77: =SUM(M78:M106) -> 0 | N77: =SUM(N78:N106) -> 0 | O77: =SUM(K77:N77) -> 0 | P77: 0
A78: Attila u. 63 | I78: =SUM(B78:H78) -> 0 | O78: =SUM(K78:N78) -> 0
A79: Csalogány u. | I79: =SUM(B79:H79) -> 0 | O79: =SUM(K79:N79) -> 0
A80: Maros u. | I80: =SUM(B80:H80) -> 0 | O80: =SUM(K80:N80) -> 0
A81: Gyerekfogászat klíma | I81: =SUM(B81:H81) -> 0 | O81: =SUM(K81:N81) -> 0
A82: Zsolt u. klíma és hangszigelt ajtó | I82: =SUM(B82:H82) -> 0 | O82: =SUM(K82:N82) -> 0
A83: Maros utcai rendelő
A84: Nőgyógyászat-urulógia | I84: =SUM(B84:H84) -> 0 | O84: =SUM(K84:N84) -> 0
A85: Fül-orr-gége hőlégsterilizáló | I85: =SUM(B85:H85) -> 0 | O85: =SUM(K85:N85) -> 0
A86: Fül-orr-gége tympanometer | I86: =SUM(B86:H86) -> 0 | O86: =SUM(K86:N86) -> 0
A87: Sebészet - felxibilis rectoscop | I87: =SUM(B87:H87) -> 0 | O87: =SUM(K87:N87) -> 0
A88: Szemészet- optikai kohenrencia tomográfiás készülék | I88: =SUM(B88:H88) -> 0 | O88: =SUM(K88:N88) -> 0
A89: Szemészet - betegvizsgáló szék | I89: =SUM(B89:H89) -> 0 | O89: =SUM(K89:N89) -> 0
A90: Szemészet - Öltöző szekrény | I90: =SUM(B90:H90) -> 0 | O90: =SUM(K90:N90) -> 0
A91: EKG, Foglalkozás eü. - EKG | I91: =SUM(B91:H91) -> 0 | O91: =SUM(K91:N91) -> 0
A92: EKG, Foglalkozás eü. - Gurulós kocsi | I92: =SUM(B92:H92) -> 0 | O92: =SUM(K92:N92) -> 0
A93: EKG, Foglalkozás eü. - Légzésfunkciós készülék, mobil | I93: =SUM(B93:H93) -> 0 | O93: =SUM(K93:N93) -> 0
A94: EKG, Foglalkozás eü. - Holter- ABPM egyben | I94: =SUM(B94:H94) -> 0 | O94: =SUM(K94:N94) -> 0
A95: EKG, Foglalkozás eü. - Boka-kar indexmérő | I95: =SUM(B95:H95) -> 0 | O95: =SUM(K95:N95) -> 0
... A106: Kisértékű tárgyi eszközök (lista a szöveges indoklásban) | I106: =SUM(B106:H106) -> 0 | O106: =SUM(K106:N106) -> 0
A107: Budapest I. kerület Budavári Önkormányzat GAMESZ | B107: =SUM(B108:B161) -> 3823 | C107: =SUM(C108:C161) -> 0 | D107: =SUM(D108:D161) -> 2617 | E107: =SUM(E108:E161) -> 165225 | F107: =SUM(F108:F161) -> 0 | G107: =SUM(G108:G161) -> 0 | H107: =SUM(H108:H161) -> 46349.55 | I107: =SUM(B107:H107) -> 218014.55 | J107: =SUM(J115:J161) -> 218015 | K107: =SUM(K108:K161) -> 425768 | L107: =SUM(L108:L161) -> 0 | M107: =SUM(M108:M161) -> 0 | N107: =SUM(N108:N161) -> 114956.95 | O107: =SUM(K107:N107) -> 540724.95 | P107: =SUM(P115:P161) -> 540725
A108: Dísz tér 03. - homlokzati nyílászárók felújítása/cseréje | H108: =((SUM(B108:G108))*0.27) -> 0 | I108: =SUM(B108:H108) -> 0 | N108: =((SUM(K108:M108))*0.27) -> 0 | O108: =SUM(K108:N108) -> 0
A109: Úri utca 8. (Tóth Á. Sétány felőli) - homlokzati nyílászárók felújítása/cseréje | H109: =((SUM(B109:G109))*0.27) -> 0 | I109: =SUM(B109:H109) -> 0 | N109: =((SUM(K109:M109))*0.27) -> 0 | O109: =SUM(K109:N109) -> 0
A110: Úri utca 14. (Tóth Á. Sétány felőli) - homlokzati nyílászárók felújítása/cseréje | H110: =((SUM(B110:G110))*0.27) -> 0 | I110: =SUM(B110:H110) -> 0 | N110: =((SUM(K110:M110))*0.27) -> 0 | O110: =SUM(K110:N110) -> 0
A111: Úri utca 34. - udvari vízelveztés, burkolat cseréje | H111: =((SUM(B111:G111))*0.27) -> 0 | I111: =SUM(B111:H111) -> 0 | N111: =((SUM(K111:M111))*0.27) -> 0 | O111: =SUM(K111:N111) -> 0
A112: Úri utca 32. (Tóth Á. Sétány felőli) - homlokzati nyílászárók felújítása/cseréje | H112: =((SUM(B112:G112))*0.27) -> 0 | I112: =SUM(B112:H112) -> 0 | N112: =((SUM(K112:M112))*0.27) -> 0 | O112: =SUM(K112:N112) -> 0
A113: Úri utca 36. (Úri utcai) - homlokzati nyílászárók felújítása/cseréje | H113: =((SUM(B113:G113))*0.27) -> 0 | I113: =SUM(B113:H113) -> 0 | N113: =((SUM(K113:M113))*0.27) -> 0 | O113: =SUM(K113:N113) -> 0
...

Sheet 5. melléklet
A1: Budapest I. kerület Budavári Önkormányzat bevételek
A2: COFOG szám | B2: COFOG megnevezés | C2: Feladat kód | D2: Működési célú támogatások | E2: Felhalmozási célú támogatások | F2: Közhatalmi bevételek | G2: Működési (saját) bevételek | H2: Vagyon értékesítés bevételei | I2: Működési célú támogatások visszatérülése | J2: Felhalmozási célú támogatások visszatérülése | K2: Pénzügyi műveletek bevételei
A3: 011130 | B3: Önkorm. És hivatalok jogalkotó és ált. igazg. Tev | C3: K | G3: 4500 | K3: 2540000
A4: 011130 | B4: Önkorm. És hivatalok jogalkotó és ált. igazg. Tev | C4: Ö | J4: 9000
A5: 011130 | B5: Önkorm. És hivatalok jogalkotó és ált. igazg. Tev | C5: K | K5: 2538800
A6: 011130 | B6: Önkorm. És hivatalok jogalkotó és ált. igazg. Tev | C6: Ö
A7: 011130 | B7: Önkorm. És hivatalok jogalkotó és ált. igazg. Tev | C7: K
A8: 011130 | B8: Önkorm. És hivatalok jogalkotó és ált. igazg. Tev | C8: Ö
A9: 011130 | B9: Önkorm. És hivatalok jogalkotó és ált. igazg. Tev | C9: K | D9: 0 | E9: 0 | F9: 0 | H9: 0 | I9: 0 | J9: 0
A10: 011130 | B10: Önkorm. És hivatalok jogalkotó és ált. igazg. Tev | C10: Ö | D10: 0 | E10: 0 | F10: 0 | G10: 0 | H10: 0 | I10: 0 | K10: 0
A11: 013350 | B11: Önkorm vagyonnal való gazdálkodás | C11: K | E11: 87464 | H11: 1350000
A12: 013350 | B12: Önkorm vagyonnal való gazdálkodás | C12: Ö
A13: 018010 | B13: Önkorm-ok elszámolásai a kp-i költségvetéssel | C13: K
A14: 018010 | B14: Önkorm-ok elszámolásai a kp-i költségvetéssel | C14: Ö
A15: 018010 | B15: Önkorm-ok elszámolásai a kp-i költségvetéssel | C15: K
A16: 018010 | B16: Önkorm-ok elszámolásai a kp-i költségvetéssel | C16: Ö
A17: 018010 | B17: Önkorm-ok elszámolásai a kp-i költségvetéssel | C17: K | D17: 1442617
A18: 018010 | B18: Önkorm-ok elszámolásai a kp-i költségvetéssel | C18: Ö
A19: 031030 | B19: Közterület rendjének fenntartása | C19: K | F19: 47000
A20: 031030 | B20: Közterület rendjének fenntartása | C20: Ö
A21: 041110 | B21: Általános gazdasági és kereskedelmi ügyek | C21: K | F21: 2944479
A22: 041110 | B22: Általános gazdasági és kereskedelmi ügyek | C22: Ö
A23: 041233 | B23: Hosszabb időtartamú közfoglalkoztatás | C23: K
A24: 041233 | B24: Hosszabb időtartamú közfoglalkoztatás | C24: Ö
A25: 045170 | B25: Parkoló, garázs üzemeltetése, fenntartása | C25: K | G25: 1245000
A26: 045170 | B26: Parkoló, garázs üzemeltetése, fenntartása | C26: Ö
A27: 062020 | B27: Településfejlesztési projektek és támogatásuk | C27: K
A28: 062020 | B28: Településfejlesztési projektek és támogatásuk | C28: Ö
A29: 066010 | B29: Zöldterület kezelés, kiépítés, gondozás | C29: K
A30: 066010 | B30: Zöldterület kezelés, kiépítés, gondozás | C30: Ö
A31: 066020 | B31: Városgazdálkodási egyéb szolgáltatások | C31: K
A32: 066020 | B32: Városgazdálkodási egyéb szolgáltatások | C32: Ö
A33: 082070 | B33: Történelmi hely, építmény, egyéb látványosság működtetése, megóvása | C33: K
A34: 082070 | B34: Történelmi hely, építmény, egyéb látványosság működtetése, megóvása | C34: Ö
A35: 083030 | B35: Egyéb kiadói tevékenység | C35: K
A36: 083030 | B36: Egyéb kiadói tevékenység | C36: Ö
A37: 107060 | B37: Egyéb szociális pénzbeli és természetbeni ellátások | C37: K
A38: 107060 | B38: Egyéb szociális pénzbeli és természetbeni ellátások | C38: Ö
A39: 900020 | B39: Önkormányzatok funkcióra nem sorolható bevételei államháztartáson kívülről | C39: K | G39: =14000+68200+168212+57+5250+223288 -> 479007
A40: 900021 | B40: Önkormányzatok funkcióra nem sorolható bevételei államháztartáson kívülről | C40: Ö
A41: 900060 | B41: Forgatási és befektetési célú finanszírozási műveletek | C41: K
A42: 900060 | B42: Forgatási és befektetési célú finanszírozási műveletek | C42: Ö
A43: Budapest I. kerület Budavári Önkormányzat kiadások
A44: COFOG szám | B44: COFOG megnevezés | C44: Feladat kód | D44: Személyi jellegű kiadások | E44: Munkaadókat terhelő adók, járulékok | F44: Dologi kiadások | G44: Ellátottak juttatásai kiadások | H44: Működési célú kifizetések, támogatások kiadásai | I44: Beruházások | J44: Felújítások | K44: Felhalmozási célú kifizetések, támogatások kiadásai | L44: Pénzügyi műveletek kiadásai
A45: 011130 | B45: Önkorm. És hivatalok jogalkotó és ált. igazg. Tev | C45: K | D45: 149553 | E45: 30710 | F45: 87743 | H45: =-200000+1796198 -> 1596198 | I45: 80699 | K45: 200000 | L45: 4601631
A46: 011130 | B46: Önkorm. És hivatalok jogalkotó és ált. igazg. Tev | C46: Ö
A47: 011130 | B47: Önkorm. És hivatalok jogalkotó és ált. igazg. Tev | C47: K
A48: 011130 | B48: Önkorm. És hivatalok jogalkotó és ált. igazg. Tev | C48: Ö
A49: 011130 | B49: Önkorm. És hivatalok jogalkotó és ált. igazg. Tev | C49: K
A50: 011130 | B50: Önkorm. És hivatalok jogalkotó és ált. igazg. Tev | C50: Ö
A51: 011130 | B51: Önkorm. És hivatalok jogalkotó és ált. igazg. Tev | C51: K | G51: 0 | J51: 0
A52: 011130 | B52: Önkorm. És hivatalok jogalkotó és ált. igazg. Tev | C52: Ö | F52: 0 | G52: 0 | I52: 0 | J52: 0
A53: 013350 | B53: Önkorm vagyonnal való gazdálkodás | C53: K | F53: 126500 | I53: 55000 | J53: 5000
A54: 013350 | B54: Önkorm vagyonnal való gazdálkodás | C54: Ö | H54: 21000 | K54: 19792
A55: 016080 | B55: Kiemelt állami és önkorm rendezvények | C55: K | F55: 68500
A56: 016080 | B56: Kiemelt állami és önkorm rendezvények | C56: Ö
A57: 018020 | B57: Központi költségvetési befizetések | C57: K | L57: 51376
A58: 018020 | B58: Központi költségvetési befizetések | C58: Ö | H58: 412078
A59: 018030 | B59: Támogatási célú finanszírozási műveletek | C59: K
A60: 018030 | B60: Támogatási célú finanszírozási műveletek | C60: Ö
A61: 031030 | B61: Közterület rendjének fenntartása | C61: K | F61: 35478 | H61: 16000 | I61: 79950
A62: 031030 | B62: Közterület rendjének fenntartása | C62: Ö | I62: ,
A63: 031030 | B63: Közterület rendjének fenntartása | C63: Á
A64: 041233 | B64: Hosszabb időtartamú közfoglalkoztatás | C64: K
A65: 041233 | B65: Hosszabb időtartamú közfoglalkoztatás | C65: Ö
A66: 042180 | B66: Állat-egészségügy | C66: K | F66: 5118
A67: 042180 | B67: Állat-egészségügy | C67: Ö
A68: 045160 | B68: Közutak hidak, alagutak üzemeltetése, fenntartása | C68: K | F68: 261558 | I68: 3000 | J68: 10000
A69: 045160 | B69: Közutak hidak, alagutak üzemeltetése, fenntartása | C69: Ö | H69: 30000
A70: 045170 | B70: Parkoló, garázs üzemeltetése, fenntartása | C70: K | F70: 601077
A71: 045170 | B71: Parkoló, garázs üzemeltetése, fenntartása | C71: Ö
A72: 062010 | B72: Településfejlesztés igazgatása | C72: K | D72: 10000 | F72: 27000 | I72: 202385 | J72: 205000
A73: 062010 | B73: Településfejlesztés igazgatása | C73: Ö
A74: 062020 | B74: Településfejlesztési projektek és támogatásuk | C74: K | H74: 426913 | I74: 270000 | J74: =15000+301400 -> 316400
A75: 062020 | B75: Településfejlesztési projektek és támogatásuk | C75: Ö
A76: 066010 | B76: Zöldterület kezelés, kiépítés, gondozás | C76: K | F76: 248900 | H76: 70000 | I76: 10000
A77: 066010 | B77: Zöldterület kezelés, kiépítés, gondozás | C77: Ö
A78: 066020 | B78: Városgazdálkodási egyéb szolgáltatások | C78: K | F78: 82136 | J78: 29000
A79: 066020 | B79: Városgazdálkodási egyéb szolgáltatások | C79: Ö
A80: 082070 | B80: Történelmi hely, építmény, egyéb látványosság működtetése, megóvása | C80: K | F80: 168022
A81: 082070 | B81: Történelmi hely, építmény, egyéb látványosság működtetése, megóvása | C81: Ö | J81: 25000
A82: 082091 | B82: Közművelődés - közösségi és társadalmi részvétel fejlesztése | C82: K | D82: 15000 | F82: 24455
A83: 082091 | B83: Közművelődés - közösségi és társadalmi részvétel fejlesztése | C83: Ö | F83: 5000 | H83: 65000
A84: 083030 | B84: Egyéb kiadói tevékenység | C84: K | F84: 4888
A85: 083030 | B85: Egyéb kiadói tevékenység | C85: Ö | F85: 35540
A86: 084010 | B86: Társadalmi tev, esély=, érdekképv, nemzetiségek, egyházak összef. Feladatok igazg, szabályozása | C86: K
A87: 084010 | B87: Társadalmi tev, esély=, érdekképv, nemzetiségek, egyházak összef. Feladatok igazg, szabályozása | C87: Ö | H87: 15000
A88: 084031 | B88: Civil szervezetek működési támogatása | C88: K
A89: 084031 | B89: Civil szervezetek működési támogatása | C89: Ö | H89: 96000
A90: 084032 | B90: Civil szervezetek programtámogatása | C90: K
A91: 084032 | B91: Civil szervezetek programtámogatása | C91: Ö | H91: 20000
A92: 086010 | B92: Határon túli magyarok egyéb támogatásai | C92: K
A93: 086010 | B93: Határon túli magyarok egyéb támogatásai | C93: Ö
A94: 086020 | B94: Helyi, térségi közösségi tér biztosítása, működtetése | C94: K | D94: 18000 | F94: 12124
A95: 086020 | B95: Helyi, térségi közösségi tér biztosítása, működtetése | C95: Ö
A96: 086030 | B96: Nemzetközi kulturális együttműködés | C96: K
A97: 086030 | B97: Nemzetközi kulturális együttműködés | C97: Ö | D97: 12826 | F97: 17822
A98: 091120 | B98: SNI-s gyermekek óvodai ellátás szakmai feladatai | C98: K | F98: 15275
A99: 091120 | B99: SNI-s gyermekek óvodai ellátás szakmai feladatai | C99: Ö | H99: 20000
A100: 104012 | B100: Gyermekek átmeneti ellátása | C100: K | H100: 2000
...

Sheet 5 melléklet
C1: 2022. évi eredeti előirányzat | D1: változás I. | E1: módosított előirányzat I. | F1: változás II. | G1: módosított előirányzat II. | H1: változás III. | I1: módosított előirányzat III. | J1: változás IV. | K1: módosított előirányzat IV.
A2: TARTALÉKOK ÖSSZESEN | C2: =SUM(C3:C4) -> 1465753.7 | E2: =SUM(E3:E4) -> 1356246 | F2: =G2-E2 -> -1356246 | G2: =SUM(G3:G4) -> 0 | H2: =I2-G2 -> 0 | I2: =SUM(I3:I4) -> 0 | J2: =K2-I2 -> 0 | K2: =SUM(K3:K4) -> 0
A3: Általános tartalék | C3: =150000-10000 -> 140000 | E3: =140000-2000-48-13145-50000-2331+22316 -> 94792
A4: Céltartalékok összesen | C4: =SUM(C5:C59) -> 1325753.7 | E4: =SUM(E5:E61) -> 1261454 | F4: =G4-E4 -> -1261454 | G4: =SUM(G5:G61) -> 0 | H4: =I4-G4 -> 0 | I4: =SUM(I5:I61) -> 0 | J4: =K4-I4 -> 0 | K4: =SUM(K5:K61) -> 0
A5: sorszám | B5: Előkészítési céltartalékok
A6: 1 | B6: Okosváros megoldások | C6: 18000 | E6: 18000
A7: 2 | B7: Vízivárosi forgalomcsökkentés Mária tér pilot projekt | C7: =5000+10000 -> 15000 | E7: 15000
A8: 3 | B8: Új fakivágási rendelet | C8: 850 | E8: 850
A9: 4 | B9: EU-s pályázatok előkészítése | C9: 50000 | E9: 50000
A10: 5 | B10: Projektszakértők | C10: 10000 | E10: 10000
B12: Üzemeltetési céltartalékok
A13: 6 | B13: FKF-vel külön megállapodás plusz takarításra | C13: 18000 | E13: 18000
A14: 7 | B14: Meglévő szobor állomány karbantartása, bővítése | C14: 4000 | E14: 0
B16: Beruházási céltartalékok
A17: 8 | B17: Bölcsőde fejlesztése - Dezső utca 8. | C17: 650000 | E17: 650000
A18: 9 | B18: Bölcsőde felújítási pályázat önerő | C18: 17386 | E18: 17386
A19: 10 | B19: Zsinagóga projekt | C19: =100000-15000 -> 85000 | E19: 85000
A20: 11 | B20: Fiáth János utca macskakő burkolat felújításának tervezése | C20: 30000 | E20: 30000
A21: 12 | B21: Vári turizmust támogató beruházások | C21: 15000 | E21: 15000
A22: 13 | B22: Kerületi beköltözhető lakáscélú ingatlanállomány bővítése | C22: 100000 | E22: 100000
A23: 14 | B23: Mikromobilitási pontok létesítése | C23: 6000 | E23: 6000
A24: 15 | B24: Új kerületi nevezetességek, útvonal mutató táblák telepítése | C24: 3500 | E24: 3500
B25: Támogatási céltartalékok
A26: 16 | B26: Körzetes képviselői keret | C26: 10000 | E26: =10000-200-100 -> 9700
A27: 17 | B27: Közép-Budai Tankerületi Központ (közüzemi díjak, utazó gyógypedagógusok költségei)- 2019-2021 | C27: =(10654963+36313752)/1000 -> 46968.715 | E27: 46969
A28: 18 | B28: COVID és krízisalap | C28: 20000 | E28: 20000
A29: 19 | B29: Polgárőrség támogatás | C29: 3000 | E29: 3000
B30: Járókelő.hu együttműködés
A31: 20 | B31: Rendőrség támogatása (Kamera figyelés + túlóra)
A32: 20 | B32: Katasztrófavédelem támogatása | C32: 2000 | E32: 2000
B33: Támogatás a Közbiztonsági Közalapítványnak a Hónap rendőre címhez
B34: Zöldfalak kialakítására támogatás (növénnyel befuttatás, vadszőlő)
A35: 21 | B35: Optikai kábel elhelyezése után maradt hibák kijavítása
A36: 21 | B36: Kerékpárvásárlási támogatás fiataloknak | C36: 4000 | E36: 4000
A37: 22 | B37: Társasházak felújítási célú támogatási keret | C37: 100000 | E37: 100000
B38: Társadalmasítási céltartalékok
B39: Részvételi költségvetés
B40: Adventi vásár a Horváth-kertben
B41: Idősek napi program megrendezése vagy voucher
B42: Szemléletformáló utcai installációk a Horváth-kertbe
A43: 23 | B43: Kerületi kitüntetések és díjak reformja | C43: 3000 | E43: 3000
B44: Gyermeknapi játszótéri programok
B45: Kedvezményes növényvásárlási lehetőség a lakosság számára
B46: Intézményi céltartalékok
A47: 24 | B47: Óvoda, bölcsőde informatikai eszközbeszerzési keret | C47: 4500 | E47: 4500
B48: Feszty utcai hajléktalan-ellátó közterületi feladatainak támogatása
B49: Lakásügynökség létrehozása
B50: Egyéb céltartalékok
B51: Egyéb év közben felmerülő programok általános tartaléka
A52: 25 | B52: Polgármesteri tartalék | C52: 10000 | E52: 10000
B53: Turisztikai vonzerő növelő országos kampány
A54: 26 | B54: Környezetvédelmi Alap tartaléka | C54: =+'11. melléklet (KVA)'!H20 -> 19549 | E54: 19549
A55: 27 | B55: Pszichoedukáció | C55: 10000 | E55: 10000
A56: 28 | B56: Egyéb kulturális célok támogatása | C56: 60000 | E56: =60000-60000 -> 0
A57: 29 | B57: Testvértelepülési programok költségei | C57: 10000 | E57: 10000

Sheet 7. melléklet
B1: 2022. évi eredeti előirányzat | C1: változás | D1: módosított előirányzat (...)
A2: ÖNKORMÁNYZAT ÖSSZESEN | B2: =SUM(B3+B6+B14+B18+B22+B26+B10+B30) -> 569.75 | C2: =D2-B2 -> #REF! | D2: =SUM(D3+D6+D14+D18+D22+#REF!+D26+D10+D30) -> #REF!
A3: BUDAPEST I. KERÜLET BUDAVÁRI ÖNKORMÁNYZAT | B3: =B4+B5 -> 35 | D3: =D4+D5 -> 35
A4: Képviselő-testület tagjai | B4: 15 | D4: 15
A5: Nem képviselő bizottsági tagok | B5: 20 | D5: 20
A6: BUDAPEST FŐVÁROS I. KERÜLET BUDAVÁRI POLGÁRMESTERI HIVATAL | B6: =+B7+B8+B9 -> 129 | C6: =D6-B6 -> -20 | D6: =D7+D8+D9 -> 109
A7: Köztisztviselő (Kttv.) | B7: =20+105-2 -> 123 | C7: =D7-B7 -> -18 | D7: =102+3 -> 105
A8: Közalkalmazott (Kjt.) | B8: 0 | D8: 0
A9: Munkatörvénykönyve alá tartozó (Mt.) | B9: =4+2 -> 6 | D9: 4
A10: BUDAPEST I. KERÜLET BUDAVÁRI ÖNKORMÁNYZAT GAZDASÁGI MŰSZAKI ELLÁTÓ ÉS SZOLGÁLTATÓ SZERVEZET | B10: =SUM(B11:B13) -> 92.5 | D10: =SUM(D11:D13) -> 87.5
A11: Köztisztviselő (Kttv.) | B11: 0 | D11: 0
A12: Közalkalmazott (Kjt.) | B12: =5+87.5 -> 92.5 | D12: 87.5
A13: Munkatörvénykönyve alá tartozó (Mt.) | B13: 0 | D13: 0
A14: BRUNSZVIK TERÉZ BUDAVÁRI ÓVODÁK | B14: =SUM(B15:B17) -> 112.25 | D14: =SUM(D15:D17) -> 112.25
A15: Köztisztviselő (Kttv.) | B15: 0 | D15: 0
A16: Közalkalmazott (Kjt.) | B16: 112.25 | D16: 112.25
A17: Munkatörvénykönyve alá tartozó (Mt.) | B17: 0 | D17: 0
A18: BUDAPEST I. KERÜLET BUDAVÁRI ÖNKORMÁNYZAT EGYESÍTETT BÖLCSŐDE | B18: =SUM(B19:B21) -> 53 | D18: =SUM(D19:D21) -> 53
A19: Köztisztviselő (Kttv.) | B19: 0 | D19: 0
A20: Közalkalmazott (Kjt.) | B20: 53 | D20: 53
A21: Munkatörvénykönyve alá tartozó (Mt.) | B21: 0 | D21: 0
A22: BUDAPEST I. KERÜLET BUDAVÁRI ÖNKORMÁNYZAT SZOCIÁLIS ÉS GYERMEKJÓLÉTI SZOLGÁLTATÁSI KÖZPONT | B22: =SUM(B23:B25) -> 58 | D22: =SUM(D23:D25) -> 58
A23: Köztisztviselő (Kttv.) | B23: 0 | D23: 0
A24: Közalkalmazott (Kjt.) | B24: 58 | D24: 58
A25: Munkatörvénykönyve alá tartozó (Mt.) | B25: 0 | D25: 0
A26: BUDAPEST I. KERÜLET BUDAVÁRI ÖNKORMÁNYZAT EGÉSZSÉGÜGYI SZOLGÁLATA | B26: =SUM(B27:B29) -> 82 | D26: =SUM(D27:D29) -> 83
A27: Köztisztviselő (Kttv.) | B27: 0 | D27: 0
A28: Közalkalmazott (Kjt.) | B28: 0 | D28: 83
A29: Munkatörvénykönyve alá tartozó (Mt.) | B29: 82 | D29: 0
A30: CZAKÓ UTCAI SPORT- ÉS SZABADIDŐKÖZPONT | B30: =SUM(B31:B33) -> 8 | D30: =SUM(D31:D33) -> 8
A31: Köztisztviselő (Kttv.) | B31: 0 | D31: 0
A32: Közalkalmazott (Kjt.) | B32: 8 | D32: 8
A33: Munkatörvénykönyve alá tartozó (Mt.) | B33: 0 | D33: 0

Sheet 8. melléklet (Lakás tv)
A1: Kimutatás a lakások és helyiségek bérletére, valamint az elidegenítésükre vonatkozó egyes szabályokról szóló 1993. évi LXXVIII. törvény (Lakás tv.) szerint tervezett bevételekről és kiadásokról
B2: Adatok e Ft-ban
A3: Önkormányzati ingatlan értékesítésből tervezett bevételek | B3: =750000+300000-50000 -> 1000000
A4: A Lakás tv. 62. § (5) bekezdése szerinti levonások:
A5: - a társasházzá való átalakítás költsége (becsült érték) | C5: 62761
A6: - a forgalmi érték megállapítása | C6: 83820
A7: - az elidegenítés lebonyolítása | C7: 83820
A9: Országház 9. szám alatti épület | C9: 430000
A10: Lovas u. 32. - külső homlokzat és nyílászárók felújítása | C10: 70000
A11: Szilágyi Dezső tér 6. felújítása | C11: 22824
A12: Energiahatékonysági pályázat 2021 | C12: 1775
A13: Energiahatékonysági pályázat 2022 | C13: 15000
A14: A szociális és gyermekjóléti pénzbeli, természetbeni és személyes gondoskodást nyújtó ellátásokról szóló 6/2015. (II. 27.) önkormányzati rendelet 31-32. §§ alapján akadálymentesítési támogatás | C14: 5000
A15: A szociális és gyermekjóléti pénzbeli, természetbeni és személyes gondoskodást nyújtó ellátásokról szóló 6/2015. (II. 27.) önkormányzati rendelet 33-34. §§ alapján lakáshelyreállítási támogatás
A16: Fiatalházasok lakásépítési támogatása | C16: 5000
A17: Önkormányzati lakások felújítási kerete | C17: 220000
B18: Összesen | C18: =SUM(C5:C17) -> 1000000

Sheet 9. melléklet 
A1: Magyarország gazdasági stabilitásáról szóló 2011. évi CXCIV törvény 8. § (2) bekezdése szerinti adósságot keletkeztető ügyletek és a kezességvállalásokból fennálló kötelezettségek a 2022-2025. közötti időszakban
F2: Adatok e Ft-ban
A3: Sorszám | B3: Megnevezés | C3: 2022. | D3: 2023. | E3: 2024. | F3: 2025.
A4: 01 | B4: Helyi adók | C4: 2991479 | D4: 2991479 | E4: 2991479 | F4: 2991479
A5: 02 | B5: Tulajdonosi bevételek | C5: 1245000 | D5: 1245000 | E5: 1245000 | F5: 1245000
A6: 03 | B6: Díjak, pótlékok, bírságok, települési adók | D6: 0 | F6: 0
A7: 04 | B7: Immateriális javak, ingatlanok és egyéb tárgyi eszközök értékesítése | C7: 1350000 | D7: 1050000 | E7: 200000 | F7: 200000
A8: 05 | B8: Részesedések értékesítése és részesedések megszüntetéséhez kapcsolódó bevételek
A9: 06 | B9: Privatizációbol származó bevételek
A10: 07 | B10: Garancia- és kezességvállalásból származó megtérülések
A11: 08 | B11: Saját bevételek (01+…+07) | C11: =SUM(C4:C10) -> 5586479 | D11: =SUM(D4:D10) -> 5286479 | E11: =SUM(E4:E10) -> 4436479 | F11: =SUM(F4:F10) -> 4436479
A12: 09 | B12: Saját bevételek 50%-a | C12: =C11*0.5 -> 2793239.5 | D12: =D11*0.5 -> 2643239.5 | E12: =E11*0.5 -> 2218239.5 | F12: =F11*0.5 -> 2218239.5
A13: 10 | B13: Előző év(ek)ben keletkezett fizetési kötelezettség (11+…+18) | C13: =SUM(C14:C21) -> 0 | D13: =SUM(D14:D20) -> 0 | E13: =SUM(E14:E20) -> 0 | F13: =SUM(F14:F20) -> 0
A14: 11 | B14: Hitelből eredő fizetési kötelezettség
A15: 12 | B15: Kölcsönből eredő fizetési kötelezettség
A16: 13 | B16: Hitelviszonyt megtestesítő értékpapírból eredő fizetési kötelezettség
A17: 14 | B17: Adott váltóból eredő fizetési kötelezettség
A18: 15 | B18: Pénzügyi lízingből eredő fizetési kötelezettség
A19: 16 | B19: Halasztott fizetés, részletfizetés fizetési kötelezettsége
A20: 17 | B20: Szerződésben kikötött visszavásárlási kötelezettség
A21: 18 | B21: Kezesség-, és garanciavállalásból eredő fizetési kötelezettség
A22: 19 | B22: Tárgyévben keletkezett, illetve keletkező, tárgyévet terhelő fizetési kötelezettség (20+…+27) | C22: =SUM(C23:C30) -> 0 | D22: =SUM(D23:D30) -> 0 | E22: 0 | F22: 0
A23: 20 | B23: Hitelből eredő fizetési kötelezettség
A24: 21 | B24: Kölcsönből eredő fizetési kötelezettség
A25: 22 | B25: Hitelviszonyt megtestesítő értékpapírból eredő fizetési kötelezettség
A26: 23 | B26: Adott váltóból eredő fizetési kötelezettség
A27: 24 | B27: Pénzügyi lízingből eredő fizetési kötelezettség
A28: 25 | B28: Halasztott fizetés, részletfizetés fizetési kötelezettsége
A29: 26 | B29: Szerződésben kikötött visszavásárlási kötelezettség
A30: 27 | B30: Kezesség-, és garanciavállalásból eredő fizetési kötelezettség
A31: 28 | B31: Fizetési kötelezettség összesen (10+19) | C31: =C13+C22 -> 0 | D31: =D13+D22 -> 0 | E31: 0 | F31: =F13+F22 -> 0
A32: 29 | B32: Fizetési kötelezettséggel csökkentett saját bevétel (09-28) | C32: =C12-C31 -> 2793239.5 | D32: =D12-D31 -> 2643239.5 | E32: =E12-E31 -> 2218239.5 | F32: =F12-F31 -> 2218239.5

Sheet 10. melléklet (Uniós tám)
A1: Budavári Önkormányzat 2022. évi európai uniós támogatási programjai
I3: Adatok eFt-ban
A4: Program jelzőszáma, megnevezése | B4: Bevételek | E4: Kiadások
B5: Pályázati önerő | C5: Pályázaton felüli önerő | D5: Támogatás | E5: Korábbi években | F5: 2022. évben | G5: További években | H5: Összesen TSZ szerint | I5: Összesen tényleges
A6: ÁROP-3.A.2-2013-2013-044 Hivatal szervezetfejlesztése | I6: =SUM(E6:G6) -> 0
A7: EU-s Pályázatok | B7: 50000
A9: Összesen | B9: =SUM(B6:B8) -> 50000 | C9: =SUM(C6:C8) -> 0 | D9: =SUM(D6:D8) -> 0 | E9: =SUM(E6:E8) -> 0 | F9: =SUM(F6:F8) -> 0 | G9: =SUM(G6:G8) -> 0 | H9: =SUM(H6:H8) -> 0 | I9: =SUM(I6:I8) -> 0

Sheet 11. melléklet (KVA)
H1: Adatok e Ft-ban
B2: Megnevezés | C2: 2019. évi bevételi teljesítés | D2: 2019. évi kiadási teljesítés | E2: 2020. évi bevételi teljesítés | F2: 2020. évi kiadási teljesítés | G2: 2022. évi bevételi előirányzat | H2: 2022. évi kiadási előirányzat
C3: =C14+C15 -> 95569500 | D3: =D42+D43 -> 81707000 | E3: =E14+E15 -> 72569039 | F3: =F42+F43 -> 57859380 | G3: =G14+G15 -> 174743.46 | H3: =H42+H43 -> 174743.35
A4: A) | B4: BEVÉTELEK FORRÁSONKÉNT
A5: I. | B5: MŰKÖDÉSI KÖLTSÉGVETÉSI BEVÉTELEK | C5: =C6 -> 67116500 | E5: =E6 -> 58707289 | G5: =G6 -> 0
A6: 1. | B6: Működési bevételek | C6: =C7+C9+C10 -> 67116500 | E6: =E7+E9+E10+E11 -> 58707289 | G6: =G7+G9 -> 0
B7: 1.1. Tulajdonosi bevételek | C7: =SUM(C8) -> 28848000 | E7: =SUM(E8) -> 21635661 | G7: =SUM(G8) -> 0
C8: 28848000 | E8: 21635661
B9: 1.2. Kiszámlázott általános forgalmi adó | C9: 7788500 | E9: 5841628
B10: 1.3. Szolgáltatás bevétele | C10: 30480000 | E10: 30480000
E11: 750000
A12: II. | B12: FELHALMOZÁSI BEVÉTELEK | C12: 0 | E12: 0 | G12: =+G13 -> 0
B13: Önkormányzat által biztosított forrás
B14: KÖLTSÉGVETÉSI BEVÉTELEK ÖSSZESEN | C14: =C5+C12 -> 67116500 | E14: =E5+E12 -> 58707289 | G14: =G5+G12 -> 0
A15: III. | B15: FINANSZÍROZÁSI BEVÉTELEK | C15: =C16 -> 28453000 | E15: =E16 -> 13861750 | G15: =G16 -> 174743.46
A16: 1. | B16: Belföldi finanszírozás bevételei | C16: =C17 -> 28453000 | E16: =E17 -> 13861750 | G16: =G17 -> 174743.46
B17: 1.1. Maradvány igénybevétele | C17: 28453000 | E17: 13861750 | G17: 174743.46
A18: B) | B18: KIADÁSOK JOGCÍMENKÉNT ÉS FELADATONKÉNT
A19: IV. | B19: MŰKÖDÉSI KÖLTSÉGVETÉSI KIADÁSOK | D19: =D20+D22+D24 -> 27000 | F19: =F20+F22+F24 -> 2367085 | H19: =H20+H22+H24 -> 96249
A20: 1. | B20: Tartalékok | D20: =D21 -> 0 | F20: =F21 -> 0 | H20: =H21 -> 19549
B21: Környezetvédelmi Alap céltartaléka | D21: 0 | F21: 0 | H21: =174743-155194 -> 19549
A22: 2. | B22: Dologi kiadások | F22: =+F23 -> 2336800 | H22: 40200
F23: 2336800
A24: 3. | B24: Egyéb kiadás | D24: 27000 | F24: 30285 | H24: 36500
A25: V. | B25: FELHALMOZÁSI KÖLTSÉGVETÉSI KIADÁSOK | D25: =D26+D33+D36 -> 81680000 | F25: =F26+F33+F36 -> 55492295 | H25: =H26+H33+H36 -> 78494.346
A26: 1. | B26: Beruházások | D26: =D27+D28+D29+D30+D31+D32 -> 0 | F26: =F27+F28+F29+F30+F31+F32 -> 0 | H26: =H27+H28+H29+H30+H31+H32 -> 22020
H27: 22020
D28: 0 | F28: 0 | H28: 0
A33: 2. | B33: Felújítások | D33: =SUM(D34:D35) -> 81680000 | F33: =SUM(F34:F35) -> 55492295 | H33: =SUM(H34:H35) -> 19000
D34: 0 | F34: 750000 | H34: 19000
D35: 81680000 | F35: 54742295
A36: 3. | B36: Tartalékok | D36: =D40 -> 0 | F36: =F40 -> 0 | H36: =SUM(H37:H40) -> 37474.346
B37: Kertszépítési pályázat | H37: =13225-3225 -> 10000
B38: Zöldfal | H38: 10000
B39: Rendelet szerinti kötelező tartalék (10%) | H39: =+G17*0.1 -> 17474.346
D40: 0
B42: KÖLTSÉGVETÉSI KIADÁSOK ÖSSZESEN | D42: =D19+D25 -> 81707000 | F42: =F19+F25 -> 57859380 | H42: =H19+H25 -> 174743.35
A43: VI. | B43: FINANSZÍROZÁSI KIADÁSOK | D43: 0 | F43: 0 | H43: 0
